Workbook

Sheet Title
E2: "Приложение 1 к постановлению Правительства Тверской области от 11.08.2015 № 380 -пп"
E5: УТВЕРЖДАЮ
E6: Заместитель Министра демографической и семейной политики Тверской области
E7: наименование должности руководителя исполнительного органа государственной власти, осуществляющего функции и полномочия учредителя учреждения Тверской области
G8: Рапохин Михаил Геннадьевич
G9: ____________________ _________________________
G10: подпись расшифровка подписи
G11: «__» декабря 2021 г.
E12: директор
E13: наименование должности руководителя государственного учреждения Тверской области
G14: Беленышева Ольга Георгиевна
G15: ____________________ _________________________
G16: подпись расшифровка подписи
G17: «__» декабря 2021 г.
E18: главный бухгалтер
E19: наименование должности руководителя финансовой службы государственного учреждения Тверской области
G21: ____________________ _________________________
G22: подпись расшифровка подписи
G23: «__» декабря 2021 г.
A25: Государственное задание
A26: государственное бюджетное учреждение "Социально-реабилитационный центр для несовершеннолетних" Торжокского района
A27: (наименование государственного учреждения Тверской области)
A28: на 2022 год и плановый период 2023-2024 годов

Sheet Part1_1
A2: Часть I. Оказание государственной(-х) услуги (услуг) (выполнение работы (работы))
A3: 1.1. Показатели, характеризующие объём государственной услуги (работы)
A4: Уникальный номер реестровой записи общероссийских базовых (отраслевых) перечней (классификаторов) государственных и муниципальных услуг, оказываемых физическим лицам, и (или) регионального перечня (классификатора) государственных (муниципальных) услуг, не включенных в общероссийские базовые (отраслевые) перечни (классификаторы) государственных и муниципальных услуг, и работ | B4: Наименование государственной услуги (работы) | C4: Категории потребителей государственной услуги (работы) | D4: Показатели, характеризующие содержание государственной услуги (работы) | G4: Показатели, характеризующие условия оказания государственной услуги (выполнения работы) | I4: Показатель объема государственной услуги (работы) | K4: Значение показателей объема государственной услуги (работы) | Q4: Реквизиты нормативного правового или иного акта, определяющего порядок оказания государственной услуги (работы)
D5: Содержание 1 | E5: Содержание 2 | F5: Содержание 3 | G5: Условие 1 | H5: Условие 2 | K5: 2022 год (очередной финансовый год) | M5: 2023 год (1-й год планового периода) | O5: 2024 год (2-й год планового периода)
I6: Наименование | J6: Единица измерения | K6: бесплатно | L6: за плату | M6: бесплатно | N6: за плату | O6: бесплатно | P6: за плату | Q6: номер | R6: дата | S6: наименование
A7: 1 | B7: 2 | C7: 3 | D7: 4 | E7: 5 | F7: 6 | G7: 7 | H7: 8 | I7: 9 | J7: 10 | K7: 11 | L7: 12 | M7: 13 | N7: 14 | O7: 15 | P7: 16 | Q7: 17 | R7: 18 | S7: 19
A8: 280000000120003330522045001001500001006100101 | B8: Предоставление социального обслуживания в стационарной форме | C8: Гражданин при наличии ребенка или детей (в том числе находящихся под опекой, попечительством), испытывающих трудности в социальной адаптации | D8: Предоставление социального обслуживания в стационарной форме включая оказание социально-бытовых услуг,социально-медицинских услуг,социально-психологических услуг,социально-педагогических услуг,социально-трудовых услуг, социально-правовых услуг, услуг в целях повышения коммуникативного потенциала получателей социальных услуг, имеющих ограничения жизнедеятельности,в том числе детей-инвалидов | E8: Гражданин при наличии ребенка или детей (в том числе находящихся под опекой, попечительством), испытывающих трудности в социальной адаптации | G8: Очно | I8: Численность граждан, получивших социальные услуги | J8: Человек | K8: 10 | L8: 0 | M8: =K8 -> 10 | N8: 0 | O8: =K8 -> 10 | P8: 0 | Q8: 442-ФЗ | R8: 28 декабря 2013 г | S8: «Об основах социального обслуживания граждан в Российской Федерации»
A9: 280000000120003330522045001001200001003100101 | B9: Предоставление социального обслуживания в стационарной форме | C9: Гражданин при отсутствии возможности обеспечения ухода (в том числе временного) за инвалидом, ребенком, детьми, а также отсутствие попечения над ними | D9: Предоставление социального обслуживания в стационарной форме включая оказание социально-бытовых услуг,социально-медицинских услуг,социально-психологических услуг,социально-педагогических услуг,социально-трудовых услуг, социально-правовых услуг, услуг в целях повышения коммуникативного потенциала получателей социальных услуг, имеющих ограничения жизнедеятельности,в том числе детей-инвалидов | E9: Гражданин при отсутствии возможности обеспечения ухода (в том числе временного) за инвалидом, ребенком, детьми, а также отсутствие попечения над ними | G9: Очно | I9: Численность граждан, получивших социальные услуги | J9: Человек | K9: 10 | L9: 0 | M9: =K9 -> 10 | N9: 0 | O9: =K9 -> 10 | P9: 0 | Q9: 442-ФЗ | R9: 28 декабря 2013 г | S9: «Об основах социального обслуживания граждан в Российской Федерации»
A10: 280000000120003330522045001001600001004100101 | B10: Предоставление социального обслуживания в стационарной форме | C10: Гражданин при наличии внутрисемейного конфликта, в том числе с лицами с наркотической или алкогольной зависимостью, лицами, имеющими пристрастие к азартным играм, лицами, страдающими психическими расстройствами, наличие насилия в семье | D10: Предоставление социального обслуживания в стационарной форме включая оказание социально-бытовых услуг,социально-медицинских услуг,социально-психологических услуг,социально-педагогических услуг,социально-трудовых услуг, социально-правовых услуг, услуг в целях повышения коммуникативного потенциала получателей социальных услуг, имеющих ограничения жизнедеятельности,в том числе детей-инвалидов | E10: Гражданин при наличии внутрисемейного конфликта, в том числе с лицами с наркотической или алкогольной зависимостью, лицами, имеющими пристрастие к азартным играм, лицами, страдающими психическими расстройствами, наличие насилия в семье | G10: Очно | I10: Численность граждан, получивших социальные услуги | J10: Человек | K10: 6 | L10: 0 | M10: =K10 -> 6 | N10: 0 | O10: =K10 -> 6 | P10: 0 | Q10: 442-ФЗ | R10: 28 декабря 2013 г | S10: «Об основах социального обслуживания граждан в Российской Федерации»
A11: 280000000120003330522045001001700001002100101 | B11: Предоставление социального обслуживания в стационарной форме | C11: Гражданин при отсутствии работы и средств к существованию | D11: Предоставление социального обслуживания в стационарной форме включая оказание социально-бытовых услуг,социально-медицинских услуг,социально-психологических услуг,социально-педагогических услуг,социально-трудовых услуг, социально-правовых услуг, услуг в целях повышения коммуникативного потенциала получателей социальных услуг, имеющих ограничения жизнедеятельности,в том числе детей-инвалидов | E11: Гражданин при отсутствии работы и средств к существованию | G11: Очно | I11: Численность граждан, получивших социальные услуги | J11: Человек | K11: 10 | L11: 0 | M11: =K11 -> 10 | N11: 0 | O11: =K11 -> 10 | P11: 0 | Q11: 442-ФЗ | R11: 28 декабря 2013 г | S11: «Об основах социального обслуживания граждан в Российской Федерации»
A12: 280000000120003330522045001001800001000100101 | B12: Предоставление социального обслуживания в стационарной форме | C12: Гражданин при наличии иных обстоятельств, которые нормативными правовыми актами субъектов Российской Федерации признаны ухудшающими или способны ухудшить условия его жизнедеятельности | D12: Предоставление социального обслуживания в стационарной форме включая оказание социально-бытовых услуг,социально-медицинских услуг,социально-психологических услуг,социально-педагогических услуг,социально-трудовых услуг, социально-правовых услуг, услуг в целях повышения коммуникативного потенциала получателей социальных услуг, имеющих ограничения жизнедеятельности,в том числе детей-инвалидов | E12: Гражданин при наличии иных обстоятельств, которые нормативными правовыми актами субъектов Российской Федерации признаны ухудшающими или способны ухудшить условия его жизнедеятельности | G12: Очно | I12: Численность граждан, получивших социальные услуги | J12: Человек | K12: 12 | L12: 0 | M12: =K12 -> 12 | N12: 0 | O12: =K12 -> 12 | P12: 0 | Q12: 442-ФЗ | R12: 28 декабря 2013 г | S12: «Об основах социального обслуживания граждан в Российской Федерации»
A13: 22889000Р69100300002001 | B13: Социальное сопровождение граждан нуждающихся в социальном обслуживании | C13: Гражданин при наличии ребенка или детей (в том числе находящихся под опекой, попечительством), испытывающих трудности в социальной адаптации; Гражданин при наличии внутрисемейного конфликта, в том числе с лицами с наркотической или алкогольной зависимостью, лицами, имеющими пристрастие к азартным играм, лицами, страдающими психическими расстройствами, наличие насилия в семье;Гражданин при отсутствии работы и средств к существованию; Гражданин при наличии иных обстоятельств, которые нормативными правовыми актами субъектов Российской Федерации признаны ухудшающими или способны ухудшить условия его жизнедеятельности; Гражданин при наличии в семье инвалида или инвалидов, в том числе ребенка-инвалида или детей-инвалидов, нуждающихся в постоянном постороннем уходе | D13: Оказание содействия гражданам посредством межведомственного взаимодействия в получении различного вида услуг: юридических, медицинских, психологических, педагогических, а также социальной помощи, не относящейся к социальным услугам | E13: Гражданин при наличии ребенка или детей (в том числе находящихся под опекой, попечительством), испытывающих трудности в социальной адаптации; Гражданин при наличии внутрисемейного конфликта, в том числе с лицами с наркотической или алкогольной зависимостью, лицами, имеющими пристрастие к азартным играм, лицами, страдающими психическими расстройствами, наличие насилия в семье;Гражданин при отсутствии работы и средств к существованию; Гражданин при наличии иных обстоятельств, которые нормативными правовыми актами субъектов Российской Федерации признаны ухудшающими или способны ухудшить условия его жизнедеятельности; Гражданин при наличии в семье инвалида или инвалидов, в том числе ребенка-инвалида или детей-инвалидов, нуждающихся в постоянном постороннем уходе | G13: Очно | I13: Численность граждан, получивших социальные услуги | J13: Семей | K13: 21 | L13: 0 | M13: =K13 -> 21 | N13: =L13 -> 0 | O13: =K13 -> 21 | P13: =L13 -> 0 | Q13: 442-ФЗ | R13: 28 декабря 2013 г | S13: «Об основах социального обслуживания граждан в Российской Федерации»

Sheet Part1_2
A2: 1.2. Показатели, характеризующие качество государственной услуги (работы)
A3: Уникальный номер реестровой записи общероссийских базовых (отраслевых) перечней (классификаторов) государственных и муниципальных услуг, оказываемых физическим лицам, и (или) регионального перечня (классификатора) государственных (муниципальных) услуг, не включенных в общероссийские базовые (отраслевые) перечни (классификаторы) государственных и муниципальных услуг, и работ | B3: Наименование государственной услуги (работы) | C3: Показатель, характеризующий содержание государственной услуги (работы) | F3: Показатель, характеризующий условия (формы) оказания государственной услуги (выполнения работы) | H3: Показатель качества государственной услуги (работы) | J3: Значение показателя качества государственной услуги (работы) | M3: Допустимое (возможное) отклонение показателя качества государственной услуги (работы), в пределах которого государственное задание считается выполненным (%)
C4: Содержание 1 | D4: Содержание 2 | E4: Содержание 3 | F4: Условие 1 | G4: Условие 2 | H4: Наименование | I4: Единица измерения | J4: 2022 год (очередной финансовый год) | K4: 2023 год (1-й год планового периода) | L4: 2024 год (2-й год планового периода)
A5: 280000000120003330522045001001500001006100101 | B5: Предоставление социального обслуживания в стационарной форме | C5: Предоставление социального обслуживания в стационарной форме включая оказание социально-бытовых услуг,социально-медицинских услуг,социально-психологических услуг,социально-педагогических услуг,социально-трудовых услуг, социально-правовых услуг, услуг в целях повышения коммуникативного потенциала получателей социальных услуг, имеющих ограничения жизнедеятельности,в том числе детей-инвалидов | D5: Гражданин при наличии ребенка или детей (в том числе находящихся под опекой, попечительством), испытывающих трудности в социальной адаптации | F5: Очно | H5: Доля получателей социальных услуг, получающих социальные услуги от общего числа получателей социальных услуг, находящихся на социальном обслуживании в организации | I5: Процент | J5: =Part1_1!K8/(Part1_1!K8+Part1_1!K9+Part1_1!K10+Part1_1!K11+Part1_1!K12)*100 -> 20.833333 | K5: =J5 -> 20.833333 | L5: =J5 -> 20.833333 | M5: 5
A6: 280000000120003330522045001001500001006100101 | B6: Предоставление социального обслуживания в стационарной форме | C6: Предоставление социального обслуживания в стационарной форме включая оказание социально-бытовых услуг,социально-медицинских услуг,социально-психологических услуг,социально-педагогических услуг,социально-трудовых услуг, социально-правовых услуг, услуг в целях повышения коммуникативного потенциала получателей социальных услуг, имеющих ограничения жизнедеятельности,в том числе детей-инвалидов | D6: Гражданин при наличии ребенка или детей (в том числе находящихся под опекой, попечительством), испытывающих трудности в социальной адаптации | F6: Очно | H6: Количество нарушений санитарного законодательства в отчетном году, выявленных при проведении проверок | I6: Процент | J6: 0 | K6: =J6 -> 0 | L6: =J6 -> 0 | M6: 5
A7: 280000000120003330522045001001500001006100101 | B7: Предоставление социального обслуживания в стационарной форме | C7: Предоставление социального обслуживания в стационарной форме включая оказание социально-бытовых услуг,социально-медицинских услуг,социально-психологических услуг,социально-педагогических услуг,социально-трудовых услуг, социально-правовых услуг, услуг в целях повышения коммуникативного потенциала получателей социальных услуг, имеющих ограничения жизнедеятельности,в том числе детей-инвалидов | D7: Гражданин при наличии ребенка или детей (в том числе находящихся под опекой, попечительством), испытывающих трудности в социальной адаптации | F7: Очно | H7: Удовлетворенность получателей социальных услуг в оказанных социальных услугах | I7: Процент | J7: 100 | K7: 100 | L7: 100 | M7: 5
A8: 280000000120003330522045001001500001006100101 | B8: Предоставление социального обслуживания в стационарной форме | C8: Предоставление социального обслуживания в стационарной форме включая оказание социально-бытовых услуг,социально-медицинских услуг,социально-психологических услуг,социально-педагогических услуг,социально-трудовых услуг, социально-правовых услуг, услуг в целях повышения коммуникативного потенциала получателей социальных услуг, имеющих ограничения жизнедеятельности,в том числе детей-инвалидов | D8: Гражданин при наличии ребенка или детей (в том числе находящихся под опекой, попечительством), испытывающих трудности в социальной адаптации | F8: Очно | H8: Укомплектование организации специалистами, оказывающими социальные услуги | I8: Процент | J8: 100 | K8: 100 | L8: 100 | M8: 5
A9: 280000000120003330522045001001500001006100101 | B9: Предоставление социального обслуживания в стационарной форме | C9: Предоставление социального обслуживания в стационарной форме включая оказание социально-бытовых услуг,социально-медицинских услуг,социально-психологических услуг,социально-педагогических услуг,социально-трудовых услуг, социально-правовых услуг, услуг в целях повышения коммуникативного потенциала получателей социальных услуг, имеющих ограничения жизнедеятельности,в том числе детей-инвалидов | D9: Гражданин при наличии ребенка или детей (в том числе находящихся под опекой, попечительством), испытывающих трудности в социальной адаптации | F9: Очно | H9: Повышение качества социальных услуг и эффективности их оказания (определяется исходя из мероприятий, направленных на совершенствование деятельности организации при предоставлении социального обслуживания) | I9: Процент | J9: 100 | K9: 100 | L9: 100 | M9: 5
A10: 280000000120003330522045001001500001006100101 | B10: Предоставление социального обслуживания в стационарной форме | C10: Предоставление социального обслуживания в стационарной форме включая оказание социально-бытовых услуг,социально-медицинских услуг,социально-психологических услуг,социально-педагогических услуг,социально-трудовых услуг, социально-правовых услуг, услуг в целях повышения коммуникативного потенциала получателей социальных услуг, имеющих ограничения жизнедеятельности,в том числе детей-инвалидов | D10: Гражданин при наличии ребенка или детей (в том числе находящихся под опекой, попечительством), испытывающих трудности в социальной адаптации | F10: Очно | H10: Доступность получения социальных услуг в организации (возможность сопровождения получателя социальных услуг при передвижении по территории учреждения социального обслуживания, а также при пользовании услугами; возможность для самостоятельного передвижения по территории учреждения социального обслуживания, входа, выхода и перемещения внутри такой организации (в том числе для передвижения в креслах-колясках), для отдыха в сидячем положении, а также доступное размещение оборудования и носителей информации; дублирование текстовых сообщений голосовыми сообщениями, оснащение учреждения социального обслуживания знаками, выполненными рельефно-точечным шрифтом Брайля, ознакомление с их помощью с надписями, знаками и иной текстовой и графической информацией на территории учреждения; дублирование голосовой информации текстовой информацией, надписями и (или) световыми сигналами, информирование о предоставляемых социальных услугах с использованием русского жестового языка (сурдоперевода); оказание иных видов посторонней помощи | I10: Процент | J10: 0 | K10: 0 | L10: 0 | M10: 5
A11: 280000000120003330522045001001200001003100101 | B11: Предоставление социального обслуживания в стационарной форме | C11: Предоставление социального обслуживания в стационарной форме включая оказание социально-бытовых услуг,социально-медицинских услуг,социально-психологических услуг,социально-педагогических услуг,социально-трудовых услуг, социально-правовых услуг, услуг в целях повышения коммуникативного потенциала получателей социальных услуг, имеющих ограничения жизнедеятельности,в том числе детей-инвалидов | D11: Гражданин при отсутствии возможности обеспечения ухода (в том числе временного) за инвалидом, ребенком, детьми, а также отсутствие попечения над ними | F11: Очно | H11: Доля получателей социальных услуг, получающих социальные услуги от общего числа получателей социальных услуг, находящихся на социальном обслуживании в организации | I11: Процент | J11: =Part1_1!K9/(Part1_1!K8+Part1_1!K9+Part1_1!K10+Part1_1!K11+Part1_1!K12)*100 -> 20.833333 | K11: =J11 -> 20.833333 | L11: =J11 -> 20.833333 | M11: 5
A12: 280000000120003330522045001001200001003100101 | B12: Предоставление социального обслуживания в стационарной форме | C12: Предоставление социального обслуживания в стационарной форме включая оказание социально-бытовых услуг,социально-медицинских услуг,социально-психологических услуг,социально-педагогических услуг,социально-трудовых услуг, социально-правовых услуг, услуг в целях повышения коммуникативного потенциала получателей социальных услуг, имеющих ограничения жизнедеятельности,в том числе детей-инвалидов | D12: Гражданин при отсутствии возможности обеспечения ухода (в том числе временного) за инвалидом, ребенком, детьми, а также отсутствие попечения над ними | F12: Очно | H12: Количество нарушений санитарного законодательства в отчетном году, выявленных при проведении проверок | I12: Процент | J12: 0 | K12: 0 | L12: 0 | M12: 5
A13: 280000000120003330522045001001200001003100101 | B13: Предоставление социального обслуживания в стационарной форме | C13: Предоставление социального обслуживания в стационарной форме включая оказание социально-бытовых услуг,социально-медицинских услуг,социально-психологических услуг,социально-педагогических услуг,социально-трудовых услуг, социально-правовых услуг, услуг в целях повышения коммуникативного потенциала получателей социальных услуг, имеющих ограничения жизнедеятельности,в том числе детей-инвалидов | D13: Гражданин при отсутствии возможности обеспечения ухода (в том числе временного) за инвалидом, ребенком, детьми, а также отсутствие попечения над ними | F13: Очно | H13: Удовлетворенность получателей социальных услуг в оказанных социальных услугах | I13: Процент | J13: 100 | K13: =J13 -> 100 | L13: =J13 -> 100 | M13: 5
A14: 280000000120003330522045001001200001003100101 | B14: Предоставление социального обслуживания в стационарной форме | C14: Предоставление социального обслуживания в стационарной форме включая оказание социально-бытовых услуг,социально-медицинских услуг,социально-психологических услуг,социально-педагогических услуг,социально-трудовых услуг, социально-правовых услуг, услуг в целях повышения коммуникативного потенциала получателей социальных услуг, имеющих ограничения жизнедеятельности,в том числе детей-инвалидов | D14: Гражданин при отсутствии возможности обеспечения ухода (в том числе временного) за инвалидом, ребенком, детьми, а также отсутствие попечения над ними | F14: Очно | H14: Укомплектование организации специалистами, оказывающими социальные услуги | I14: Процент | J14: 0 | K14: 0 | L14: 0 | M14: 5
A15: 280000000120003330522045001001200001003100101 | B15: Предоставление социального обслуживания в стационарной форме | C15: Предоставление социального обслуживания в стационарной форме включая оказание социально-бытовых услуг,социально-медицинских услуг,социально-психологических услуг,социально-педагогических услуг,социально-трудовых услуг, социально-правовых услуг, услуг в целях повышения коммуникативного потенциала получателей социальных услуг, имеющих ограничения жизнедеятельности,в том числе детей-инвалидов | D15: Гражданин при отсутствии возможности обеспечения ухода (в том числе временного) за инвалидом, ребенком, детьми, а также отсутствие попечения над ними | F15: Очно | H15: Повышение качества социальных услуг и эффективности их оказания (определяется исходя из мероприятий, направленных на совершенствование деятельности организации при предоставлении социального обслуживания) | I15: Процент | J15: 100 | K15: 100 | L15: 100 | M15: 5
A16: 280000000120003330522045001001200001003100101 | B16: Предоставление социального обслуживания в стационарной форме | C16: Предоставление социального обслуживания в стационарной форме включая оказание социально-бытовых услуг,социально-медицинских услуг,социально-психологических услуг,социально-педагогических услуг,социально-трудовых услуг, социально-правовых услуг, услуг в целях повышения коммуникативного потенциала получателей социальных услуг, имеющих ограничения жизнедеятельности,в том числе детей-инвалидов | D16: Гражданин при отсутствии возможности обеспечения ухода (в том числе временного) за инвалидом, ребенком, детьми, а также отсутствие попечения над ними | F16: Очно | H16: Доступность получения социальных услуг в организации (возможность сопровождения получателя социальных услуг при передвижении по территории учреждения социального обслуживания, а также при пользовании услугами; возможность для самостоятельного передвижения по территории учреждения социального обслуживания, входа, выхода и перемещения внутри такой организации (в том числе для передвижения в креслах-колясках), для отдыха в сидячем положении, а также доступное размещение оборудования и носителей информации; дублирование текстовых сообщений голосовыми сообщениями, оснащение учреждения социального обслуживания знаками, выполненными рельефно-точечным шрифтом Брайля, ознакомление с их помощью с надписями, знаками и иной текстовой и графической информацией на территории учреждения; дублирование голосовой информации текстовой информацией, надписями и (или) световыми сигналами, информирование о предоставляемых социальных услугах с использованием русского жестового языка (сурдоперевода); оказание иных видов посторонней помощи | I16: Процент | J16: 100 | K16: 100 | L16: 100 | M16: 5
A17: 280000000120003330522045001001600001004100101 | B17: Предоставление социального обслуживания в стационарной форме | C17: Предоставление социального обслуживания в стационарной форме включая оказание социально-бытовых услуг,социально-медицинских услуг,социально-психологических услуг,социально-педагогических услуг,социально-трудовых услуг, социально-правовых услуг, услуг в целях повышения коммуникативного потенциала получателей социальных услуг, имеющих ограничения жизнедеятельности,в том числе детей-инвалидов | D17: Гражданин при наличии внутрисемейного конфликта, в том числе с лицами с наркотической или алкогольной зависимостью, лицами, имеющими пристрастие к азартным играм, лицами, страдающими психическими расстройствами, наличие насилия в семье | F17: Очно | H17: Доля получателей социальных услуг, получающих социальные услуги от общего числа получателей социальных услуг, находящихся на социальном обслуживании в организации | I17: Процент | J17: =Part1_1!K10/(Part1_1!K8+Part1_1!K9+Part1_1!K10+Part1_1!K11+Part1_1!K12)*100 -> 12.5 | K17: =J17 -> 12.5 | L17: =J17 -> 12.5 | M17: 5
A18: 280000000120003330522045001001600001004100101 | B18: Предоставление социального обслуживания в стационарной форме | C18: Предоставление социального обслуживания в стационарной форме включая оказание социально-бытовых услуг,социально-медицинских услуг,социально-психологических услуг,социально-педагогических услуг,социально-трудовых услуг, социально-правовых услуг, услуг в целях повышения коммуникативного потенциала получателей социальных услуг, имеющих ограничения жизнедеятельности,в том числе детей-инвалидов | D18: Гражданин при наличии внутрисемейного конфликта, в том числе с лицами с наркотической или алкогольной зависимостью, лицами, имеющими пристрастие к азартным играм, лицами, страдающими психическими расстройствами, наличие насилия в семье | F18: Очно | H18: Количество нарушений санитарного законодательства в отчетном году, выявленных при проведении проверок | I18: Процент | J18: 0 | K18: 0 | L18: 0 | M18: 5
A19: 280000000120003330522045001001600001004100101 | B19: Предоставление социального обслуживания в стационарной форме | C19: Предоставление социального обслуживания в стационарной форме включая оказание социально-бытовых услуг,социально-медицинских услуг,социально-психологических услуг,социально-педагогических услуг,социально-трудовых услуг, социально-правовых услуг, услуг в целях повышения коммуникативного потенциала получателей социальных услуг, имеющих ограничения жизнедеятельности,в том числе детей-инвалидов | D19: Гражданин при наличии внутрисемейного конфликта, в том числе с лицами с наркотической или алкогольной зависимостью, лицами, имеющими пристрастие к азартным играм, лицами, страдающими психическими расстройствами, наличие насилия в семье | F19: Очно | H19: Удовлетворенность получателей социальных услуг в оказанных социальных услугах | I19: Процент | J19: 100 | K19: 100 | L19: 100 | M19: 5
A20: 280000000120003330522045001001600001004100101 | B20: Предоставление социального обслуживания в стационарной форме | C20: Предоставление социального обслуживания в стационарной форме включая оказание социально-бытовых услуг,социально-медицинских услуг,социально-психологических услуг,социально-педагогических услуг,социально-трудовых услуг, социально-правовых услуг, услуг в целях повышения коммуникативного потенциала получателей социальных услуг, имеющих ограничения жизнедеятельности,в том числе детей-инвалидов | D20: Гражданин при наличии внутрисемейного конфликта, в том числе с лицами с наркотической или алкогольной зависимостью, лицами, имеющими пристрастие к азартным играм, лицами, страдающими психическими расстройствами, наличие насилия в семье | F20: Очно | H20: Укомплектование организации специалистами, оказывающими социальные услуги | I20: Процент | J20: 100 | K20: 100 | L20: 100 | M20: 5
A21: 280000000120003330522045001001600001004100101 | B21: Предоставление социального обслуживания в стационарной форме | C21: Предоставление социального обслуживания в стационарной форме включая оказание социально-бытовых услуг,социально-медицинских услуг,социально-психологических услуг,социально-педагогических услуг,социально-трудовых услуг, социально-правовых услуг, услуг в целях повышения коммуникативного потенциала получателей социальных услуг, имеющих ограничения жизнедеятельности,в том числе детей-инвалидов | D21: Гражданин при наличии внутрисемейного конфликта, в том числе с лицами с наркотической или алкогольной зависимостью, лицами, имеющими пристрастие к азартным играм, лицами, страдающими психическими расстройствами, наличие насилия в семье | F21: Очно | H21: Повышение качества социальных услуг и эффективности их оказания (определяется исходя из мероприятий, направленных на совершенствование деятельности организации при предоставлении социального обслуживания) | I21: Процент | J21: 100 | K21: 100 | L21: 100 | M21: 5
A22: 280000000120003330522045001301200001000100101 | B22: Предоставление социального обслуживания в стационарной форме | C22: Предоставление социального обслуживания в стационарной форме включая оказание социально-бытовых услуг,социально-медицинских услуг,социально-психологических услуг,социально-педагогических услуг,социально-трудовых услуг, социально-правовых услуг, услуг в целях повышения коммуникативного потенциала получателей социальных услуг, имеющих ограничения жизнедеятельности,в том числе детей-инвалидов | D22: Гражданин при наличии внутрисемейного конфликта, в том числе с лицами с наркотической или алкогольной зависимостью, лицами, имеющими пристрастие к азартным играм, лицами, страдающими психическими расстройствами, наличие насилия в семье | F22: Очно | H22: Доступность получения социальных услуг в организации (возможность сопровождения получателя социальных услуг при передвижении по территории учреждения социального обслуживания, а также при пользовании услугами; возможность для самостоятельного передвижения по территории учреждения социального обслуживания, входа, выхода и перемещения внутри такой организации (в том числе для передвижения в креслах-колясках), для отдыха в сидячем положении, а также доступное размещение оборудования и носителей информации; дублирование текстовых сообщений голосовыми сообщениями, оснащение учреждения социального обслуживания знаками, выполненными рельефно-точечным шрифтом Брайля, ознакомление с их помощью с надписями, знаками и иной текстовой и графической информацией на территории учреждения; дублирование голосовой информации текстовой информацией, надписями и (или) световыми сигналами, информирование о предоставляемых социальных услугах с использованием русского жестового языка (сурдоперевода); оказание иных видов посторонней помощи | I22: Процент | J22: 0 | K22: 0 | L22: 0 | M22: 5
A23: 280000000120003330522045001001700001002100101 | B23: Предоставление социального обслуживания в стационарной форме | C23: Предоставление социального обслуживания в стационарной форме включая оказание социально-бытовых услуг,социально-медицинских услуг,социально-психологических услуг,социально-педагогических услуг,социально-трудовых услуг, социально-правовых услуг, услуг в целях повышения коммуникативного потенциала получателей социальных услуг, имеющих ограничения жизнедеятельности,в том числе детей-инвалидов | D23: Гражданин при отсутствии работы и средств к существованию | F23: Очно | H23: Доля получателей социальных услуг, получающих социальные услуги от общего числа получателей социальных услуг, находящихся на социальном обслуживании в организации | I23: Процент | J23: =Part1_1!K11/(Part1_1!K8+Part1_1!K9+Part1_1!K10+Part1_1!K11+Part1_1!K12)*100 -> 20.833333 | K23: =J23 -> 20.833333 | L23: =J23 -> 20.833333 | M23: 5
A24: 280000000120003330522045001001700001002100101 | B24: Предоставление социального обслуживания в стационарной форме | C24: Предоставление социального обслуживания в стационарной форме включая оказание социально-бытовых услуг,социально-медицинских услуг,социально-психологических услуг,социально-педагогических услуг,социально-трудовых услуг, социально-правовых услуг, услуг в целях повышения коммуникативного потенциала получателей социальных услуг, имеющих ограничения жизнедеятельности,в том числе детей-инвалидов | D24: Гражданин при отсутствии работы и средств к существованию | F24: Очно | H24: Количество нарушений санитарного законодательства в отчетном году, выявленных при проведении проверок | I24: Процент | J24: 0 | K24: 0 | L24: 0 | M24: 5
A25: 280000000120003330522045001001700001002100101 | B25: Предоставление социального обслуживания в стационарной форме | C25: Предоставление социального обслуживания в стационарной форме включая оказание социально-бытовых услуг,социально-медицинских услуг,социально-психологических услуг,социально-педагогических услуг,социально-трудовых услуг, социально-правовых услуг, услуг в целях повышения коммуникативного потенциала получателей социальных услуг, имеющих ограничения жизнедеятельности,в том числе детей-инвалидов | D25: Гражданин при отсутствии работы и средств к существованию | F25: Очно | H25: Удовлетворенность получателей социальных услуг в оказанных социальных услугах | I25: Процент | J25: 100 | K25: 100 | L25: 100 | M25: 5
A26: 280000000120003330522045001001700001002100101 | B26: Предоставление социального обслуживания в стационарной форме | C26: Предоставление социального обслуживания в стационарной форме включая оказание социально-бытовых услуг,социально-медицинских услуг,социально-психологических услуг,социально-педагогических услуг,социально-трудовых услуг, социально-правовых услуг, услуг в целях повышения коммуникативного потенциала получателей социальных услуг, имеющих ограничения жизнедеятельности,в том числе детей-инвалидов | D26: Гражданин при отсутствии работы и средств к существованию | F26: Очно | H26: Укомплектование организации специалистами, оказывающими социальные услуги | I26: Процент | J26: 100 | K26: 100 | L26: 100 | M26: 5
A27: 280000000120003330522045001001700001002100101 | B27: Предоставление социального обслуживания в стационарной форме | C27: Предоставление социального обслуживания в стационарной форме включая оказание социально-бытовых услуг,социально-медицинских услуг,социально-психологических услуг,социально-педагогических услуг,социально-трудовых услуг, социально-правовых услуг, услуг в целях повышения коммуникативного потенциала получателей социальных услуг, имеющих ограничения жизнедеятельности,в том числе детей-инвалидов | D27: Гражданин при отсутствии работы и средств к существованию | F27: Очно | H27: Повышение качества социальных услуг и эффективности их оказания (определяется исходя из мероприятий, направленных на совершенствование деятельности организации при предоставлении социального обслуживания) | I27: Процент | J27: 100 | K27: 100 | L27: 100 | M27: 5
A28: 280000000120003330522045001001700001002100101 | B28: Предоставление социального обслуживания в стационарной форме | C28: Предоставление социального обслуживания в стационарной форме включая оказание социально-бытовых услуг,социально-медицинских услуг,социально-психологических услуг,социально-педагогических услуг,социально-трудовых услуг, социально-правовых услуг, услуг в целях повышения коммуникативного потенциала получателей социальных услуг, имеющих ограничения жизнедеятельности,в том числе детей-инвалидов | D28: Гражданин при отсутствии работы и средств к существованию | F28: Очно | H28: Доступность получения социальных услуг в организации (возможность сопровождения получателя социальных услуг при передвижении по территории учреждения социального обслуживания, а также при пользовании услугами; возможность для самостоятельного передвижения по территории учреждения социального обслуживания, входа, выхода и перемещения внутри такой организации (в том числе для передвижения в креслах-колясках), для отдыха в сидячем положении, а также доступное размещение оборудования и носителей информации; дублирование текстовых сообщений голосовыми сообщениями, оснащение учреждения социального обслуживания знаками, выполненными рельефно-точечным шрифтом Брайля, ознакомление с их помощью с надписями, знаками и иной текстовой и графической информацией на территории учреждения; дублирование голосовой информации текстовой информацией, надписями и (или) световыми сигналами, информирование о предоставляемых социальных услугах с использованием русского жестового языка (сурдоперевода); оказание иных видов посторонней помощи | I28: Процент | J28: 0 | K28: 0 | L28: 0 | M28: 5
A29: 280000000120003330522045001001800001000100101 | B29: Предоставление социального обслуживания в стационарной форме | C29: Предоставление социального обслуживания в стационарной форме включая оказание социально-бытовых услуг,социально-медицинских услуг,социально-психологических услуг,социально-педагогических услуг,социально-трудовых услуг, социально-правовых услуг, услуг в целях повышения коммуникативного потенциала получателей социальных услуг, имеющих ограничения жизнедеятельности,в том числе детей-инвалидов | D29: Гражданин при наличии иных обстоятельств, которые нормативными правовыми актами субъектов Российской Федерации признаны ухудшающими или способны ухудшить условия его жизнедеятельности | F29: Очно | H29: Доля получателей социальных услуг, получающих социальные услуги от общего числа получателей социальных услуг, находящихся на социальном обслуживании в организации | I29: Процент | J29: =Part1_1!K12/(Part1_1!K8+Part1_1!K9+Part1_1!K10+Part1_1!K11+Part1_1!K12)*100 -> 25 | K29: =J29 -> 25 | L29: =J29 -> 25 | M29: 5
A30: 280000000120003330522045001001800001000100101 | B30: Предоставление социального обслуживания в стационарной форме | C30: Предоставление социального обслуживания в стационарной форме включая оказание социально-бытовых услуг,социально-медицинских услуг,социально-психологических услуг,социально-педагогических услуг,социально-трудовых услуг, социально-правовых услуг, услуг в целях повышения коммуникативного потенциала получателей социальных услуг, имеющих ограничения жизнедеятельности,в том числе детей-инвалидов | D30: Гражданин при наличии иных обстоятельств, которые нормативными правовыми актами субъектов Российской Федерации признаны ухудшающими или способны ухудшить условия его жизнедеятельности | F30: Очно | H30: Количество нарушений санитарного законодательства в отчетном году, выявленных при проведении проверок | I30: Процент | J30: 0 | K30: 0 | L30: 0 | M30: 5
A31: 280000000120003330522045001001800001000100101 | B31: Предоставление социального обслуживания в стационарной форме | C31: Предоставление социального обслуживания в стационарной форме включая оказание социально-бытовых услуг,социально-медицинских услуг,социально-психологических услуг,социально-педагогических услуг,социально-трудовых услуг, социально-правовых услуг, услуг в целях повышения коммуникативного потенциала получателей социальных услуг, имеющих ограничения жизнедеятельности,в том числе детей-инвалидов | D31: Гражданин при наличии иных обстоятельств, которые нормативными правовыми актами субъектов Российской Федерации признаны ухудшающими или способны ухудшить условия его жизнедеятельности | F31: Очно | H31: Удовлетворенность получателей социальных услуг в оказанных социальных услугах | I31: Процент | J31: 100 | K31: 100 | L31: 100 | M31: 5
A32: 280000000120003330522045001001800001000100101 | B32: Предоставление социального обслуживания в стационарной форме | C32: Предоставление социального обслуживания в стационарной форме включая оказание социально-бытовых услуг,социально-медицинских услуг,социально-психологических услуг,социально-педагогических услуг,социально-трудовых услуг, социально-правовых услуг, услуг в целях повышения коммуникативного потенциала получателей социальных услуг, имеющих ограничения жизнедеятельности,в том числе детей-инвалидов | D32: Гражданин при наличии иных обстоятельств, которые нормативными правовыми актами субъектов Российской Федерации признаны ухудшающими или способны ухудшить условия его жизнедеятельности | F32: Очно | H32: Укомплектование организации специалистами, оказывающими социальные услуги | I32: Процент | J32: 100 | K32: 100 | L32: 100 | M32: 5
A33: 280000000120003330522045001001800001000100101 | B33: Предоставление социального обслуживания в стационарной форме | C33: Предоставление социального обслуживания в стационарной форме включая оказание социально-бытовых услуг,социально-медицинских услуг,социально-психологических услуг,социально-педагогических услуг,социально-трудовых услуг, социально-правовых услуг, услуг в целях повышения коммуникативного потенциала получателей социальных услуг, имеющих ограничения жизнедеятельности,в том числе детей-инвалидов | D33: Гражданин при наличии иных обстоятельств, которые нормативными правовыми актами субъектов Российской Федерации признаны ухудшающими или способны ухудшить условия его жизнедеятельности | F33: Очно | H33: Повышение качества социальных услуг и эффективности их оказания (определяется исходя из мероприятий, направленных на совершенствование деятельности организации при предоставлении социального обслуживания) | I33: Процент | J33: 100 | K33: 100 | L33: 100 | M33: 5
A34: 280000000120003330522045001001800001000100101 | B34: Предоставление социального обслуживания в стационарной форме | C34: Предоставление социального обслуживания в стационарной форме включая оказание социально-бытовых услуг,социально-медицинских услуг,социально-психологических услуг,социально-педагогических услуг,социально-трудовых услуг, социально-правовых услуг, услуг в целях повышения коммуникативного потенциала получателей социальных услуг, имеющих ограничения жизнедеятельности,в том числе детей-инвалидов | D34: Гражданин при наличии иных обстоятельств, которые нормативными правовыми актами субъектов Российской Федерации признаны ухудшающими или способны ухудшить условия его жизнедеятельности | F34: Очно | H34: Доступность получения социальных услуг в организации (возможность сопровождения получателя социальных услуг при передвижении по территории учреждения социального обслуживания, а также при пользовании услугами; возможность для самостоятельного передвижения по территории учреждения социального обслуживания, входа, выхода и перемещения внутри такой организации (в том числе для передвижения в креслах-колясках), для отдыха в сидячем положении, а также доступное размещение оборудования и носителей информации; дублирование текстовых сообщений голосовыми сообщениями, оснащение учреждения социального обслуживания знаками, выполненными рельефно-точечным шрифтом Брайля, ознакомление с их помощью с надписями, знаками и иной текстовой и графической информацией на территории учреждения; дублирование голосовой информации текстовой информацией, надписями и (или) световыми сигналами, информирование о предоставляемых социальных услугах с использованием русского жестового языка (сурдоперевода); оказание иных видов посторонней помощи | I34: Процент | J34: 0 | K34: 0 | L34: 0 | M34: 5
A35: 22889000Р69100300002001 | B35: Социальное сопровождение граждан нуждающихся в социальном обслуживании | C35: Оказание содействия гражданам посредством межведомственного взаимодействия в получении различного вида услуг: юридических, медицинских, психологических, педагогических, а также социальной помощи, не относящейся к социальным услугам | D35: Гражданин при наличии ребенка или детей (в том числе находящихся под опекой, попечительством), испытывающих трудности в социальной адаптации; Гражданин при наличии внутрисемейного конфликта, в том числе с лицами с наркотической или алкогольной зависимостью, лицами, имеющими пристрастие к азартным играм, лицами, страдающими психическими расстройствами, наличие насилия в семье;Гражданин при отсутствии работы и средств к существованию; Гражданин при наличии иных обстоятельств, которые нормативными правовыми актами субъектов Российской Федерации признаны ухудшающими или способны ухудшить условия его жизнедеятельности; Гражданин при наличии в семье инвалида или инвалидов, в том числе ребенка-инвалида или детей-инвалидов, нуждающихся в постоянном постороннем уходе | F35: Очно | H35: Доля получателей социальных услуг, получающих социальные услуги от общего числа получателей социальных услуг, находящихся на социальном обслуживании в организации | I35: Процент | J35: =Part1_1!K13/63*100 -> 33.333333 | K35: =J35 -> 33.333333 | L35: =J35 -> 33.333333 | M35: 5
A36: 22889000Р69100300002001 | B36: Социальное сопровождение граждан нуждающихся в социальном обслуживании | C36: Оказание содействия гражданам посредством межведомственного взаимодействия в получении различного вида услуг: юридических, медицинских, психологических, педагогических, а также социальной помощи, не относящейся к социальным услугам | D36: Гражданин при наличии ребенка или детей (в том числе находящихся под опекой, попечительством), испытывающих трудности в социальной адаптации; Гражданин при наличии внутрисемейного конфликта, в том числе с лицами с наркотической или алкогольной зависимостью, лицами, имеющими пристрастие к азартным играм, лицами, страдающими психическими расстройствами, наличие насилия в семье;Гражданин при отсутствии работы и средств к существованию; Гражданин при наличии иных обстоятельств, которые нормативными правовыми актами субъектов Российской Федерации признаны ухудшающими или способны ухудшить условия его жизнедеятельности; Гражданин при наличии в семье инвалида или инвалидов, в том числе ребенка-инвалида или детей-инвалидов, нуждающихся в постоянном постороннем уходе | F36: Очно | H36: Количество нарушений санитарного законодательства в отчетном году, выявленных при проведении проверок | I36: Процент | J36: 0 | K36: 0 | L36: 0 | M36: 5
A37: 22889000Р69100300002001 | B37: Социальное сопровождение граждан нуждающихся в социальном обслуживании | C37: Оказание содействия гражданам посредством межведомственного взаимодействия в получении различного вида услуг: юридических, медицинских, психологических, педагогических, а также социальной помощи, не относящейся к социальным услугам | D37: Гражданин при наличии ребенка или детей (в том числе находящихся под опекой, попечительством), испытывающих трудности в социальной адаптации; Гражданин при наличии внутрисемейного конфликта, в том числе с лицами с наркотической или алкогольной зависимостью, лицами, имеющими пристрастие к азартным играм, лицами, страдающими психическими расстройствами, наличие насилия в семье;Гражданин при отсутствии работы и средств к существованию; Гражданин при наличии иных обстоятельств, которые нормативными правовыми актами субъектов Российской Федерации признаны ухудшающими или способны ухудшить условия его жизнедеятельности; Гражданин при наличии в семье инвалида или инвалидов, в том числе ребенка-инвалида или детей-инвалидов, нуждающихся в постоянном постороннем уходе | F37: Очно | H37: Удовлетворенность получателей социальных услуг в оказанных социальных услугах | I37: Процент | J37: 100 | K37: 100 | L37: 100 | M37: 5
A38: 22889000Р69100300002001 | B38: Социальное сопровождение граждан нуждающихся в социальном обслуживании | C38: Оказание содействия гражданам посредством межведомственного взаимодействия в получении различного вида услуг: юридических, медицинских, психологических, педагогических, а также социальной помощи, не относящейся к социальным услугам | D38: Гражданин при наличии ребенка или детей (в том числе находящихся под опекой, попечительством), испытывающих трудности в социальной адаптации; Гражданин при наличии внутрисемейного конфликта, в том числе с лицами с наркотической или алкогольной зависимостью, лицами, имеющими пристрастие к азартным играм, лицами, страдающими психическими расстройствами, наличие насилия в семье;Гражданин при отсутствии работы и средств к существованию; Гражданин при наличии иных обстоятельств, которые нормативными правовыми актами субъектов Российской Федерации признаны ухудшающими или способны ухудшить условия его жизнедеятельности; Гражданин при наличии в семье инвалида или инвалидов, в том числе ребенка-инвалида или детей-инвалидов, нуждающихся в постоянном постороннем уходе | F38: Очно | H38: Укомплектование организации специалистами, оказывающими социальные услуги | I38: Процент | J38: 100 | K38: 100 | L38: 100 | M38: 5
A39: 22889000Р69100300002001 | B39: Социальное сопровождение граждан нуждающихся в социальном обслуживании | C39: Оказание содействия гражданам посредством межведомственного взаимодействия в получении различного вида услуг: юридических, медицинских, психологических, педагогических, а также социальной помощи, не относящейся к социальным услугам | D39: Гражданин при наличии ребенка или детей (в том числе находящихся под опекой, попечительством), испытывающих трудности в социальной адаптации; Гражданин при наличии внутрисемейного конфликта, в том числе с лицами с наркотической или алкогольной зависимостью, лицами, имеющими пристрастие к азартным играм, лицами, страдающими психическими расстройствами, наличие насилия в семье;Гражданин при отсутствии работы и средств к существованию; Гражданин при наличии иных обстоятельств, которые нормативными правовыми актами субъектов Российской Федерации признаны ухудшающими или способны ухудшить условия его жизнедеятельности; Гражданин при наличии в семье инвалида или инвалидов, в том числе ребенка-инвалида или детей-инвалидов, нуждающихся в постоянном постороннем уходе | F39: Очно | H39: Повышение качества социальных услуг и эффективности их оказания (определяется исходя из мероприятий, направленных на совершенствование деятельности организации при предоставлении социального обслуживания) | I39: Процент | J39: 100 | K39: 100 | L39: 100 | M39: 5
A40: 22889000Р69100300002001 | B40: Социальное сопровождение граждан нуждающихся в социальном обслуживании | C40: Оказание содействия гражданам посредством межведомственного взаимодействия в получении различного вида услуг: юридических, медицинских, психологических, педагогических, а также социальной помощи, не относящейся к социальным услугам | D40: Гражданин при наличии ребенка или детей (в том числе находящихся под опекой, попечительством), испытывающих трудности в социальной адаптации; Гражданин при наличии внутрисемейного конфликта, в том числе с лицами с наркотической или алкогольной зависимостью, лицами, имеющими пристрастие к азартным играм, лицами, страдающими психическими расстройствами, наличие насилия в семье;Гражданин при отсутствии работы и средств к существованию; Гражданин при наличии иных обстоятельств, которые нормативными правовыми актами субъектов Российской Федерации признаны ухудшающими или способны ухудшить условия его жизнедеятельности; Гражданин при наличии в семье инвалида или инвалидов, в том числе ребенка-инвалида или детей-инвалидов, нуждающихся в постоянном постороннем уходе | F40: Очно | H40: Доступность получения социальных услуг в организации (возможность сопровождения получателя социальных услуг при передвижении по территории учреждения социального обслуживания, а также при пользовании услугами; возможность для самостоятельного передвижения по территории учреждения социального обслуживания, входа, выхода и перемещения внутри такой организации (в том числе для передвижения в креслах-колясках), для отдыха в сидячем положении, а также доступное размещение оборудования и носителей информации; дублирование текстовых сообщений голосовыми сообщениями, оснащение учреждения социального обслуживания знаками, выполненными рельефно-точечным шрифтом Брайля, ознакомление с их помощью с надписями, знаками и иной текстовой и графической информацией на территории учреждения; дублирование голосовой информации текстовой информацией, надписями и (или) световыми сигналами, информирование о предоставляемых социальных услугах с использованием русского жестового языка (сурдоперевода); оказание иных видов посторонней помощи | I40: Процент | J40: 0 | K40: 0 | L40: 0 | M40: 5

Sheet Part2
A2: Часть II. Финансовое обеспечение выполнения государственного задания
A3: № п/п | B3: Наименование параметра расчёта объёма субсидии | C3: Единица измерения | D3: Значение параметров расчёта объёма субсидии | G3: Формула расчета параметра
D4: очередной финансовый (N+1) год | E4: первый (N+2) год планового периода | F4: второй (N+3) год планового периода
A5: 1 | B5: 2 | C5: 3 | D5: 4 | E5: 5 | F5: 6 | G5: 7
A6: 1 | B6: Затраты на оказание услуг (выполнение работ), всего | C6: руб. | D6: =D9+D20+D31+D42+D53+D64 -> 10605044 | E6: =D6 -> 10605044 | F6: =D6 -> 10605044 | G6: 1 = 1.3 + 2.3 + 3.3 + 4.3+5.3+6.3+7.3+8.3 +9.3+10.3+11.3+12.3 +13.3+14.3+15.3+ 16.3+17.3+18.3+19.3+20.3+21.3+22.3+ 23.3+24.3+25.3+26.3+27.3+28.3+29.3+ 30.3
A7: 1.1 | B7: 280000000120003330522045001001500001006100101
A8: 1.2 | B8: Предоставление социального обслуживания в стационарной форме
A9: 1.3. | B9: Затраты на оказание услуги (выполнение работы) | C9: руб. | D9: =D10*D15-D16*D17 -> 1803847.5 | E9: =D9 -> 1803847.5 | F9: =D9 -> 1803847.5 | G9: 1.3 = 1.3.1 x 1.3.2 - 1.3.4 x 1.3.3
A10: 1.3.1 | B10: Нормативные затраты на оказание единицы услуги (выполнение работы) | C10: руб. | D10: =ROUND((D11*(D12/100*D13/100*D14/100)),2) -> 180384.75 | E10: =ROUND((E11*(E12/100*E13/100*E14/100)),2) -> 180384.75 | F10: =ROUND((F11*(F12/100*F13/100*F14/100)),2) -> 180384.75 | G10: 1.3.1 = 1.3.1.1 x 1.3.1.2 x 1.3.1.3 x 1.3.1.4
A11: 1.3.1.1 | B11: Базовый норматив затрат на оказание услуги (выполнение работы) | C11: руб. | D11: 185997.56 | E11: =D11 -> 185997.56 | F11: =D11 -> 185997.56
A12: 1.3.1.2 | B12: Отраслевой корректирующий коэффициент | C12: % | D12: 100 | E12: =D12 -> 100 | F12: =D12 -> 100
A13: 1.3.1.3 | B13: Территориальный корректирующий коэффициент | C13: % | D13: 94.560884 | E13: =D13 -> 94.560884 | F13: =D13 -> 94.560884
A14: 1.3.1.4 | B14: Прочий корректирующий коэффициент | C14: % | D14: 102.56072 | E14: =D14 -> 102.56072 | F14: =D14 -> 102.56072
A15: 1.3.2 | B15: Объем государственной услуги (работы), оказываемой в пределах государственного задания | C15: Человек | D15: =Part1_1!K8 -> 10 | E15: =D15 -> 10 | F15: =D15 -> 10
A16: 1.3.3 | B16: Среднегодовой размер платы за оказание государственной услуги, оказываемой за плату в рамках государственного задания | C16: руб. | D16: 0 | E16: =D16 -> 0 | F16: =E16 -> 0
A17: 1.3.4 | B17: Объем государственной услуги, оказываемой за плату в рамках государственного задания | C17: Человек | D17: =Part1_1!L8 -> 0 | E17: =D17 -> 0 | F17: =D17 -> 0
A18: 2.1 | B18: 280000000120003330522045001001200001003100101
A19: 2.2 | B19: Предоставление социального обслуживания в стационарной форме
A20: 2.3. | B20: Затраты на оказание услуги (выполнение работы) | C20: руб. | D20: =D21*D26-D27*D28 -> 1803847.5 | E20: =D20 -> 1803847.5 | F20: =D20 -> 1803847.5 | G20: 2.3 = 2.3.1 x 2.3.2 - 2.3.4 x 2.3.3
A21: 2.3.1 | B21: Нормативные затраты на оказание единицы услуги (выполнение работы) | C21: руб. | D21: =ROUND((D22*(D23/100*D24/100*D25/100)),2) -> 180384.75 | E21: =ROUND((E22*(E23/100*E24/100*E25/100)),2) -> 180384.75 | F21: =ROUND((F22*(F23/100*F24/100*F25/100)),2) -> 180384.75 | G21: 2.3.1 = 2.3.1.1 x 2.3.1.2 x 2.3.1.3 x 2.3.1.4
A22: 2.3.1.1 | B22: Базовый норматив затрат на оказание услуги (выполнение работы) | C22: руб. | D22: =D11 -> 185997.56 | E22: =D22 -> 185997.56 | F22: =E22 -> 185997.56
A23: 2.3.1.2 | B23: Отраслевой корректирующий коэффициент | C23: % | D23: 100 | E23: =D23 -> 100 | F23: =D23 -> 100
A24: 2.3.1.3 | B24: Территориальный корректирующий коэффициент | C24: % | D24: =D13 -> 94.560884 | E24: =D24 -> 94.560884 | F24: =D24 -> 94.560884
A25: 2.3.1.4 | B25: Прочий корректирующий коэффициент | C25: % | D25: =D14 -> 102.56072 | E25: =D25 -> 102.56072 | F25: =D25 -> 102.56072
A26: 2.3.2 | B26: Объем государственной услуги (работы), оказываемой в пределах государственного задания | C26: Человек | D26: =Part1_1!K9 -> 10 | E26: =D26 -> 10 | F26: =D26 -> 10
A27: 2.3.3 | B27: Среднегодовой размер платы за оказание государственной услуги, оказываемой за плату в рамках государственного задания | C27: руб. | D27: 0 | E27: 0 | F27: 0
A28: 2.3.4 | B28: Объем государственной услуги, оказываемой за плату в рамках государственного задания | C28: Человек | D28: =Part1_1!L9 -> 0 | E28: =D28 -> 0 | F28: =D28 -> 0
A29: 3.1 | B29: 280000000120003330522045001001600001004100101
A30: 3.2 | B30: Предоставление социального обслуживания в стационарной форме
A31: 3.3. | B31: Затраты на оказание услуги (выполнение работы) | C31: руб. | D31: =D32*D37-D38*D39 -> 1082308.5 | E31: =D31 -> 1082308.5 | F31: =D31 -> 1082308.5 | G31: 3.3 = 3.3.1 x 3.3.2 - 3.3.4 x 3.3.3
A32: 3.3.1 | B32: Нормативные затраты на оказание единицы услуги (выполнение работы) | C32: руб. | D32: =ROUND((D33*(D34/100*D35/100*D36/100)),2) -> 180384.75 | E32: =ROUND((E33*(E34/100*E35/100*E36/100)),2) -> 180384.75 | F32: =ROUND((F33*(F34/100*F35/100*F36/100)),2) -> 180384.75 | G32: 3.3.1 = 3.3.1.1 x 3.3.1.2 x 3.3.1.3 x 3.3.1.4
A33: 3.3.1.1 | B33: Базовый норматив затрат на оказание услуги (выполнение работы) | C33: руб. | D33: =D11 -> 185997.56 | E33: =D33 -> 185997.56 | F33: =D33 -> 185997.56
A34: 3.3.1.2 | B34: Отраслевой корректирующий коэффициент | C34: % | D34: 100 | E34: =D34 -> 100 | F34: =D34 -> 100
A35: 3.3.1.3 | B35: Территориальный корректирующий коэффициент | C35: % | D35: =D13 -> 94.560884 | E35: =D35 -> 94.560884 | F35: =D35 -> 94.560884
A36: 3.3.1.4 | B36: Прочий корректирующий коэффициент | C36: % | D36: =D14 -> 102.56072 | E36: =D36 -> 102.56072 | F36: =D36 -> 102.56072
A37: 3.3.2 | B37: Объем государственной услуги (работы), оказываемой в пределах государственного задания | C37: Человек | D37: =Part1_1!K10 -> 6 | E37: =D37 -> 6 | F37: =D37 -> 6
A38: 3.3.3 | B38: Среднегодовой размер платы за оказание государственной услуги, оказываемой за плату в рамках государственного задания | C38: руб. | D38: 0 | E38: =D38 -> 0 | F38: =D38 -> 0
A39: 3.3.4 | B39: Объем государственной услуги, оказываемой за плату в рамках государственного задания | C39: Человек | D39: =Part1_1!L10 -> 0 | E39: =D39 -> 0 | F39: =D39 -> 0
A40: 4.1 | B40: 280000000120003330522045001001700001002100101
A41: 4.2 | B41: Предоставление социального обслуживания в стационарной форме
A42: 4.3. | B42: Затраты на оказание услуги (выполнение работы) | C42: руб. | D42: =D43*D48-D49*D50 -> 1803847.5 | E42: =D42 -> 1803847.5 | F42: =D42 -> 1803847.5 | G42: 4.3 = 4.3.1 x 4.3.2 - 4.3.4 x 4.3.3
A43: 4.3.1 | B43: Нормативные затраты на оказание единицы услуги (выполнение работы) | C43: руб. | D43: =ROUND((D44*(D45/100*D46/100*D47/100)),2) -> 180384.75 | E43: =ROUND((E44*(E45/100*E46/100*E47/100)),2) -> 180384.75 | F43: =ROUND((F44*(F45/100*F46/100*F47/100)),2) -> 180384.75 | G43: 4.3.1 = 4.3.1.1 x 4.3.1.2 x 4.3.1.3 x 4.3.1.4
A44: 4.3.1.1 | B44: Базовый норматив затрат на оказание услуги (выполнение работы) | C44: руб. | D44: =D11 -> 185997.56 | E44: =D44 -> 185997.56 | F44: =D44 -> 185997.56
A45: 4.3.1.2 | B45: Отраслевой корректирующий коэффициент | C45: % | D45: 100 | E45: =D45 -> 100 | F45: =D45 -> 100
A46: 4.3.1.3 | B46: Территориальный корректирующий коэффициент | C46: % | D46: =D13 -> 94.560884 | E46: =D46 -> 94.560884 | F46: =D46 -> 94.560884
A47: 4.3.1.4 | B47: Прочий корректирующий коэффициент | C47: % | D47: =D14 -> 102.56072 | E47: =D47 -> 102.56072 | F47: =D47 -> 102.56072
A48: 4.3.2 | B48: Объем государственной услуги (работы), оказываемой в пределах государственного задания | C48: Человек | D48: =Part1_1!K11 -> 10 | E48: =D48 -> 10 | F48: =D48 -> 10
A49: 4.3.3 | B49: Среднегодовой размер платы за оказание государственной услуги, оказываемой за плату в рамках государственного задания | C49: руб. | D49: 0 | E49: =D49 -> 0 | F49: =D49 -> 0
A50: 4.3.4 | B50: Объем государственной услуги, оказываемой за плату в рамках государственного задания | C50: Человек | D50: =Part1_1!L11 -> 0 | E50: =D50 -> 0 | F50: =D50 -> 0
A51: 5.1 | B51: 280000000120003330522045001001800001000100101
A52: 5.2 | B52: Предоставление социального обслуживания в стационарной форме
A53: 5.3. | B53: Затраты на оказание услуги (выполнение работы) | C53: руб. | D53: =D54*D59-D60*D61 -> 2164617 | E53: =D53 -> 2164617 | F53: =D53 -> 2164617 | G53: 5.3 = 5.3.1 x 5.3.2 - 5.3.4 x 5.3.3
A54: 5.3.1 | B54: Нормативные затраты на оказание единицы услуги (выполнение работы) | C54: руб. | D54: =ROUND((D55*(D56/100*D57/100*D58/100)),2) -> 180384.75 | E54: =ROUND((E55*(E56/100*E57/100*E58/100)),2) -> 180384.75 | F54: =ROUND((F55*(F56/100*F57/100*F58/100)),2) -> 180384.75 | G54: 5.3.1 = 5.3.1.1 x 5.3.1.2 x 5.3.1.3 x 5.3.1.4
A55: 5.3.1.1 | B55: Базовый норматив затрат на оказание услуги (выполнение работы) | C55: руб. | D55: =D11 -> 185997.56 | E55: =D55 -> 185997.56 | F55: =D55 -> 185997.56
A56: 5.3.1.2 | B56: Отраслевой корректирующий коэффициент | C56: % | D56: 100 | E56: =D56 -> 100 | F56: =D56 -> 100
A57: 5.3.1.3 | B57: Территориальный корректирующий коэффициент | C57: % | D57: =D13 -> 94.560884 | E57: =D57 -> 94.560884 | F57: =D57 -> 94.560884
A58: 5.3.1.4 | B58: Прочий корректирующий коэффициент | C58: % | D58: =D14 -> 102.56072 | E58: =D58 -> 102.56072 | F58: =D58 -> 102.56072
A59: 5.3.2 | B59: Объем государственной услуги (работы), оказываемой в пределах государственного задания | C59: Человек | D59: =Part1_1!K12 -> 12 | E59: =D59 -> 12 | F59: =D59 -> 12
A60: 5.3.3 | B60: Среднегодовой размер платы за оказание государственной услуги, оказываемой за плату в рамках государственного задания | C60: руб. | D60: 0 | E60: =D60 -> 0 | F60: =D60 -> 0
A61: 5.3.4 | B61: Объем государственной услуги, оказываемой за плату в рамках государственного задания | C61: Человек | D61: =Part1_1!L12 -> 0 | E61: =D61 -> 0 | F61: =D61 -> 0
A62: 6.1. | B62: 22889000Р69100300002001
A63: 6.2. | B63: Предоставление социального обслуживания в стационарной форме
A64: 6.3. | B64: Затраты на оказание услуги (выполнение работы) | C64: руб. | D64: =D65*D70-D71*D72 -> 1946576.1 | E64: =D64 -> 1946576.1 | F64: =D64 -> 1946576.1 | G64: 6.3 = 6.3.1 x 6.3.2 - 6.3.4 x 6.3.3
A65: 6.3.1. | B65: Нормативные затраты на оказание единицы услуги (выполнение работы) | C65: руб. | D65: =ROUND((D66*(D67/100*D68/100*D69/100)),2) -> 92694.1 | E65: =ROUND((E66*(E67/100*E68/100*E69/100)),2) -> 92694.1 | F65: =ROUND((F66*(F67/100*F68/100*F69/100)),2) -> 92694.1 | G65: 6.3.1 = 6.3.1.1 x 6.3.1.2 x 6.3.1.3 x 6.3.1.4
A66: 6.3.1.1. | B66: Базовый норматив затрат на оказание услуги (выполнение работы) | C66: руб. | D66: 23769.23 | E66: =D66 -> 23769.23 | F66: =D66 -> 23769.23
A67: 6.3.1.2. | B67: Отраслевой корректирующий коэффициент | C67: % | D67: 100 | E67: =D67 -> 100 | F67: =D67 -> 100
A68: 6.3.1.3. | B68: Территориальный корректирующий коэффициент | C68: % | D68: 414.21281 | E68: =D68 -> 414.21281 | F68: =D68 -> 414.21281
A69: 6.3.1.4.. | B69: Прочий корректирующий коэффициент | C69: % | D69: 94.148511 | E69: =D69 -> 94.148511 | F69: =D69 -> 94.148511
A70: 6.3.2. | B70: Объем государственной услуги (работы), оказываемой в пределах государственного задания | C70: Человек | D70: =Part1_1!K13 -> 21 | E70: =D70 -> 21 | F70: =D70 -> 21
A71: 6.3.3. | B71: Среднегодовой размер платы за оказание государственной услуги, оказываемой за плату в рамках государственного задания | C71: руб. | D71: 0 | E71: =D71 -> 0 | F71: =D71 -> 0
A72: 6.3.4. | B72: Объем государственной услуги, оказываемой за плату в рамках государственного задания | C72: Человек | D72: =Part1_1!L23 -> 0 | E72: =D72 -> 0 | F72: =D72 -> 0
A73: 2 | B73: Затраты на содержание имущества, не включенные в нормативные затраты на оказание единицы услуги (выполнение работы) | C73: руб. | D73: 1145989.4 | E73: =D73 -> 1145989.4 | F73: =D73 -> 1145989.4
A74: 3 | B74: Коэффициент стабилизации бюджетной нагрузки | C74: % | D74: 100 | E74: 100 | F74: 100
A75: 4 | B75: Объем субсидии на выполнение государственного задания | C75: руб. | D75: =D73+D6 -> 11751033 | E75: =E73+E6 -> 11751033 | F75: =F73+F6 -> 11751033 | G75: 4 = (1 + 2) x 3

Sheet Part3
A2: Часть III. Порядок осуществления контроля за выполнением государственного задания
A4: 1. Периодичность и вид контроля за выполнением государственного задания:
A5: № п/п | B5: Вид контрольного мероприятия | C5: Периодичность проведения контроля
A6: 1 | B6: Выездная проверка | C6: Не реже 1 раза в 3 года
A7: 2 | B7: Камеральная проверка | C7: Ежеквартально
A9: 2. Иные требования к отчетности об исполнении государственного задания:
A10: 1 | B10: - предоставление пояснительной записки к отчету об исполнении государственного задания;
A11: 2 | B11: - представление информации о состоянии кредиторской задолженности, в том числе просроченной.
A13: 3. Иная информация, необходимая для исполнения государственного задания (контроля за исполнением государственного задания):
A14: 1 | B14: по мере необходимости может быть запрошена необходимая для контроля информация.
A16: Часть IV. Условия и порядок досрочного прекращения исполнения государственного задания
A18: № п/п | B18: Условия досрочного прекращения исполнения государственного задания | C18: Порядок досрочного прекращения исполнения государственного задания
A19: 1 | B19: ликвидация поставщика государственных услуг;
A20: 2 | B20: реорганизация поставщика государственных услуг;
A21: 3 | B21: иные основания, предусмотренные нормативными правовыми актами Российской Федерации и Тверской области
