Workbook

Sheet Title
E2: "Приложение 1 к постановлению Правительства Тверской области от 11.08.2015 № 380 -пп"
E5: УТВЕРЖДАЮ
E6: Министр семейной и демографической политики Тверской области
E7: наименование должности руководителя исполнительного органа государственной власти, осуществляющего функции и полномочия учредителя учреждения Тверской области
G8: Буданцева Анна Николаевна
G9: ____________________ _________________________
G10: подпись расшифровка подписи
G11: «19» декабря 2024 г.
E12: директор
E13: наименование должности руководителя государственного учреждения Тверской области
G14: Беленышева Ольга Георгиевна
G15: ____________________ _________________________
G16: подпись расшифровка подписи
G17: «19» декабря 2024 г.
E18: главный бухгалтер
E19: наименование должности руководителя финансовой службы государственного учреждения Тверской области
G21: ____________________ _________________________
G22: подпись расшифровка подписи
A25: Государственное задание
A26: государственное бюджетное учреждение "Социально-реабилитационный центр для несовершеннолетних" Торжокского района
A27: (наименование государственного учреждения Тверской области)
A28: на 2024 год и плановый период 2025-2026 годов

Sheet Part1_1
A2: Часть I. Оказание государственной(-х) услуги (услуг) (выполнение работы (работы))
A3: 1.1. Показатели, характеризующие объём государственной услуги (работы)
A4: Уникальный номер реестровой записи общероссийских базовых (отраслевых) перечней (классификаторов) государственных и муниципальных услуг, оказываемых физическим лицам, и (или) регионального перечня (классификатора) государственных (муниципальных) услуг, не включенных в общероссийские базовые (отраслевые) перечни (классификаторы) государственных и муниципальных услуг, и работ | B4: Наименование государственной услуги (работы) | C4: Категории потребителей государственной услуги (работы) | D4: Показатели, характеризующие содержание государственной услуги (работы) | G4: Показатели, характеризующие условия оказания государственной услуги (выполнения работы) | I4: Показатель объема государственной услуги (работы) | K4: Значение показателей объема государственной услуги (работы) | Q4: Реквизиты нормативного правового или иного акта, определяющего порядок оказания государственной услуги (работы)
D5: Содержание 1 | E5: Содержание 2 | F5: Содержание 3 | G5: Условие 1 | H5: Условие 2 | K5: очередной финансовый год | M5: 1-й год планового периода | O5: 2-й год планового периода
I6: Наименование | J6: Единица измерения | K6: бесплатно | L6: за плату | M6: бесплатно | N6: за плату | O6: бесплатно | P6: за плату | Q6: номер | R6: дата | S6: наименование
A7: 1 | B7: 2 | C7: 3 | D7: 4 | E7: 5 | F7: 6 | G7: 7 | H7: 8 | I7: 9 | J7: 10 | K7: 11 | L7: 12 | M7: 13 | N7: 14 | O7: 15 | P7: 16 | Q7: 17 | R7: 18 | S7: 19
A8: 870000О.99.0.АЭ24АА02000 | B8: Предоставление социального обслуживания в стационарной форме | C8: Гражданин при отсутствии возможности обеспечения ухода (в том числе временного) за инвалидом, ребенком, детьми, а также отсутствие попечения над ними | D8: Предоставление социального обслуживания в стационарной форме включая оказание социально-бытовых услуг,социально-медицинских услуг,социально-психологических услуг,социально-педагогических услуг,социально-трудовых услуг, социально-правовых услуг, услуг в целях повышения коммуникативного потенциала получателей социальных услуг, имеющих ограничения жизнедеятельности,в том числе детей-инвалидов | E8: Гражданин при отсутствии возможности обеспечения ухода (в том числе временного) за инвалидом, ребенком, детьми, а также отсутствие попечения над ними | G8: Очно | I8: Численность граждан, получивших социальные услуги | J8: Человек | K8: 10 | L8: 0 | M8: 10 | N8: 0 | O8: 10 | P8: 0 | Q8: 442-ФЗ | R8: 28 декабря 2013 г | S8: «Об основах социального обслуживания граждан в Российской Федерации» | T8: =K8+K9+K10+K11+K12 -> 48
A9: 870000О.99.0.АЭ24АА05000 | B9: Предоставление социального обслуживания в стационарной форме | C9: Гражданин при наличии ребенка или детей (в том числе находящихся под опекой, попечительством), испытывающих трудности в социальной адаптации | D9: Предоставление социального обслуживания в стационарной форме включая оказание социально-бытовых услуг,социально-медицинских услуг,социально-психологических услуг,социально-педагогических услуг,социально-трудовых услуг, социально-правовых услуг, услуг в целях повышения коммуникативного потенциала получателей социальных услуг, имеющих ограничения жизнедеятельности,в том числе детей-инвалидов | E9: Гражданин при наличии ребенка или детей (в том числе находящихся под опекой, попечительством), испытывающих трудности в социальной адаптации | G9: Очно | I9: Численность граждан, получивших социальные услуги | J9: Человек | K9: 10 | L9: 0 | M9: 10 | N9: 0 | O9: 10 | P9: 0 | Q9: 442-ФЗ | R9: 28 декабря 2013 г | S9: «Об основах социального обслуживания граждан в Российской Федерации»
A10: 870000О.99.0.АЭ24АА06000 | B10: Предоставление социального обслуживания в стационарной форме | C10: Гражданин при наличии внутрисемейного конфликта, в том числе с лицами с наркотической или алкогольной зависимостью, лицами, имеющими пристрастие к азартным играм, лицами, страдающими психическими расстройствами, наличие насилия в семье | D10: Предоставление социального обслуживания в стационарной форме включая оказание социально-бытовых услуг,социально-медицинских услуг,социально-психологических услуг,социально-педагогических услуг,социально-трудовых услуг, социально-правовых услуг, услуг в целях повышения коммуникативного потенциала получателей социальных услуг, имеющих ограничения жизнедеятельности,в том числе детей-инвалидов | E10: Гражданин при наличии внутрисемейного конфликта, в том числе с лицами с наркотической или алкогольной зависимостью, лицами, имеющими пристрастие к азартным играм, лицами, страдающими психическими расстройствами, наличие насилия в семье | G10: Очно | I10: Численность граждан, получивших социальные услуги | J10: Человек | K10: 6 | L10: 0 | M10: =K10 -> 6 | N10: 0 | O10: =K10 -> 6 | P10: 0 | Q10: 442-ФЗ | R10: 28 декабря 2013 г | S10: «Об основах социального обслуживания граждан в Российской Федерации»
A11: 870000О.99.0.АЭ24АА07000 | B11: Предоставление социального обслуживания в стационарной форме | C11: Гражданин при отсутствии работы и средств к существованию | D11: Предоставление социального обслуживания в стационарной форме включая оказание социально-бытовых услуг,социально-медицинских услуг,социально-психологических услуг,социально-педагогических услуг,социально-трудовых услуг, социально-правовых услуг, услуг в целях повышения коммуникативного потенциала получателей социальных услуг, имеющих ограничения жизнедеятельности,в том числе детей-инвалидов | E11: Гражданин при отсутствии работы и средств к существованию | G11: Очно | I11: Численность граждан, получивших социальные услуги | J11: Человек | K11: 10 | L11: 0 | M11: =K11 -> 10 | N11: 0 | O11: =K11 -> 10 | P11: 0 | Q11: 442-ФЗ | R11: 28 декабря 2013 г | S11: «Об основах социального обслуживания граждан в Российской Федерации»
A12: 870000О.99.0.АЭ24АА08000 | B12: Предоставление социального обслуживания в стационарной форме | C12: Гражданин при наличии иных обстоятельств, которые нормативными правовыми актами субъектов Российской Федерации признаны ухудшающими или способны ухудшить условия его жизнедеятельности | D12: Предоставление социального обслуживания в стационарной форме включая оказание социально-бытовых услуг,социально-медицинских услуг,социально-психологических услуг,социально-педагогических услуг,социально-трудовых услуг, социально-правовых услуг, услуг в целях повышения коммуникативного потенциала получателей социальных услуг, имеющих ограничения жизнедеятельности,в том числе детей-инвалидов | E12: Гражданин при наличии иных обстоятельств, которые нормативными правовыми актами субъектов Российской Федерации признаны ухудшающими или способны ухудшить условия его жизнедеятельности | G12: Очно | I12: Численность граждан, получивших социальные услуги | J12: Человек | K12: 12 | L12: 0 | M12: =K12 -> 12 | N12: 0 | O12: =K12 -> 12 | P12: 0 | Q12: 442-ФЗ | R12: 28 декабря 2013 г | S12: «Об основах социального обслуживания граждан в Российской Федерации»

Sheet Part1_2
A2: 1.2. Показатели, характеризующие качество государственной услуги (работы)
A3: Уникальный номер реестровой записи общероссийских базовых (отраслевых) перечней (классификаторов) государственных и муниципальных услуг, оказываемых физическим лицам, и (или) регионального перечня (классификатора) государственных (муниципальных) услуг, не включенных в общероссийские базовые (отраслевые) перечни (классификаторы) государственных и муниципальных услуг, и работ | B3: Наименование государственной услуги (работы) | C3: Показатель, характеризующий содержание государственной услуги (работы) | F3: Показатель, характеризующий условия (формы) оказания государственной услуги (выполнения работы) | H3: Показатель качества государственной услуги (работы) | J3: Значение показателя качества государственной услуги (работы) | M3: Допустимое (возможное) отклонение показателя качества государственной услуги (работы), в пределах которого государственное задание считается выполненным (%)
C4: Содержание 1 | D4: Содержание 2 | E4: Содержание 3 | F4: Условие 1 | G4: Условие 2 | H4: Наименование | I4: Единица измерения | J4: очередной финансовый год | K4: 1-й год планового периода | L4: 2-й год планового периода
A5: 870000О.99.0.АЭ24АА02000 | B5: Предоставление социального обслуживания в стационарной форме | C5: Предоставление социального обслуживания в стационарной форме включая оказание социально-бытовых услуг,социально-медицинских услуг,социально-психологических услуг,социально-педагогических услуг,социально-трудовых услуг, социально-правовых услуг, услуг в целях повышения коммуникативного потенциала получателей социальных услуг, имеющих ограничения жизнедеятельности,в том числе детей-инвалидов | D5: Гражданин при отсутствии возможности обеспечения ухода (в том числе временного) за инвалидом, ребенком, детьми, а также отсутствие попечения над ними | F5: Очно | H5: Доля получателей социальных услуг, получающих социальные услуги от общего числа получателей социальных услуг, находящихся на социальном обслуживании в организации | I5: Процент | J5: =Part1_1!K8/(Part1_1!K8+Part1_1!K9+Part1_1!K10+Part1_1!K11+Part1_1!K12)*100 -> 20.833333 | K5: =J5 -> 20.833333 | L5: =J5 -> 20.833333 | M5: 5
A6: 870000О.99.0.АЭ24АА02000 | B6: Предоставление социального обслуживания в стационарной форме | C6: Предоставление социального обслуживания в стационарной форме включая оказание социально-бытовых услуг,социально-медицинских услуг,социально-психологических услуг,социально-педагогических услуг,социально-трудовых услуг, социально-правовых услуг, услуг в целях повышения коммуникативного потенциала получателей социальных услуг, имеющих ограничения жизнедеятельности,в том числе детей-инвалидов | D6: Гражданин при отсутствии возможности обеспечения ухода (в том числе временного) за инвалидом, ребенком, детьми, а также отсутствие попечения над ними | F6: Очно | H6: Количество нарушений санитарного законодательства в отчетном году, выявленных при проведении проверок | I6: Процент | J6: 0 | K6: =J6 -> 0 | L6: =J6 -> 0 | M6: 5
A7: 870000О.99.0.АЭ24АА02000 | B7: Предоставление социального обслуживания в стационарной форме | C7: Предоставление социального обслуживания в стационарной форме включая оказание социально-бытовых услуг,социально-медицинских услуг,социально-психологических услуг,социально-педагогических услуг,социально-трудовых услуг, социально-правовых услуг, услуг в целях повышения коммуникативного потенциала получателей социальных услуг, имеющих ограничения жизнедеятельности,в том числе детей-инвалидов | D7: Гражданин при отсутствии возможности обеспечения ухода (в том числе временного) за инвалидом, ребенком, детьми, а также отсутствие попечения над ними | F7: Очно | H7: Удовлетворенность получателей социальных услуг в оказанных социальных услугах | I7: Процент | J7: 100 | K7: 100 | L7: 100 | M7: 5
A8: 870000О.99.0.АЭ24АА02000 | B8: Предоставление социального обслуживания в стационарной форме | C8: Предоставление социального обслуживания в стационарной форме включая оказание социально-бытовых услуг,социально-медицинских услуг,социально-психологических услуг,социально-педагогических услуг,социально-трудовых услуг, социально-правовых услуг, услуг в целях повышения коммуникативного потенциала получателей социальных услуг, имеющих ограничения жизнедеятельности,в том числе детей-инвалидов | D8: Гражданин при отсутствии возможности обеспечения ухода (в том числе временного) за инвалидом, ребенком, детьми, а также отсутствие попечения над ними | F8: Очно | H8: Укомплектование организации специалистами, оказывающими социальные услуги | I8: Процент | J8: 100 | K8: 100 | L8: 100 | M8: 5
A9: 870000О.99.0.АЭ24АА02000 | B9: Предоставление социального обслуживания в стационарной форме | C9: Предоставление социального обслуживания в стационарной форме включая оказание социально-бытовых услуг,социально-медицинских услуг,социально-психологических услуг,социально-педагогических услуг,социально-трудовых услуг, социально-правовых услуг, услуг в целях повышения коммуникативного потенциала получателей социальных услуг, имеющих ограничения жизнедеятельности,в том числе детей-инвалидов | D9: Гражданин при отсутствии возможности обеспечения ухода (в том числе временного) за инвалидом, ребенком, детьми, а также отсутствие попечения над ними | F9: Очно | H9: Повышение качества социальных услуг и эффективности их оказания (определяется исходя из мероприятий, направленных на совершенствование деятельности организации при предоставлении социального обслуживания) | I9: Процент | J9: 100 | K9: 100 | L9: 100 | M9: 5
A10: 870000О.99.0.АЭ24АА02000 | B10: Предоставление социального обслуживания в стационарной форме | C10: Предоставление социального обслуживания в стационарной форме включая оказание социально-бытовых услуг,социально-медицинских услуг,социально-психологических услуг,социально-педагогических услуг,социально-трудовых услуг, социально-правовых услуг, услуг в целях повышения коммуникативного потенциала получателей социальных услуг, имеющих ограничения жизнедеятельности,в том числе детей-инвалидов | D10: Гражданин при отсутствии возможности обеспечения ухода (в том числе временного) за инвалидом, ребенком, детьми, а также отсутствие попечения над ними | F10: Очно | H10: Доступность получения социальных услуг в организации (возможность сопровождения получателя социальных услуг при передвижении по территории учреждения социального обслуживания, а также при пользовании услугами; возможность для самостоятельного передвижения по территории учреждения социального обслуживания, входа, выхода и перемещения внутри такой организации (в том числе для передвижения в креслах-колясках), для отдыха в сидячем положении, а также доступное размещение оборудования и носителей информации; дублирование текстовых сообщений голосовыми сообщениями, оснащение учреждения социального обслуживания знаками, выполненными рельефно-точечным шрифтом Брайля, ознакомление с их помощью с надписями, знаками и иной текстовой и графической информацией на территории учреждения; дублирование голосовой информации текстовой информацией, надписями и (или) световыми сигналами, информирование о предоставляемых социальных услугах с использованием русского жестового языка (сурдоперевода); оказание иных видов посторонней помощи | I10: Процент | J10: 100 | K10: 100 | L10: 100 | M10: 5
A11: 870000О.99.0.АЭ24АА05000 | B11: Предоставление социального обслуживания в стационарной форме | C11: Предоставление социального обслуживания в стационарной форме включая оказание социально-бытовых услуг,социально-медицинских услуг,социально-психологических услуг,социально-педагогических услуг,социально-трудовых услуг, социально-правовых услуг, услуг в целях повышения коммуникативного потенциала получателей социальных услуг, имеющих ограничения жизнедеятельности,в том числе детей-инвалидов | D11: Гражданин при наличии ребенка или детей (в том числе находящихся под опекой, попечительством), испытывающих трудности в социальной адаптации | F11: Очно | H11: Доля получателей социальных услуг, получающих социальные услуги от общего числа получателей социальных услуг, находящихся на социальном обслуживании в организации | I11: Процент | J11: =Part1_1!K9/(Part1_1!K8+Part1_1!K9+Part1_1!K10+Part1_1!K11+Part1_1!K12)*100 -> 20.833333 | K11: =J11 -> 20.833333 | L11: =J11 -> 20.833333 | M11: 5
A12: 870000О.99.0.АЭ24АА05000 | B12: Предоставление социального обслуживания в стационарной форме | C12: Предоставление социального обслуживания в стационарной форме включая оказание социально-бытовых услуг,социально-медицинских услуг,социально-психологических услуг,социально-педагогических услуг,социально-трудовых услуг, социально-правовых услуг, услуг в целях повышения коммуникативного потенциала получателей социальных услуг, имеющих ограничения жизнедеятельности,в том числе детей-инвалидов | D12: Гражданин при наличии ребенка или детей (в том числе находящихся под опекой, попечительством), испытывающих трудности в социальной адаптации | F12: Очно | H12: Количество нарушений санитарного законодательства в отчетном году, выявленных при проведении проверок | I12: Процент | J12: 0 | K12: 0 | L12: 0 | M12: 5
A13: 870000О.99.0.АЭ24АА05000 | B13: Предоставление социального обслуживания в стационарной форме | C13: Предоставление социального обслуживания в стационарной форме включая оказание социально-бытовых услуг,социально-медицинских услуг,социально-психологических услуг,социально-педагогических услуг,социально-трудовых услуг, социально-правовых услуг, услуг в целях повышения коммуникативного потенциала получателей социальных услуг, имеющих ограничения жизнедеятельности,в том числе детей-инвалидов | D13: Гражданин при наличии ребенка или детей (в том числе находящихся под опекой, попечительством), испытывающих трудности в социальной адаптации | F13: Очно | H13: Удовлетворенность получателей социальных услуг в оказанных социальных услугах | I13: Процент | J13: 100 | K13: =J13 -> 100 | L13: =J13 -> 100 | M13: 5
A14: 870000О.99.0.АЭ24АА05000 | B14: Предоставление социального обслуживания в стационарной форме | C14: Предоставление социального обслуживания в стационарной форме включая оказание социально-бытовых услуг,социально-медицинских услуг,социально-психологических услуг,социально-педагогических услуг,социально-трудовых услуг, социально-правовых услуг, услуг в целях повышения коммуникативного потенциала получателей социальных услуг, имеющих ограничения жизнедеятельности,в том числе детей-инвалидов | D14: Гражданин при наличии ребенка или детей (в том числе находящихся под опекой, попечительством), испытывающих трудности в социальной адаптации | F14: Очно | H14: Укомплектование организации специалистами, оказывающими социальные услуги | I14: Процент | J14: 100 | K14: 100 | L14: 100 | M14: 5
A15: 870000О.99.0.АЭ24АА05000 | B15: Предоставление социального обслуживания в стационарной форме | C15: Предоставление социального обслуживания в стационарной форме включая оказание социально-бытовых услуг,социально-медицинских услуг,социально-психологических услуг,социально-педагогических услуг,социально-трудовых услуг, социально-правовых услуг, услуг в целях повышения коммуникативного потенциала получателей социальных услуг, имеющих ограничения жизнедеятельности,в том числе детей-инвалидов | D15: Гражданин при наличии ребенка или детей (в том числе находящихся под опекой, попечительством), испытывающих трудности в социальной адаптации | F15: Очно | H15: Повышение качества социальных услуг и эффективности их оказания (определяется исходя из мероприятий, направленных на совершенствование деятельности организации при предоставлении социального обслуживания) | I15: Процент | J15: 100 | K15: 100 | L15: 100 | M15: 5
A16: 870000О.99.0.АЭ24АА05000 | B16: Предоставление социального обслуживания в стационарной форме | C16: Предоставление социального обслуживания в стационарной форме включая оказание социально-бытовых услуг,социально-медицинских услуг,социально-психологических услуг,социально-педагогических услуг,социально-трудовых услуг, социально-правовых услуг, услуг в целях повышения коммуникативного потенциала получателей социальных услуг, имеющих ограничения жизнедеятельности,в том числе детей-инвалидов | D16: Гражданин при наличии ребенка или детей (в том числе находящихся под опекой, попечительством), испытывающих трудности в социальной адаптации | F16: Очно | H16: Доступность получения социальных услуг в организации (возможность сопровождения получателя социальных услуг при передвижении по территории учреждения социального обслуживания, а также при пользовании услугами; возможность для самостоятельного передвижения по территории учреждения социального обслуживания, входа, выхода и перемещения внутри такой организации (в том числе для передвижения в креслах-колясках), для отдыха в сидячем положении, а также доступное размещение оборудования и носителей информации; дублирование текстовых сообщений голосовыми сообщениями, оснащение учреждения социального обслуживания знаками, выполненными рельефно-точечным шрифтом Брайля, ознакомление с их помощью с надписями, знаками и иной текстовой и графической информацией на территории учреждения; дублирование голосовой информации текстовой информацией, надписями и (или) световыми сигналами, информирование о предоставляемых социальных услугах с использованием русского жестового языка (сурдоперевода); оказание иных видов посторонней помощи | I16: Процент | J16: 100 | K16: 100 | L16: 100 | M16: 5
A17: 870000О.99.0.АЭ24АА06000 | B17: Предоставление социального обслуживания в стационарной форме | C17: Предоставление социального обслуживания в стационарной форме включая оказание социально-бытовых услуг,социально-медицинских услуг,социально-психологических услуг,социально-педагогических услуг,социально-трудовых услуг, социально-правовых услуг, услуг в целях повышения коммуникативного потенциала получателей социальных услуг, имеющих ограничения жизнедеятельности,в том числе детей-инвалидов | D17: Гражданин при наличии внутрисемейного конфликта, в том числе с лицами с наркотической или алкогольной зависимостью, лицами, имеющими пристрастие к азартным играм, лицами, страдающими психическими расстройствами, наличие насилия в семье | F17: Очно | H17: Доля получателей социальных услуг, получающих социальные услуги от общего числа получателей социальных услуг, находящихся на социальном обслуживании в организации | I17: Процент | J17: =Part1_1!K10/(Part1_1!K8+Part1_1!K9+Part1_1!K10+Part1_1!K11+Part1_1!K12)*100 -> 12.5 | K17: =J17 -> 12.5 | L17: =J17 -> 12.5 | M17: 5
A18: 870000О.99.0.АЭ24АА06000 | B18: Предоставление социального обслуживания в стационарной форме | C18: Предоставление социального обслуживания в стационарной форме включая оказание социально-бытовых услуг,социально-медицинских услуг,социально-психологических услуг,социально-педагогических услуг,социально-трудовых услуг, социально-правовых услуг, услуг в целях повышения коммуникативного потенциала получателей социальных услуг, имеющих ограничения жизнедеятельности,в том числе детей-инвалидов | D18: Гражданин при наличии внутрисемейного конфликта, в том числе с лицами с наркотической или алкогольной зависимостью, лицами, имеющими пристрастие к азартным играм, лицами, страдающими психическими расстройствами, наличие насилия в семье | F18: Очно | H18: Количество нарушений санитарного законодательства в отчетном году, выявленных при проведении проверок | I18: Процент | J18: 0 | K18: 0 | L18: 0 | M18: 5
A19: 870000О.99.0.АЭ24АА06000 | B19: Предоставление социального обслуживания в стационарной форме | C19: Предоставление социального обслуживания в стационарной форме включая оказание социально-бытовых услуг,социально-медицинских услуг,социально-психологических услуг,социально-педагогических услуг,социально-трудовых услуг, социально-правовых услуг, услуг в целях повышения коммуникативного потенциала получателей социальных услуг, имеющих ограничения жизнедеятельности,в том числе детей-инвалидов | D19: Гражданин при наличии внутрисемейного конфликта, в том числе с лицами с наркотической или алкогольной зависимостью, лицами, имеющими пристрастие к азартным играм, лицами, страдающими психическими расстройствами, наличие насилия в семье | F19: Очно | H19: Удовлетворенность получателей социальных услуг в оказанных социальных услугах | I19: Процент | J19: 100 | K19: 100 | L19: 100 | M19: 5
A20: 870000О.99.0.АЭ24АА06000 | B20: Предоставление социального обслуживания в стационарной форме | C20: Предоставление социального обслуживания в стационарной форме включая оказание социально-бытовых услуг,социально-медицинских услуг,социально-психологических услуг,социально-педагогических услуг,социально-трудовых услуг, социально-правовых услуг, услуг в целях повышения коммуникативного потенциала получателей социальных услуг, имеющих ограничения жизнедеятельности,в том числе детей-инвалидов | D20: Гражданин при наличии внутрисемейного конфликта, в том числе с лицами с наркотической или алкогольной зависимостью, лицами, имеющими пристрастие к азартным играм, лицами, страдающими психическими расстройствами, наличие насилия в семье | F20: Очно | H20: Укомплектование организации специалистами, оказывающими социальные услуги | I20: Процент | J20: 100 | K20: 100 | L20: 100 | M20: 5
A21: 870000О.99.0.АЭ24АА06000 | B21: Предоставление социального обслуживания в стационарной форме | C21: Предоставление социального обслуживания в стационарной форме включая оказание социально-бытовых услуг,социально-медицинских услуг,социально-психологических услуг,социально-педагогических услуг,социально-трудовых услуг, социально-правовых услуг, услуг в целях повышения коммуникативного потенциала получателей социальных услуг, имеющих ограничения жизнедеятельности,в том числе детей-инвалидов | D21: Гражданин при наличии внутрисемейного конфликта, в том числе с лицами с наркотической или алкогольной зависимостью, лицами, имеющими пристрастие к азартным играм, лицами, страдающими психическими расстройствами, наличие насилия в семье | F21: Очно | H21: Повышение качества социальных услуг и эффективности их оказания (определяется исходя из мероприятий, направленных на совершенствование деятельности организации при предоставлении социального обслуживания) | I21: Процент | J21: 100 | K21: 100 | L21: 100 | M21: 5
A22: 870000О.99.0.АЭ24АА06000 | B22: Предоставление социального обслуживания в стационарной форме | C22: Предоставление социального обслуживания в стационарной форме включая оказание социально-бытовых услуг,социально-медицинских услуг,социально-психологических услуг,социально-педагогических услуг,социально-трудовых услуг, социально-правовых услуг, услуг в целях повышения коммуникативного потенциала получателей социальных услуг, имеющих ограничения жизнедеятельности,в том числе детей-инвалидов | D22: Гражданин при наличии внутрисемейного конфликта, в том числе с лицами с наркотической или алкогольной зависимостью, лицами, имеющими пристрастие к азартным играм, лицами, страдающими психическими расстройствами, наличие насилия в семье | F22: Очно | H22: Доступность получения социальных услуг в организации (возможность сопровождения получателя социальных услуг при передвижении по территории учреждения социального обслуживания, а также при пользовании услугами; возможность для самостоятельного передвижения по территории учреждения социального обслуживания, входа, выхода и перемещения внутри такой организации (в том числе для передвижения в креслах-колясках), для отдыха в сидячем положении, а также доступное размещение оборудования и носителей информации; дублирование текстовых сообщений голосовыми сообщениями, оснащение учреждения социального обслуживания знаками, выполненными рельефно-точечным шрифтом Брайля, ознакомление с их помощью с надписями, знаками и иной текстовой и графической информацией на территории учреждения; дублирование голосовой информации текстовой информацией, надписями и (или) световыми сигналами, информирование о предоставляемых социальных услугах с использованием русского жестового языка (сурдоперевода); оказание иных видов посторонней помощи | I22: Процент | J22: 100 | K22: 100 | L22: 100 | M22: 5
A23: 870000О.99.0.АЭ24АА07000 | B23: Предоставление социального обслуживания в стационарной форме | C23: Предоставление социального обслуживания в стационарной форме включая оказание социально-бытовых услуг,социально-медицинских услуг,социально-психологических услуг,социально-педагогических услуг,социально-трудовых услуг, социально-правовых услуг, услуг в целях повышения коммуникативного потенциала получателей социальных услуг, имеющих ограничения жизнедеятельности,в том числе детей-инвалидов | D23: Гражданин при отсутствии работы и средств к существованию | F23: Очно | H23: Доля получателей социальных услуг, получающих социальные услуги от общего числа получателей социальных услуг, находящихся на социальном обслуживании в организации | I23: Процент | J23: =Part1_1!K11/(Part1_1!K8+Part1_1!K9+Part1_1!K10+Part1_1!K11+Part1_1!K12)*100 -> 20.833333 | K23: =J23 -> 20.833333 | L23: =J23 -> 20.833333 | M23: 5
A24: 870000О.99.0.АЭ24АА07000 | B24: Предоставление социального обслуживания в стационарной форме | C24: Предоставление социального обслуживания в стационарной форме включая оказание социально-бытовых услуг,социально-медицинских услуг,социально-психологических услуг,социально-педагогических услуг,социально-трудовых услуг, социально-правовых услуг, услуг в целях повышения коммуникативного потенциала получателей социальных услуг, имеющих ограничения жизнедеятельности,в том числе детей-инвалидов | D24: Гражданин при отсутствии работы и средств к существованию | F24: Очно | H24: Количество нарушений санитарного законодательства в отчетном году, выявленных при проведении проверок | I24: Процент | J24: 0 | K24: 0 | L24: 0 | M24: 5
A25: 870000О.99.0.АЭ24АА07000 | B25: Предоставление социального обслуживания в стационарной форме | C25: Предоставление социального обслуживания в стационарной форме включая оказание социально-бытовых услуг,социально-медицинских услуг,социально-психологических услуг,социально-педагогических услуг,социально-трудовых услуг, социально-правовых услуг, услуг в целях повышения коммуникативного потенциала получателей социальных услуг, имеющих ограничения жизнедеятельности,в том числе детей-инвалидов | D25: Гражданин при отсутствии работы и средств к существованию | F25: Очно | H25: Удовлетворенность получателей социальных услуг в оказанных социальных услугах | I25: Процент | J25: 100 | K25: 100 | L25: 100 | M25: 5
A26: 870000О.99.0.АЭ24АА07000 | B26: Предоставление социального обслуживания в стационарной форме | C26: Предоставление социального обслуживания в стационарной форме включая оказание социально-бытовых услуг,социально-медицинских услуг,социально-психологических услуг,социально-педагогических услуг,социально-трудовых услуг, социально-правовых услуг, услуг в целях повышения коммуникативного потенциала получателей социальных услуг, имеющих ограничения жизнедеятельности,в том числе детей-инвалидов | D26: Гражданин при отсутствии работы и средств к существованию | F26: Очно | H26: Укомплектование организации специалистами, оказывающими социальные услуги | I26: Процент | J26: 100 | K26: 100 | L26: 100 | M26: 5
A27: 870000О.99.0.АЭ24АА07000 | B27: Предоставление социального обслуживания в стационарной форме | C27: Предоставление социального обслуживания в стационарной форме включая оказание социально-бытовых услуг,социально-медицинских услуг,социально-психологических услуг,социально-педагогических услуг,социально-трудовых услуг, социально-правовых услуг, услуг в целях повышения коммуникативного потенциала получателей социальных услуг, имеющих ограничения жизнедеятельности,в том числе детей-инвалидов | D27: Гражданин при отсутствии работы и средств к существованию | F27: Очно | H27: Повышение качества социальных услуг и эффективности их оказания (определяется исходя из мероприятий, направленных на совершенствование деятельности организации при предоставлении социального обслуживания) | I27: Процент | J27: 100 | K27: 100 | L27: 100 | M27: 5
A28: 870000О.99.0.АЭ24АА07000 | B28: Предоставление социального обслуживания в стационарной форме | C28: Предоставление социального обслуживания в стационарной форме включая оказание социально-бытовых услуг,социально-медицинских услуг,социально-психологических услуг,социально-педагогических услуг,социально-трудовых услуг, социально-правовых услуг, услуг в целях повышения коммуникативного потенциала получателей социальных услуг, имеющих ограничения жизнедеятельности,в том числе детей-инвалидов | D28: Гражданин при отсутствии работы и средств к существованию | F28: Очно | H28: Доступность получения социальных услуг в организации (возможность сопровождения получателя социальных услуг при передвижении по территории учреждения социального обслуживания, а также при пользовании услугами; возможность для самостоятельного передвижения по территории учреждения социального обслуживания, входа, выхода и перемещения внутри такой организации (в том числе для передвижения в креслах-колясках), для отдыха в сидячем положении, а также доступное размещение оборудования и носителей информации; дублирование текстовых сообщений голосовыми сообщениями, оснащение учреждения социального обслуживания знаками, выполненными рельефно-точечным шрифтом Брайля, ознакомление с их помощью с надписями, знаками и иной текстовой и графической информацией на территории учреждения; дублирование голосовой информации текстовой информацией, надписями и (или) световыми сигналами, информирование о предоставляемых социальных услугах с использованием русского жестового языка (сурдоперевода); оказание иных видов посторонней помощи | I28: Процент | J28: 100 | K28: 100 | L28: 100 | M28: 5
A29: 870000О.99.0.АЭ24АА08000 | B29: Предоставление социального обслуживания в стационарной форме | C29: Предоставление социального обслуживания в стационарной форме включая оказание социально-бытовых услуг,социально-медицинских услуг,социально-психологических услуг,социально-педагогических услуг,социально-трудовых услуг, социально-правовых услуг, услуг в целях повышения коммуникативного потенциала получателей социальных услуг, имеющих ограничения жизнедеятельности,в том числе детей-инвалидов | D29: Гражданин при наличии иных обстоятельств, которые нормативными правовыми актами субъектов Российской Федерации признаны ухудшающими или способны ухудшить условия его жизнедеятельности | F29: Очно | H29: Доля получателей социальных услуг, получающих социальные услуги от общего числа получателей социальных услуг, находящихся на социальном обслуживании в организации | I29: Процент | J29: =Part1_1!K12/(Part1_1!K8+Part1_1!K9+Part1_1!K10+Part1_1!K11+Part1_1!K12)*100 -> 25 | K29: =J29 -> 25 | L29: =J29 -> 25 | M29: 5
A30: 870000О.99.0.АЭ24АА08000 | B30: Предоставление социального обслуживания в стационарной форме | C30: Предоставление социального обслуживания в стационарной форме включая оказание социально-бытовых услуг,социально-медицинских услуг,социально-психологических услуг,социально-педагогических услуг,социально-трудовых услуг, социально-правовых услуг, услуг в целях повышения коммуникативного потенциала получателей социальных услуг, имеющих ограничения жизнедеятельности,в том числе детей-инвалидов | D30: Гражданин при наличии иных обстоятельств, которые нормативными правовыми актами субъектов Российской Федерации признаны ухудшающими или способны ухудшить условия его жизнедеятельности | F30: Очно | H30: Количество нарушений санитарного законодательства в отчетном году, выявленных при проведении проверок | I30: Процент | J30: 0 | K30: 0 | L30: 0 | M30: 5
A31: 870000О.99.0.АЭ24АА08000 | B31: Предоставление социального обслуживания в стационарной форме | C31: Предоставление социального обслуживания в стационарной форме включая оказание социально-бытовых услуг,социально-медицинских услуг,социально-психологических услуг,социально-педагогических услуг,социально-трудовых услуг, социально-правовых услуг, услуг в целях повышения коммуникативного потенциала получателей социальных услуг, имеющих ограничения жизнедеятельности,в том числе детей-инвалидов | D31: Гражданин при наличии иных обстоятельств, которые нормативными правовыми актами субъектов Российской Федерации признаны ухудшающими или способны ухудшить условия его жизнедеятельности | F31: Очно | H31: Удовлетворенность получателей социальных услуг в оказанных социальных услугах | I31: Процент | J31: 100 | K31: 100 | L31: 100 | M31: 5
A32: 870000О.99.0.АЭ24АА08000 | B32: Предоставление социального обслуживания в стационарной форме | C32: Предоставление социального обслуживания в стационарной форме включая оказание социально-бытовых услуг,социально-медицинских услуг,социально-психологических услуг,социально-педагогических услуг,социально-трудовых услуг, социально-правовых услуг, услуг в целях повышения коммуникативного потенциала получателей социальных услуг, имеющих ограничения жизнедеятельности,в том числе детей-инвалидов | D32: Гражданин при наличии иных обстоятельств, которые нормативными правовыми актами субъектов Российской Федерации признаны ухудшающими или способны ухудшить условия его жизнедеятельности | F32: Очно | H32: Укомплектование организации специалистами, оказывающими социальные услуги | I32: Процент | J32: 100 | K32: 100 | L32: 100 | M32: 5
A33: 870000О.99.0.АЭ24АА08000 | B33: Предоставление социального обслуживания в стационарной форме | C33: Предоставление социального обслуживания в стационарной форме включая оказание социально-бытовых услуг,социально-медицинских услуг,социально-психологических услуг,социально-педагогических услуг,социально-трудовых услуг, социально-правовых услуг, услуг в целях повышения коммуникативного потенциала получателей социальных услуг, имеющих ограничения жизнедеятельности,в том числе детей-инвалидов | D33: Гражданин при наличии иных обстоятельств, которые нормативными правовыми актами субъектов Российской Федерации признаны ухудшающими или способны ухудшить условия его жизнедеятельности | F33: Очно | H33: Повышение качества социальных услуг и эффективности их оказания (определяется исходя из мероприятий, направленных на совершенствование деятельности организации при предоставлении социального обслуживания) | I33: Процент | J33: 100 | K33: 100 | L33: 100 | M33: 5
A34: 870000О.99.0.АЭ24АА08000 | B34: Предоставление социального обслуживания в стационарной форме | C34: Предоставление социального обслуживания в стационарной форме включая оказание социально-бытовых услуг,социально-медицинских услуг,социально-психологических услуг,социально-педагогических услуг,социально-трудовых услуг, социально-правовых услуг, услуг в целях повышения коммуникативного потенциала получателей социальных услуг, имеющих ограничения жизнедеятельности,в том числе детей-инвалидов | D34: Гражданин при наличии иных обстоятельств, которые нормативными правовыми актами субъектов Российской Федерации признаны ухудшающими или способны ухудшить условия его жизнедеятельности | F34: Очно | H34: Доступность получения социальных услуг в организации (возможность сопровождения получателя социальных услуг при передвижении по территории учреждения социального обслуживания, а также при пользовании услугами; возможность для самостоятельного передвижения по территории учреждения социального обслуживания, входа, выхода и перемещения внутри такой организации (в том числе для передвижения в креслах-колясках), для отдыха в сидячем положении, а также доступное размещение оборудования и носителей информации; дублирование текстовых сообщений голосовыми сообщениями, оснащение учреждения социального обслуживания знаками, выполненными рельефно-точечным шрифтом Брайля, ознакомление с их помощью с надписями, знаками и иной текстовой и графической информацией на территории учреждения; дублирование голосовой информации текстовой информацией, надписями и (или) световыми сигналами, информирование о предоставляемых социальных услугах с использованием русского жестового языка (сурдоперевода); оказание иных видов посторонней помощи | I34: Процент | J34: 100 | K34: 100 | L34: 100 | M34: 5

Sheet Part2
A2: Часть II. Финансовое обеспечение выполнения государственного задания
A3: № п/п | B3: Наименование параметра расчёта объёма субсидии | C3: Единица измерения | D3: Значение параметров расчёта объёма субсидии | G3: Формула расчета параметра
D4: очередной финансовый (N+1) год | E4: первый (N+2) год планового периода | F4: второй (N+3) год планового периода
A5: 1 | B5: 2 | C5: 3 | D5: 4 | E5: 5 | F5: 6 | G5: 7
A6: 1 | B6: Затраты на оказание услуг (выполнение работ), всего | C6: руб. | D6: =D9+D20+D31+D42+D53 -> 13636512 | E6: 12529381 | F6: 12529381 | G6: 1 = 1.3 + 2.3 + 3.3 + 4.3+5.3
A7: 1.1 | B7: =Part1_1!A8 -> 870000О.99.0.АЭ24АА02000
A8: 1.2 | B8: Предоставление социального обслуживания в стационарной форме
A9: 1.3. | B9: Затраты на оказание услуги (выполнение работы) | C9: руб. | D9: =D10*D15-D16*D17 -> 2840940 | E9: 2610287.8 | F9: 2610287.8 | G9: 1.3 = 1.3.1 x 1.3.2 - 1.3.4 x 1.3.3
A10: 1.3.1 | B10: Нормативные затраты на оказание единицы услуги (выполнение работы) | C10: руб. | D10: =ROUND((D11*(D12/100*D13/100*D14/100)),2) -> 284094 | E10: 261028.78 | F10: 261028.78 | G10: 1.3.1 = 1.3.1.1 x 1.3.1.2 x 1.3.1.3 x 1.3.1.4
A11: 1.3.1.1 | B11: Базовый норматив затрат на оказание услуги (выполнение работы) | C11: руб. | D11: 235646.07 | E11: 235646.07 | F11: 235646.07
A12: 1.3.1.2 | B12: Отраслевой корректирующий коэффициент | C12: % | D12: 100 | E12: 100 | F12: 100
A13: 1.3.1.3 | B13: Территориальный корректирующий коэффициент | C13: % | D13: 120.70479 | E13: 111.14766 | F13: 111.14766
A14: 1.3.1.4 | B14: Прочий корректирующий коэффициент | C14: % | D14: 99.879728 | E14: 99.661603 | F14: 99.661603
A15: 1.3.2 | B15: Объем государственной услуги (работы), оказываемой в пределах государственного задания | C15: Человек | D15: =Part1_1!K8 -> 10 | E15: 10 | F15: 10
A16: 1.3.3 | B16: Среднегодовой размер платы за оказание государственной услуги, оказываемой за плату в рамках государственного задания | C16: руб. | D16: 0 | E16: 0 | F16: 0
A17: 1.3.4 | B17: Объем государственной услуги, оказываемой за плату в рамках государственного задания | C17: Человек | D17: =Part1_1!L8 -> 0 | E17: 0 | F17: 0
A18: 2.1 | B18: =Part1_1!A9 -> 870000О.99.0.АЭ24АА05000
A19: 2.2 | B19: Предоставление социального обслуживания в стационарной форме
A20: 2.3. | B20: Затраты на оказание услуги (выполнение работы) | C20: руб. | D20: =D21*D26-D27*D28 -> 2840940 | E20: 2610287.8 | F20: 2610287.8 | G20: 2.3 = 2.3.1 x 2.3.2 - 2.3.4 x 2.3.3
A21: 2.3.1 | B21: Нормативные затраты на оказание единицы услуги (выполнение работы) | C21: руб. | D21: =ROUND((D22*(D23/100*D24/100*D25/100)),2) -> 284094 | E21: 261028.78 | F21: 261028.78 | G21: 2.3.1 = 2.3.1.1 x 2.3.1.2 x 2.3.1.3 x 2.3.1.4
A22: 2.3.1.1 | B22: Базовый норматив затрат на оказание услуги (выполнение работы) | C22: руб. | D22: =D11 -> 235646.07 | E22: 235646.07 | F22: 235646.07
A23: 2.3.1.2 | B23: Отраслевой корректирующий коэффициент | C23: % | D23: 100 | E23: 100 | F23: 100
A24: 2.3.1.3 | B24: Территориальный корректирующий коэффициент | C24: % | D24: =D13 -> 120.70479 | E24: 111.14766 | F24: 111.14766
A25: 2.3.1.4 | B25: Прочий корректирующий коэффициент | C25: % | D25: =D14 -> 99.879728 | E25: 99.661603 | F25: 99.661603
A26: 2.3.2 | B26: Объем государственной услуги (работы), оказываемой в пределах государственного задания | C26: Человек | D26: =Part1_1!K9 -> 10 | E26: 10 | F26: 10
A27: 2.3.3 | B27: Среднегодовой размер платы за оказание государственной услуги, оказываемой за плату в рамках государственного задания | C27: руб. | D27: 0 | E27: 0 | F27: 0
A28: 2.3.4 | B28: Объем государственной услуги, оказываемой за плату в рамках государственного задания | C28: Человек | D28: =Part1_1!L9 -> 0 | E28: 0 | F28: 0
A29: 3.1 | B29: =Part1_1!A10 -> 870000О.99.0.АЭ24АА06000
A30: 3.2 | B30: Предоставление социального обслуживания в стационарной форме
A31: 3.3. | B31: Затраты на оказание услуги (выполнение работы) | C31: руб. | D31: =D32*D37-D38*D39 -> 1704564 | E31: 1566172.7 | F31: 1566172.7 | G31: 3.3 = 3.3.1 x 3.3.2 - 3.3.4 x 3.3.3
A32: 3.3.1 | B32: Нормативные затраты на оказание единицы услуги (выполнение работы) | C32: руб. | D32: =ROUND((D33*(D34/100*D35/100*D36/100)),2) -> 284094 | E32: 261028.78 | F32: 261028.78 | G32: 3.3.1 = 3.3.1.1 x 3.3.1.2 x 3.3.1.3 x 3.3.1.4
A33: 3.3.1.1 | B33: Базовый норматив затрат на оказание услуги (выполнение работы) | C33: руб. | D33: =D11 -> 235646.07 | E33: 235646.07 | F33: 235646.07
A34: 3.3.1.2 | B34: Отраслевой корректирующий коэффициент | C34: % | D34: 100 | E34: 100 | F34: 100
A35: 3.3.1.3 | B35: Территориальный корректирующий коэффициент | C35: % | D35: =D13 -> 120.70479 | E35: 111.14766 | F35: 111.14766
A36: 3.3.1.4 | B36: Прочий корректирующий коэффициент | C36: % | D36: =D14 -> 99.879728 | E36: 99.661603 | F36: 99.661603
A37: 3.3.2 | B37: Объем государственной услуги (работы), оказываемой в пределах государственного задания | C37: Человек | D37: =Part1_1!K10 -> 6 | E37: 6 | F37: 6
A38: 3.3.3 | B38: Среднегодовой размер платы за оказание государственной услуги, оказываемой за плату в рамках государственного задания | C38: руб. | D38: 0 | E38: 0 | F38: 0
A39: 3.3.4 | B39: Объем государственной услуги, оказываемой за плату в рамках государственного задания | C39: Человек | D39: =Part1_1!L10 -> 0 | E39: 0 | F39: 0
A40: 4.1 | B40: =Part1_1!A11 -> 870000О.99.0.АЭ24АА07000
A41: 4.2 | B41: Предоставление социального обслуживания в стационарной форме
...

Sheet Part3
A2: Часть III. Порядок осуществления контроля за выполнением государственного задания
A4: 1. Периодичность и вид контроля за выполнением государственного задания:
A5: № п/п | B5: Вид контрольного мероприятия | C5: Периодичность проведения контроля
A6: 1 | B6: Выездная проверка | C6: Не реже 1 раза в 3 года
A7: 2 | B7: Камеральная проверка | C7: Ежеквартально
A9: 2. Иные требования к отчетности об исполнении государственного задания:
A10: 1 | B10: - предоставление пояснительной записки к отчету об исполнении государственного задания;
A11: 2 | B11: - представление информации о состоянии кредиторской задолженности, в том числе просроченной.
A13: 3. Иная информация, необходимая для исполнения государственного задания (контроля за исполнением государственного задания):
A14: 1 | B14: по мере необходимости может быть запрошена необходимая для контроля информация.
A16: Часть IV. Условия и порядок досрочного прекращения исполнения государственного задания
A18: № п/п | B18: Условия досрочного прекращения исполнения государственного задания | C18: Порядок досрочного прекращения исполнения государственного задания
A19: 1 | B19: ликвидация поставщика государственных услуг;
A20: 2 | B20: реорганизация поставщика государственных услуг;
A21: 3 | B21: иные основания, предусмотренные нормативными правовыми актами Российской Федерации и Тверской области
