Workbook

Sheet Title
E2: "Приложение 1 к постановлению Правительства Тверской области от ________ № -пп"
E5: "«Приложение 1 к Порядку формирования и финансового обеспечения выполнения государственного задания на оказание государственных услуг (выполнение работ) государственными учреждениями Тверской области, за исключением государственных учреждений здравоохранения Тверской области "
E6: УТВЕРЖДАЮ
E7: Министр социальной защиты населения Тверской области
E8: наименование должности руководителя исполнительного органа государственной власти, осуществляющего функции и полномочия учредителя учреждения Тверской области
G9: Хохлова Елена Вячеславовна
G10: ____________________ _________________________
G11: подпись расшифровка подписи
G12: «____»__________________20___ г.
E13: директор
E14: наименование должности руководителя государственного учреждения Тверской области
G15: Беленышева Ольга Георгиевна
G16: ____________________ _________________________
G17: подпись расшифровка подписи
G18: «____»__________________20___ г.
E19: главный бухгалтер
E20: наименование должности руководителя финансовой службы государственного учреждения Тверской области
G22: ____________________ _________________________
G23: подпись расшифровка подписи
G24: «____»__________________20___ г.
A26: Государственное задание
A27: государственное бюджетное учреждение "Социально-реабилитационный центр для несовершеннолетних" Торжокского района
A28: (наименование государственного учреждения Тверской области)
A29: на 2018 год и плановый период 2019-2020 годов

Sheet Part1_1
A2: Часть I. Оказание государственной(-х) услуги (услуг) (выполнение работы (работы))
A3: 1.1. Показатели, характеризующие объём государственной услуги (работы)
A4: Уникальный номер реестровой записи общероссийских базовых (отраслевых) перечней (классификаторов) государственных и муниципальных услуг, оказываемых физическим лицам, и (или) регионального перечня (классификатора) государственных (муниципальных) услуг, не включенных в общероссийские базовые (отраслевые) перечни (классификаторы) государственных и муниципальных услуг, и работ | B4: Наименование государственной услуги (работы) | C4: Категории потребителей государственной услуги (работы) | D4: Показатели, характеризующие содержание государственной услуги (работы) | G4: Показатели, характеризующие условия оказания государственной услуги (выполнения работы) | I4: Показатель объема государственной услуги (работы) | K4: Значение показателей объема государственной услуги (работы) | Q4: Реквизиты нормативного правового или иного акта, определяющего порядок оказания государственной услуги (работы)
D5: Содержание 1 | E5: Содержание 2 | F5: Содержание 3 | G5: Условие 1 | H5: Условие 2 | K5: 2018 год (очередной финансовый год) | M5: 2019 год (1-й год планового периода) | O5: 2020 год (2-й год планового периода)
I6: Наименование | J6: Единица измерения | K6: бесплатно | L6: за плату | M6: бесплатно | N6: за плату | O6: бесплатно | P6: за плату | Q6: номер | R6: дата | S6: наименование
A7: 1 | B7: 2 | C7: 3 | D7: 4 | E7: 5 | F7: 6 | G7: 7 | H7: 8 | I7: 9 | J7: 10 | K7: 11 | L7: 12 | M7: 13 | N7: 14 | O7: 15 | P7: 16 | Q7: 17 | R7: 18 | S7: 19
A8: 280000000120003330522045001101500001005100101 | B8: Предоставление социального обслуживания в стационарной форме | C8: Гражданин при наличии ребенка или детей (в том числе находящихся под опекой, попечительством), испытывающих трудности в социальной адаптации | D8: Предоставление социально-бытовых услуг | E8: Гражданин при наличии ребенка или детей (в том числе находящихся под опекой, попечительством), испытывающих трудности в социальной адаптации | G8: Очно | I8: Численность граждан, получивших социальные услуги | J8: Человек | K8: 10 | L8: 0 | M8: 10 | N8: 0 | O8: 10 | P8: 0 | Q8: 442-ФЗ | R8: 28 декабря 2013 г | S8: «Об основах социального обслуживания граждан в Российской Федерации»
A9: 280000000120003330522045001201500001004100101 | B9: Предоставление социального обслуживания в стационарной форме | C9: Гражданин при наличии ребенка или детей (в том числе находящихся под опекой, попечительством), испытывающих трудности в социальной адаптации | D9: Предоставление социально-медицинских услуг | E9: Гражданин при наличии ребенка или детей (в том числе находящихся под опекой, попечительством), испытывающих трудности в социальной адаптации | G9: Очно | I9: Численность граждан, получивших социальные услуги | J9: Человек | K9: 10 | L9: 0 | M9: 10 | N9: 0 | O9: 10 | P9: 0 | Q9: 442-ФЗ | R9: 28 декабря 2013 г | S9: «Об основах социального обслуживания граждан в Российской Федерации»
A10: 280000000120003330522045001301500001003100101 | B10: Предоставление социального обслуживания в стационарной форме | C10: Гражданин при наличии ребенка или детей (в том числе находящихся под опекой, попечительством), испытывающих трудности в социальной адаптации | D10: Предоставление социально-психологических услуг | E10: Гражданин при наличии ребенка или детей (в том числе находящихся под опекой, попечительством), испытывающих трудности в социальной адаптации | G10: Очно | I10: Численность граждан, получивших социальные услуги | J10: Человек | K10: 10 | L10: 0 | M10: 10 | N10: 0 | O10: 10 | P10: 0 | Q10: 442-ФЗ | R10: 28 декабря 2013 г | S10: «Об основах социального обслуживания граждан в Российской Федерации»
A11: 280000000120003330522045001401500001002100101 | B11: Предоставление социального обслуживания в стационарной форме | C11: Гражданин при наличии ребенка или детей (в том числе находящихся под опекой, попечительством), испытывающих трудности в социальной адаптации | D11: Предоставление социально-педагогических услуг | E11: Гражданин при наличии ребенка или детей (в том числе находящихся под опекой, попечительством), испытывающих трудности в социальной адаптации | G11: Очно | I11: Численность граждан, получивших социальные услуги | J11: Человек | K11: 10 | L11: 0 | M11: 10 | N11: 0 | O11: 10 | P11: 0 | Q11: 442-ФЗ | R11: 28 декабря 2013 г | S11: «Об основах социального обслуживания граждан в Российской Федерации»
A12: 280000000120003330522045001501500001001100101 | B12: Предоставление социального обслуживания в стационарной форме | C12: Гражданин при наличии ребенка или детей (в том числе находящихся под опекой, попечительством), испытывающих трудности в социальной адаптации | D12: Предоставление социально- трудовых услуг | E12: Гражданин при наличии ребенка или детей (в том числе находящихся под опекой, попечительством), испытывающих трудности в социальной адаптации | G12: Очно | I12: Численность граждан, получивших социальные услуги | J12: Человек | K12: 10 | L12: 0 | M12: 10 | N12: 0 | O12: 10 | P12: 0 | Q12: 442-ФЗ | R12: 28 декабря 2013 г | S12: «Об основах социального обслуживания граждан в Российской Федерации»
A13: 280000000120003330522045001601500001000100101 | B13: Предоставление социального обслуживания в стационарной форме | C13: Гражданин при наличии ребенка или детей (в том числе находящихся под опекой, попечительством), испытывающих трудности в социальной адаптации | D13: Предоставление социально- правовых услуг | E13: Гражданин при наличии ребенка или детей (в том числе находящихся под опекой, попечительством), испытывающих трудности в социальной адаптации | G13: Очно | I13: Численность граждан, получивших социальные услуги | J13: Человек | K13: 10 | L13: 0 | M13: 10 | N13: 0 | O13: 10 | P13: 0 | Q13: 442-ФЗ | R13: 28 декабря 2013 г | S13: «Об основах социального обслуживания граждан в Российской Федерации»
A14: 280000000120003330522045001101200001002100101 | B14: Предоставление социального обслуживания в стационарной форме | C14: Гражданин при отсутствии возможности обеспечения ухода (в том числе временного) за инвалидом, ребенком, детьми, а также отсутствие попечения над ними | D14: Предоставление социально-бытовых услуг | E14: Гражданин при отсутствии возможности обеспечения ухода (в том числе временного) за инвалидом, ребенком, детьми, а также отсутствие попечения над ними | G14: Очно | I14: Численность граждан, получивших социальные услуги | J14: Человек | K14: 5 | L14: 0 | M14: 5 | N14: 0 | O14: 5 | P14: 0 | Q14: 442-ФЗ | R14: 28 декабря 2013 г | S14: «Об основах социального обслуживания граждан в Российской Федерации»
A15: 280000000120003330522045001201200001001100101 | B15: Предоставление социального обслуживания в стационарной форме | C15: Гражданин при отсутствии возможности обеспечения ухода (в том числе временного) за инвалидом, ребенком, детьми, а также отсутствие попечения над ними | D15: Предоставление социально-медицинских услуг | E15: Гражданин при отсутствии возможности обеспечения ухода (в том числе временного) за инвалидом, ребенком, детьми, а также отсутствие попечения над ними | G15: Очно | I15: Численность граждан, получивших социальные услуги | J15: Человек | K15: 5 | L15: 0 | M15: 5 | N15: 0 | O15: 5 | P15: 0 | Q15: 442-ФЗ | R15: 28 декабря 2013 г | S15: «Об основах социального обслуживания граждан в Российской Федерации»
A16: 280000000120003330522045001301200001000100101 | B16: Предоставление социального обслуживания в стационарной форме | C16: Гражданин при отсутствии возможности обеспечения ухода (в том числе временного) за инвалидом, ребенком, детьми, а также отсутствие попечения над ними | D16: Предоставление социально-психологических услуг | E16: Гражданин при отсутствии возможности обеспечения ухода (в том числе временного) за инвалидом, ребенком, детьми, а также отсутствие попечения над ними | G16: Очно | I16: Численность граждан, получивших социальные услуги | J16: Человек | K16: 5 | L16: 0 | M16: 5 | N16: 0 | O16: 5 | P16: 0 | Q16: 442-ФЗ | R16: 28 декабря 2013 г | S16: «Об основах социального обслуживания граждан в Российской Федерации»
A17: 280000000120003330522045001401200001009100101 | B17: Предоставление социального обслуживания в стационарной форме | C17: Гражданин при отсутствии возможности обеспечения ухода (в том числе временного) за инвалидом, ребенком, детьми, а также отсутствие попечения над ними | D17: Предоставление социально-педагогических услуг | E17: Гражданин при отсутствии возможности обеспечения ухода (в том числе временного) за инвалидом, ребенком, детьми, а также отсутствие попечения над ними | G17: Очно | I17: Численность граждан, получивших социальные услуги | J17: Человек | K17: 5 | L17: 0 | M17: 5 | N17: 0 | O17: 5 | P17: 0 | Q17: 442-ФЗ | R17: 28 декабря 2013 г | S17: «Об основах социального обслуживания граждан в Российской Федерации»
A18: 280000000120003330522045001501200001008100101 | B18: Предоставление социального обслуживания в стационарной форме | C18: Гражданин при отсутствии возможности обеспечения ухода (в том числе временного) за инвалидом, ребенком, детьми, а также отсутствие попечения над ними | D18: Предоставление социально-трудовых услуг | E18: Гражданин при отсутствии возможности обеспечения ухода (в том числе временного) за инвалидом, ребенком, детьми, а также отсутствие попечения над ними | G18: Очно | I18: Численность граждан, получивших социальные услуги | J18: Человек | K18: 5 | L18: 0 | M18: 5 | N18: 0 | O18: 5 | P18: 0 | Q18: 442-ФЗ | R18: 28 декабря 2013 г | S18: «Об основах социального обслуживания граждан в Российской Федерации»
A19: 280000000120003330522045001601200001007100101 | B19: Предоставление социального обслуживания в стационарной форме | C19: Гражданин при отсутствии возможности обеспечения ухода (в том числе временного) за инвалидом, ребенком, детьми, а также отсутствие попечения над ними | D19: Предоставление социально-правовых услуг | E19: Гражданин при отсутствии возможности обеспечения ухода (в том числе временного) за инвалидом, ребенком, детьми, а также отсутствие попечения над ними | G19: Очно | I19: Численность граждан, получивших социальные услуги | J19: Человек | K19: 5 | L19: 0 | M19: 5 | N19: 0 | O19: 5 | P19: 0 | Q19: 442-ФЗ | R19: 28 декабря 2013 г | S19: «Об основах социального обслуживания граждан в Российской Федерации»
... A37: 280000000120003330522045001601800001004100101 | B37: Предоставление социального обслуживания в стационарной форме | C37: Гражданин при наличии иных обстоятельств, которые нормативными правовыми актами субъектов Российской Федерации признаны ухудшающими или способны ухудшить условия его жизнедеятельности | D37: Предоставление социально-правовых услуг | E37: Гражданин при наличии иных обстоятельств, которые нормативными правовыми актами субъектов Российской Федерации признаны ухудшающими или способны ухудшить условия его жизнедеятельности | G37: Очно | I37: Численность граждан, получивших социальные услуги | J37: Человек | K37: 12 | L37: 0 | M37: 12 | N37: 0 | O37: 12 | P37: 0 | Q37: 442-ФЗ | R37: 28 декабря 2013 г | S37: «Об основах социального обслуживания граждан в Российской Федерации»
A38: 22889000Р69000300002001 | B38: Социальное сопровождение граждан нуждающихся в социальном обслуживании | C38: Гражданин при наличии ребенка или детей (в том числе находящихся под опекой, попечительством), испытывающих трудности в социальной адаптации; Гражданин при наличии внутрисемейного конфликта, в том числе с лицами с наркотической или алкогольной зависимостью, лицами, имеющими пристрастие к азартным играм, лицами, страдающими психическими расстройствами, наличие насилия в семье;Гражданин при отсутствии работы и средств к существованию; Гражданин при наличии иных обстоятельств, которые нормативными правовыми актами субъектов Российской Федерации признаны ухудшающими или способны ухудшить условия его жизнедеятельности; Гражданин при наличии в семье инвалида или инвалидов, в том числе ребенка-инвалида или детей-инвалидов, нуждающихся в постоянном постороннем уходе | D38: Оказание содействия гражданам посредством межведомственного взаимодействия в получении различного вида услуг: юридических, медицинских, психологических, педагогических, а также социальной помощи, не относящейся к социальным услугам | E38: Гражданин при наличии ребенка или детей (в том числе находящихся под опекой, попечительством), испытывающих трудности в социальной адаптации; Гражданин при наличии внутрисемейного конфликта, в том числе с лицами с наркотической или алкогольной зависимостью, лицами, имеющими пристрастие к азартным играм, лицами, страдающими психическими расстройствами, наличие насилия в семье;Гражданин при отсутствии работы и средств к существованию; Гражданин при наличии иных обстоятельств, которые нормативными правовыми актами субъектов Российской Федерации признаны ухудшающими или способны ухудшить условия его жизнедеятельности; Гражданин при наличии в семье инвалида или инвалидов, в том числе ребенка-инвалида или детей-инвалидов, нуждающихся в постоянном постороннем уходе | G38: Очно | I38: Численность граждан, получивших социальные услуги | J38: Семей | K38: 63 | L38: 0 | M38: =K38 -> 63 | N38: 0 | O38: =K38 -> 63 | P38: 0 | Q38: 442-ФЗ | R38: 28 декабря 2013 г | S38: «Об основах социального обслуживания граждан в Российской Федерации»

Sheet Part1_2
A2: 1.2. Показатели, характеризующие качество государственной услуги (работы)
A3: Уникальный номер реестровой записи общероссийских базовых (отраслевых) перечней (классификаторов) государственных и муниципальных услуг, оказываемых физическим лицам, и (или) регионального перечня (классификатора) государственных (муниципальных) услуг, не включенных в общероссийские базовые (отраслевые) перечни (классификаторы) государственных и муниципальных услуг, и работ | B3: Наименование государственной услуги (работы) | C3: Показатель, характеризующий содержание государственной услуги (работы) | F3: Показатель, характеризующий условия (формы) оказания государственной услуги (выполнения работы) | H3: Показатель качества государственной услуги (работы) | J3: Значение показателя качества государственной услуги (работы) | M3: Допустимое (возможное) отклонение показателя качества государственной услуги (работы), в пределах которого государственное задание считается выполненным (%)
C4: Содержание 1 | D4: Содержание 2 | E4: Содержание 3 | F4: Условие 1 | G4: Условие 2 | H4: Наименование | I4: Единица измерения | J4: 2018 год (очередной финансовый год) | K4: 2019 год (1-й год планового периода) | L4: 2020 год (2-й год планового периода)
A5: 280000000120003330522045001101500001005100101 | B5: Предоставление социального обслуживания в стационарной форме | C5: Предоставление социально-бытовых услуг | D5: Гражданин при наличии ребенка или детей (в том числе находящихся под опекой, попечительством), испытывающих трудности в социальной адаптации | F5: Очно | H5: Доля получателей социальных услуг, получающих социальные услуги от общего числа получателей социальных услуг, находящихся на социальном обслуживании в организации | I5: Процент | J5: =Part1_1!K8/40*100 -> 25 | K5: =J5 -> 25 | L5: =J5 -> 25 | M5: 5
A6: 280000000120003330522045001101500001005100101 | B6: Предоставление социального обслуживания в стационарной форме | C6: Предоставление социально-бытовых услуг | D6: Гражданин при наличии ребенка или детей (в том числе находящихся под опекой, попечительством), испытывающих трудности в социальной адаптации | F6: Очно | H6: Количество нарушений санитарного законодательства в отчетном году, выявленных при проведении проверок | I6: Процент | J6: 0 | K6: =J6 -> 0 | L6: =J6 -> 0 | M6: 5
A7: 280000000120003330522045001101500001005100101 | B7: Предоставление социального обслуживания в стационарной форме | C7: Предоставление социально-бытовых услуг | D7: Гражданин при наличии ребенка или детей (в том числе находящихся под опекой, попечительством), испытывающих трудности в социальной адаптации | F7: Очно | H7: Удовлетворенность получателей социальных услуг в оказанных социальных услугах | I7: Процент | J7: 100 | K7: 100 | L7: 100 | M7: 5
A8: 280000000120003330522045001101500001005100101 | B8: Предоставление социального обслуживания в стационарной форме | C8: Предоставление социально-бытовых услуг | D8: Гражданин при наличии ребенка или детей (в том числе находящихся под опекой, попечительством), испытывающих трудности в социальной адаптации | F8: Очно | H8: Укомплектование организации специалистами, оказывающими социальные услуги | I8: Процент | J8: 100 | K8: 100 | L8: 100 | M8: 5
A9: 280000000120003330522045001101500001005100101 | B9: Предоставление социального обслуживания в стационарной форме | C9: Предоставление социально-бытовых услуг | D9: Гражданин при наличии ребенка или детей (в том числе находящихся под опекой, попечительством), испытывающих трудности в социальной адаптации | F9: Очно | H9: Повышение качества социальных услуг и эффективности их оказания (определяется исходя из мероприятий, направленных на совершенствование деятельности организации при предоставлении социального обслуживания) | I9: Процент | J9: 100 | K9: 100 | L9: 100 | M9: 5
A10: 280000000120003330522045001101500001005100101 | B10: Предоставление социального обслуживания в стационарной форме | C10: Предоставление социально-бытовых услуг | D10: Гражданин при наличии ребенка или детей (в том числе находящихся под опекой, попечительством), испытывающих трудности в социальной адаптации | F10: Очно | H10: Доступность получения социальных услуг в организации (возможность сопровождения получателя социальных услуг при передвижении по территории учреждения социального обслуживания, а также при пользовании услугами; возможность для самостоятельного передвижения по территории учреждения социального обслуживания, входа, выхода и перемещения внутри такой организации (в том числе для передвижения в креслах-колясках), для отдыха в сидячем положении, а также доступное размещение оборудования и носителей информации; дублирование текстовых сообщений голосовыми сообщениями, оснащение учреждения социального обслуживания знаками, выполненными рельефно-точечным шрифтом Брайля, ознакомление с их помощью с надписями, знаками и иной текстовой и графической информацией на территории учреждения; дублирование голосовой информации текстовой информацией, надписями и (или) световыми сигналами, информирование о предоставляемых социальных услугах с использованием русского жестового языка (сурдоперевода); оказание иных видов посторонней помощи | I10: Процент | J10: 0 | K10: 0 | L10: 0 | M10: 5
A11: 280000000120003330522045001201500001004100101 | B11: Предоставление социального обслуживания в стационарной форме | C11: Предоставление социально-медицинских услуг | D11: Гражданин при наличии ребенка или детей (в том числе находящихся под опекой, попечительством), испытывающих трудности в социальной адаптации | F11: Очно | H11: Доля получателей социальных услуг, получающих социальные услуги от общего числа получателей социальных услуг, находящихся на социальном обслуживании в организации | I11: Процент | J11: =Part1_1!K9/40*100 -> 25 | K11: =J11 -> 25 | L11: =J11 -> 25 | M11: 5
A12: 280000000120003330522045001201500001004100101 | B12: Предоставление социального обслуживания в стационарной форме | C12: Предоставление социально-медицинских услуг | D12: Гражданин при наличии ребенка или детей (в том числе находящихся под опекой, попечительством), испытывающих трудности в социальной адаптации | F12: Очно | H12: Количество нарушений санитарного законодательства в отчетном году, выявленных при проведении проверок | I12: Процент | J12: 0 | K12: 0 | L12: 0 | M12: 5
A13: 280000000120003330522045001201500001004100101 | B13: Предоставление социального обслуживания в стационарной форме | C13: Предоставление социально-медицинских услуг | D13: Гражданин при наличии ребенка или детей (в том числе находящихся под опекой, попечительством), испытывающих трудности в социальной адаптации | F13: Очно | H13: Удовлетворенность получателей социальных услуг в оказанных социальных услугах | I13: Процент | J13: 100 | K13: 100 | L13: 100 | M13: 5
A14: 280000000120003330522045001201500001004100101 | B14: Предоставление социального обслуживания в стационарной форме | C14: Предоставление социально-медицинских услуг | D14: Гражданин при наличии ребенка или детей (в том числе находящихся под опекой, попечительством), испытывающих трудности в социальной адаптации | F14: Очно | H14: Укомплектование организации специалистами, оказывающими социальные услуги | I14: Процент | J14: 100 | K14: 100 | L14: 100 | M14: 5
A15: 280000000120003330522045001201500001004100101 | B15: Предоставление социального обслуживания в стационарной форме | C15: Предоставление социально-медицинских услуг | D15: Гражданин при наличии ребенка или детей (в том числе находящихся под опекой, попечительством), испытывающих трудности в социальной адаптации | F15: Очно | H15: Повышение качества социальных услуг и эффективности их оказания (определяется исходя из мероприятий, направленных на совершенствование деятельности организации при предоставлении социального обслуживания) | I15: Процент | J15: 100 | K15: 100 | L15: 100 | M15: 5
A16: 280000000120003330522045001201500001004100101 | B16: Предоставление социального обслуживания в стационарной форме | C16: Предоставление социально-медицинских услуг | D16: Гражданин при наличии ребенка или детей (в том числе находящихся под опекой, попечительством), испытывающих трудности в социальной адаптации | F16: Очно | H16: Доступность получения социальных услуг в организации (возможность сопровождения получателя социальных услуг при передвижении по территории учреждения социального обслуживания, а также при пользовании услугами; возможность для самостоятельного передвижения по территории учреждения социального обслуживания, входа, выхода и перемещения внутри такой организации (в том числе для передвижения в креслах-колясках), для отдыха в сидячем положении, а также доступное размещение оборудования и носителей информации; дублирование текстовых сообщений голосовыми сообщениями, оснащение учреждения социального обслуживания знаками, выполненными рельефно-точечным шрифтом Брайля, ознакомление с их помощью с надписями, знаками и иной текстовой и графической информацией на территории учреждения; дублирование голосовой информации текстовой информацией, надписями и (или) световыми сигналами, информирование о предоставляемых социальных услугах с использованием русского жестового языка (сурдоперевода); оказание иных видов посторонней помощи | I16: Процент | J16: 0 | K16: 0 | L16: 0 | M16: 5
A17: 280000000120003330522045001301500001003100101 | B17: Предоставление социального обслуживания в стационарной форме | C17: Предоставление социально-психологических услуг | D17: Гражданин при наличии ребенка или детей (в том числе находящихся под опекой, попечительством), испытывающих трудности в социальной адаптации | F17: Очно | H17: Доля получателей социальных услуг, получающих социальные услуги от общего числа получателей социальных услуг, находящихся на социальном обслуживании в организации | I17: Процент | J17: =Part1_1!K10/40*100 -> 25 | K17: =J17 -> 25 | L17: =J17 -> 25 | M17: 5
A18: 280000000120003330522045001301500001003100101 | B18: Предоставление социального обслуживания в стационарной форме | C18: Предоставление социально-психологических услуг | D18: Гражданин при наличии ребенка или детей (в том числе находящихся под опекой, попечительством), испытывающих трудности в социальной адаптации | F18: Очно | H18: Количество нарушений санитарного законодательства в отчетном году, выявленных при проведении проверок | I18: Процент | J18: 0 | K18: 0 | L18: 0 | M18: 5
A19: 280000000120003330522045001301500001003100101 | B19: Предоставление социального обслуживания в стационарной форме | C19: Предоставление социально-психологических услуг | D19: Гражданин при наличии ребенка или детей (в том числе находящихся под опекой, попечительством), испытывающих трудности в социальной адаптации | F19: Очно | H19: Удовлетворенность получателей социальных услуг в оказанных социальных услугах | I19: Процент | J19: 100 | K19: 100 | L19: 100 | M19: 5
A20: 280000000120003330522045001301500001003100101 | B20: Предоставление социального обслуживания в стационарной форме | C20: Предоставление социально-психологических услуг | D20: Гражданин при наличии ребенка или детей (в том числе находящихся под опекой, попечительством), испытывающих трудности в социальной адаптации | F20: Очно | H20: Укомплектование организации специалистами, оказывающими социальные услуги | I20: Процент | J20: 100 | K20: 100 | L20: 100 | M20: 5
A21: 280000000120003330522045001301500001003100101 | B21: Предоставление социального обслуживания в стационарной форме | C21: Предоставление социально-психологических услуг | D21: Гражданин при наличии ребенка или детей (в том числе находящихся под опекой, попечительством), испытывающих трудности в социальной адаптации | F21: Очно | H21: Повышение качества социальных услуг и эффективности их оказания (определяется исходя из мероприятий, направленных на совершенствование деятельности организации при предоставлении социального обслуживания) | I21: Процент | J21: 100 | K21: 100 | L21: 100 | M21: 5
A22: 280000000120003330522045001301500001003100101 | B22: Предоставление социального обслуживания в стационарной форме | C22: Предоставление социально-психологических услуг | D22: Гражданин при наличии ребенка или детей (в том числе находящихся под опекой, попечительством), испытывающих трудности в социальной адаптации | F22: Очно | H22: Доступность получения социальных услуг в организации (возможность сопровождения получателя социальных услуг при передвижении по территории учреждения социального обслуживания, а также при пользовании услугами; возможность для самостоятельного передвижения по территории учреждения социального обслуживания, входа, выхода и перемещения внутри такой организации (в том числе для передвижения в креслах-колясках), для отдыха в сидячем положении, а также доступное размещение оборудования и носителей информации; дублирование текстовых сообщений голосовыми сообщениями, оснащение учреждения социального обслуживания знаками, выполненными рельефно-точечным шрифтом Брайля, ознакомление с их помощью с надписями, знаками и иной текстовой и графической информацией на территории учреждения; дублирование голосовой информации текстовой информацией, надписями и (или) световыми сигналами, информирование о предоставляемых социальных услугах с использованием русского жестового языка (сурдоперевода); оказание иных видов посторонней помощи | I22: Процент | J22: 0 | K22: 0 | L22: 0 | M22: 5
A23: 280000000120003330522045001401500001002100101 | B23: Предоставление социального обслуживания в стационарной форме | C23: Предоставление социально-педагогических услуг | D23: Гражданин при наличии ребенка или детей (в том числе находящихся под опекой, попечительством), испытывающих трудности в социальной адаптации | F23: Очно | H23: Доля получателей социальных услуг, получающих социальные услуги от общего числа получателей социальных услуг, находящихся на социальном обслуживании в организации | I23: Процент | J23: =Part1_1!K11/40*100 -> 25 | K23: =J23 -> 25 | L23: =J23 -> 25 | M23: 5
A24: 280000000120003330522045001401500001002100101 | B24: Предоставление социального обслуживания в стационарной форме | C24: Предоставление социально-педагогических услуг | D24: Гражданин при наличии ребенка или детей (в том числе находящихся под опекой, попечительством), испытывающих трудности в социальной адаптации | F24: Очно | H24: Количество нарушений санитарного законодательства в отчетном году, выявленных при проведении проверок | I24: Процент | J24: 0 | K24: 0 | L24: 0 | M24: 5
A25: 280000000120003330522045001401500001002100101 | B25: Предоставление социального обслуживания в стационарной форме | C25: Предоставление социально-педагогических услуг | D25: Гражданин при наличии ребенка или детей (в том числе находящихся под опекой, попечительством), испытывающих трудности в социальной адаптации | F25: Очно | H25: Удовлетворенность получателей социальных услуг в оказанных социальных услугах | I25: Процент | J25: 100 | K25: 100 | L25: 100 | M25: 5
A26: 280000000120003330522045001401500001002100101 | B26: Предоставление социального обслуживания в стационарной форме | C26: Предоставление социально-педагогических услуг | D26: Гражданин при наличии ребенка или детей (в том числе находящихся под опекой, попечительством), испытывающих трудности в социальной адаптации | F26: Очно | H26: Укомплектование организации специалистами, оказывающими социальные услуги | I26: Процент | J26: 100 | K26: 100 | L26: 100 | M26: 5
A27: 280000000120003330522045001401500001002100101 | B27: Предоставление социального обслуживания в стационарной форме | C27: Предоставление социально-педагогических услуг | D27: Гражданин при наличии ребенка или детей (в том числе находящихся под опекой, попечительством), испытывающих трудности в социальной адаптации | F27: Очно | H27: Повышение качества социальных услуг и эффективности их оказания (определяется исходя из мероприятий, направленных на совершенствование деятельности организации при предоставлении социального обслуживания) | I27: Процент | J27: 100 | K27: 100 | L27: 100 | M27: 5
A28: 280000000120003330522045001401500001002100101 | B28: Предоставление социального обслуживания в стационарной форме | C28: Предоставление социально-педагогических услуг | D28: Гражданин при наличии ребенка или детей (в том числе находящихся под опекой, попечительством), испытывающих трудности в социальной адаптации | F28: Очно | H28: Доступность получения социальных услуг в организации (возможность сопровождения получателя социальных услуг при передвижении по территории учреждения социального обслуживания, а также при пользовании услугами; возможность для самостоятельного передвижения по территории учреждения социального обслуживания, входа, выхода и перемещения внутри такой организации (в том числе для передвижения в креслах-колясках), для отдыха в сидячем положении, а также доступное размещение оборудования и носителей информации; дублирование текстовых сообщений голосовыми сообщениями, оснащение учреждения социального обслуживания знаками, выполненными рельефно-точечным шрифтом Брайля, ознакомление с их помощью с надписями, знаками и иной текстовой и графической информацией на территории учреждения; дублирование голосовой информации текстовой информацией, надписями и (или) световыми сигналами, информирование о предоставляемых социальных услугах с использованием русского жестового языка (сурдоперевода); оказание иных видов посторонней помощи | I28: Процент | J28: 0 | K28: 0 | L28: 0 | M28: 5
A29: 280000000120003330522045001501500001001100101 | B29: Предоставление социального обслуживания в стационарной форме | C29: Предоставление социально- трудовых услуг | D29: Гражданин при наличии ребенка или детей (в том числе находящихся под опекой, попечительством), испытывающих трудности в социальной адаптации | F29: Очно | H29: Доля получателей социальных услуг, получающих социальные услуги от общего числа получателей социальных услуг, находящихся на социальном обслуживании в организации | I29: Процент | J29: =Part1_1!K12/40*100 -> 25 | K29: =J29 -> 25 | L29: =J29 -> 25 | M29: 5
A30: 280000000120003330522045001501500001001100101 | B30: Предоставление социального обслуживания в стационарной форме | C30: Предоставление социально- трудовых услуг | D30: Гражданин при наличии ребенка или детей (в том числе находящихся под опекой, попечительством), испытывающих трудности в социальной адаптации | F30: Очно | H30: Количество нарушений санитарного законодательства в отчетном году, выявленных при проведении проверок | I30: Процент | J30: 0 | K30: 0 | L30: 0 | M30: 5
A31: 280000000120003330522045001501500001001100101 | B31: Предоставление социального обслуживания в стационарной форме | C31: Предоставление социально- трудовых услуг | D31: Гражданин при наличии ребенка или детей (в том числе находящихся под опекой, попечительством), испытывающих трудности в социальной адаптации | F31: Очно | H31: Удовлетворенность получателей социальных услуг в оказанных социальных услугах | I31: Процент | J31: 100 | K31: 100 | L31: 100 | M31: 5
A32: 280000000120003330522045001501500001001100101 | B32: Предоставление социального обслуживания в стационарной форме | C32: Предоставление социально- трудовых услуг | D32: Гражданин при наличии ребенка или детей (в том числе находящихся под опекой, попечительством), испытывающих трудности в социальной адаптации | F32: Очно | H32: Укомплектование организации специалистами, оказывающими социальные услуги | I32: Процент | J32: 100 | K32: 100 | L32: 100 | M32: 5
A33: 280000000120003330522045001501500001001100101 | B33: Предоставление социального обслуживания в стационарной форме | C33: Предоставление социально- трудовых услуг | D33: Гражданин при наличии ребенка или детей (в том числе находящихся под опекой, попечительством), испытывающих трудности в социальной адаптации | F33: Очно | H33: Повышение качества социальных услуг и эффективности их оказания (определяется исходя из мероприятий, направленных на совершенствование деятельности организации при предоставлении социального обслуживания) | I33: Процент | J33: 100 | K33: 100 | L33: 100 | M33: 5
A34: 280000000120003330522045001501500001001100101 | B34: Предоставление социального обслуживания в стационарной форме | C34: Предоставление социально- трудовых услуг | D34: Гражданин при наличии ребенка или детей (в том числе находящихся под опекой, попечительством), испытывающих трудности в социальной адаптации | F34: Очно | H34: Доступность получения социальных услуг в организации (возможность сопровождения получателя социальных услуг при передвижении по территории учреждения социального обслуживания, а также при пользовании услугами; возможность для самостоятельного передвижения по территории учреждения социального обслуживания, входа, выхода и перемещения внутри такой организации (в том числе для передвижения в креслах-колясках), для отдыха в сидячем положении, а также доступное размещение оборудования и носителей информации; дублирование текстовых сообщений голосовыми сообщениями, оснащение учреждения социального обслуживания знаками, выполненными рельефно-точечным шрифтом Брайля, ознакомление с их помощью с надписями, знаками и иной текстовой и графической информацией на территории учреждения; дублирование голосовой информации текстовой информацией, надписями и (или) световыми сигналами, информирование о предоставляемых социальных услугах с использованием русского жестового языка (сурдоперевода); оказание иных видов посторонней помощи | I34: Процент | J34: 0 | K34: 0 | L34: 0 | M34: 5
A35: 280000000120003330522045001601500001000100101 | B35: Предоставление социального обслуживания в стационарной форме | C35: Предоставление социально- правовых услуг | D35: Гражданин при наличии ребенка или детей (в том числе находящихся под опекой, попечительством), испытывающих трудности в социальной адаптации | F35: Очно | H35: Доля получателей социальных услуг, получающих социальные услуги от общего числа получателей социальных услуг, находящихся на социальном обслуживании в организации | I35: Процент | J35: =Part1_1!K13/40*100 -> 25 | K35: =J35 -> 25 | L35: =J35 -> 25 | M35: 5
A36: 280000000120003330522045001601500001000100101 | B36: Предоставление социального обслуживания в стационарной форме | C36: Предоставление социально- правовых услуг | D36: Гражданин при наличии ребенка или детей (в том числе находящихся под опекой, попечительством), испытывающих трудности в социальной адаптации | F36: Очно | H36: Количество нарушений санитарного законодательства в отчетном году, выявленных при проведении проверок | I36: Процент | J36: 0 | K36: 0 | L36: 0 | M36: 5
A37: 280000000120003330522045001601500001000100101 | B37: Предоставление социального обслуживания в стационарной форме | C37: Предоставление социально- правовых услуг | D37: Гражданин при наличии ребенка или детей (в том числе находящихся под опекой, попечительством), испытывающих трудности в социальной адаптации | F37: Очно | H37: Удовлетворенность получателей социальных услуг в оказанных социальных услугах | I37: Процент | J37: 100 | K37: 100 | L37: 100 | M37: 5
A38: 280000000120003330522045001601500001000100101 | B38: Предоставление социального обслуживания в стационарной форме | C38: Предоставление социально- правовых услуг | D38: Гражданин при наличии ребенка или детей (в том числе находящихся под опекой, попечительством), испытывающих трудности в социальной адаптации | F38: Очно | H38: Укомплектование организации специалистами, оказывающими социальные услуги | I38: Процент | J38: 100 | K38: 100 | L38: 100 | M38: 5
A39: 280000000120003330522045001601500001000100101 | B39: Предоставление социального обслуживания в стационарной форме | C39: Предоставление социально- правовых услуг | D39: Гражданин при наличии ребенка или детей (в том числе находящихся под опекой, попечительством), испытывающих трудности в социальной адаптации | F39: Очно | H39: Повышение качества социальных услуг и эффективности их оказания (определяется исходя из мероприятий, направленных на совершенствование деятельности организации при предоставлении социального обслуживания) | I39: Процент | J39: 100 | K39: 100 | L39: 100 | M39: 5
A40: 280000000120003330522045001601500001000100101 | B40: Предоставление социального обслуживания в стационарной форме | C40: Предоставление социально- правовых услуг | D40: Гражданин при наличии ребенка или детей (в том числе находящихся под опекой, попечительством), испытывающих трудности в социальной адаптации | F40: Очно | H40: Доступность получения социальных услуг в организации (возможность сопровождения получателя социальных услуг при передвижении по территории учреждения социального обслуживания, а также при пользовании услугами; возможность для самостоятельного передвижения по территории учреждения социального обслуживания, входа, выхода и перемещения внутри такой организации (в том числе для передвижения в креслах-колясках), для отдыха в сидячем положении, а также доступное размещение оборудования и носителей информации; дублирование текстовых сообщений голосовыми сообщениями, оснащение учреждения социального обслуживания знаками, выполненными рельефно-точечным шрифтом Брайля, ознакомление с их помощью с надписями, знаками и иной текстовой и графической информацией на территории учреждения; дублирование голосовой информации текстовой информацией, надписями и (или) световыми сигналами, информирование о предоставляемых социальных услугах с использованием русского жестового языка (сурдоперевода); оказание иных видов посторонней помощи | I40: Процент | J40: 0 | K40: 0 | L40: 0 | M40: 5
A41: 280000000120003330522045001101200001002100101 | B41: Предоставление социального обслуживания в стационарной форме | C41: Предоставление социально-бытовых услуг | D41: Гражданин при отсутствии возможности обеспечения ухода (в том числе временного) за инвалидом, ребенком, детьми, а также отсутствие попечения над ними | F41: Очно | H41: Доля получателей социальных услуг, получающих социальные услуги от общего числа получателей социальных услуг, находящихся на социальном обслуживании в организации | I41: Процент | J41: =Part1_1!K14/40*100 -> 12.5 | K41: =J41 -> 12.5 | L41: =J41 -> 12.5 | M41: 5
A42: 280000000120003330522045001101200001002100101 | B42: Предоставление социального обслуживания в стационарной форме | C42: Предоставление социально-бытовых услуг | D42: Гражданин при отсутствии возможности обеспечения ухода (в том числе временного) за инвалидом, ребенком, детьми, а также отсутствие попечения над ними | F42: Очно | H42: Количество нарушений санитарного законодательства в отчетном году, выявленных при проведении проверок | I42: Процент | J42: 0 | K42: 0 | L42: 0 | M42: 5
A43: 280000000120003330522045001101200001002100101 | B43: Предоставление социального обслуживания в стационарной форме | C43: Предоставление социально-бытовых услуг | D43: Гражданин при отсутствии возможности обеспечения ухода (в том числе временного) за инвалидом, ребенком, детьми, а также отсутствие попечения над ними | F43: Очно | H43: Удовлетворенность получателей социальных услуг в оказанных социальных услугах | I43: Процент | J43: 100 | K43: 100 | L43: 100 | M43: 5
A44: 280000000120003330522045001101200001002100101 | B44: Предоставление социального обслуживания в стационарной форме | C44: Предоставление социально-бытовых услуг | D44: Гражданин при отсутствии возможности обеспечения ухода (в том числе временного) за инвалидом, ребенком, детьми, а также отсутствие попечения над ними | F44: Очно | H44: Укомплектование организации специалистами, оказывающими социальные услуги | I44: Процент | J44: 100 | K44: 100 | L44: 100 | M44: 5
A45: 280000000120003330522045001101200001002100101 | B45: Предоставление социального обслуживания в стационарной форме | C45: Предоставление социально-бытовых услуг | D45: Гражданин при отсутствии возможности обеспечения ухода (в том числе временного) за инвалидом, ребенком, детьми, а также отсутствие попечения над ними | F45: Очно | H45: Повышение качества социальных услуг и эффективности их оказания (определяется исходя из мероприятий, направленных на совершенствование деятельности организации при предоставлении социального обслуживания) | I45: Процент | J45: 100 | K45: 100 | L45: 100 | M45: 5
A46: 280000000120003330522045001101200001002100101 | B46: Предоставление социального обслуживания в стационарной форме | C46: Предоставление социально-бытовых услуг | D46: Гражданин при отсутствии возможности обеспечения ухода (в том числе временного) за инвалидом, ребенком, детьми, а также отсутствие попечения над ними | F46: Очно | H46: Доступность получения социальных услуг в организации (возможность сопровождения получателя социальных услуг при передвижении по территории учреждения социального обслуживания, а также при пользовании услугами; возможность для самостоятельного передвижения по территории учреждения социального обслуживания, входа, выхода и перемещения внутри такой организации (в том числе для передвижения в креслах-колясках), для отдыха в сидячем положении, а также доступное размещение оборудования и носителей информации; дублирование текстовых сообщений голосовыми сообщениями, оснащение учреждения социального обслуживания знаками, выполненными рельефно-точечным шрифтом Брайля, ознакомление с их помощью с надписями, знаками и иной текстовой и графической информацией на территории учреждения; дублирование голосовой информации текстовой информацией, надписями и (или) световыми сигналами, информирование о предоставляемых социальных услугах с использованием русского жестового языка (сурдоперевода); оказание иных видов посторонней помощи | I46: Процент | J46: 0 | K46: 0 | L46: 0 | M46: 5
A47: 280000000120003330522045001201200001001100101 | B47: Предоставление социального обслуживания в стационарной форме | C47: Предоставление социально-медицинских услуг | D47: Гражданин при отсутствии возможности обеспечения ухода (в том числе временного) за инвалидом, ребенком, детьми, а также отсутствие попечения над ними | F47: Очно | H47: Доля получателей социальных услуг, получающих социальные услуги от общего числа получателей социальных услуг, находящихся на социальном обслуживании в организации | I47: Процент | J47: =Part1_1!K15/40*100 -> 12.5 | K47: =J47 -> 12.5 | L47: =J47 -> 12.5 | M47: 5
A48: 280000000120003330522045001201200001001100101 | B48: Предоставление социального обслуживания в стационарной форме | C48: Предоставление социально-медицинских услуг | D48: Гражданин при отсутствии возможности обеспечения ухода (в том числе временного) за инвалидом, ребенком, детьми, а также отсутствие попечения над ними | F48: Очно | H48: Количество нарушений санитарного законодательства в отчетном году, выявленных при проведении проверок | I48: Процент | J48: 0 | K48: 0 | L48: 0 | M48: 5
A49: 280000000120003330522045001201200001001100101 | B49: Предоставление социального обслуживания в стационарной форме | C49: Предоставление социально-медицинских услуг | D49: Гражданин при отсутствии возможности обеспечения ухода (в том числе временного) за инвалидом, ребенком, детьми, а также отсутствие попечения над ними | F49: Очно | H49: Удовлетворенность получателей социальных услуг в оказанных социальных услугах | I49: Процент | J49: 100 | K49: 100 | L49: 100 | M49: 5
A50: 280000000120003330522045001201200001001100101 | B50: Предоставление социального обслуживания в стационарной форме | C50: Предоставление социально-медицинских услуг | D50: Гражданин при отсутствии возможности обеспечения ухода (в том числе временного) за инвалидом, ребенком, детьми, а также отсутствие попечения над ними | F50: Очно | H50: Укомплектование организации специалистами, оказывающими социальные услуги | I50: Процент | J50: 100 | K50: 100 | L50: 100 | M50: 5
A51: 280000000120003330522045001201200001001100101 | B51: Предоставление социального обслуживания в стационарной форме | C51: Предоставление социально-медицинских услуг | D51: Гражданин при отсутствии возможности обеспечения ухода (в том числе временного) за инвалидом, ребенком, детьми, а также отсутствие попечения над ними | F51: Очно | H51: Повышение качества социальных услуг и эффективности их оказания (определяется исходя из мероприятий, направленных на совершенствование деятельности организации при предоставлении социального обслуживания) | I51: Процент | J51: 100 | K51: 100 | L51: 100 | M51: 5
A52: 280000000120003330522045001201200001001100101 | B52: Предоставление социального обслуживания в стационарной форме | C52: Предоставление социально-медицинских услуг | D52: Гражданин при отсутствии возможности обеспечения ухода (в том числе временного) за инвалидом, ребенком, детьми, а также отсутствие попечения над ними | F52: Очно | H52: Доступность получения социальных услуг в организации (возможность сопровождения получателя социальных услуг при передвижении по территории учреждения социального обслуживания, а также при пользовании услугами; возможность для самостоятельного передвижения по территории учреждения социального обслуживания, входа, выхода и перемещения внутри такой организации (в том числе для передвижения в креслах-колясках), для отдыха в сидячем положении, а также доступное размещение оборудования и носителей информации; дублирование текстовых сообщений голосовыми сообщениями, оснащение учреждения социального обслуживания знаками, выполненными рельефно-точечным шрифтом Брайля, ознакомление с их помощью с надписями, знаками и иной текстовой и графической информацией на территории учреждения; дублирование голосовой информации текстовой информацией, надписями и (или) световыми сигналами, информирование о предоставляемых социальных услугах с использованием русского жестового языка (сурдоперевода); оказание иных видов посторонней помощи | I52: Процент | J52: 0 | K52: 0 | L52: 0 | M52: 5
A53: 280000000120003330522045001301200001000100101 | B53: Предоставление социального обслуживания в стационарной форме | C53: Предоставление социально-психологических услуг | D53: Гражданин при отсутствии возможности обеспечения ухода (в том числе временного) за инвалидом, ребенком, детьми, а также отсутствие попечения над ними | F53: Очно | H53: Доля получателей социальных услуг, получающих социальные услуги от общего числа получателей социальных услуг, находящихся на социальном обслуживании в организации | I53: Процент | J53: =Part1_1!K16/40*100 -> 12.5 | K53: =J53 -> 12.5 | L53: =J53 -> 12.5 | M53: 5
A54: 280000000120003330522045001301200001000100101 | B54: Предоставление социального обслуживания в стационарной форме | C54: Предоставление социально-психологических услуг | D54: Гражданин при отсутствии возможности обеспечения ухода (в том числе временного) за инвалидом, ребенком, детьми, а также отсутствие попечения над ними | F54: Очно | H54: Количество нарушений санитарного законодательства в отчетном году, выявленных при проведении проверок | I54: Процент | J54: 0 | K54: 0 | L54: 0 | M54: 5
A55: 280000000120003330522045001301200001000100101 | B55: Предоставление социального обслуживания в стационарной форме | C55: Предоставление социально-психологических услуг | D55: Гражданин при отсутствии возможности обеспечения ухода (в том числе временного) за инвалидом, ребенком, детьми, а также отсутствие попечения над ними | F55: Очно | H55: Удовлетворенность получателей социальных услуг в оказанных социальных услугах | I55: Процент | J55: 100 | K55: 100 | L55: 100 | M55: 5
A56: 280000000120003330522045001301200001000100101 | B56: Предоставление социального обслуживания в стационарной форме | C56: Предоставление социально-психологических услуг | D56: Гражданин при отсутствии возможности обеспечения ухода (в том числе временного) за инвалидом, ребенком, детьми, а также отсутствие попечения над ними | F56: Очно | H56: Укомплектование организации специалистами, оказывающими социальные услуги | I56: Процент | J56: 100 | K56: 100 | L56: 100 | M56: 5
A57: 280000000120003330522045001301200001000100101 | B57: Предоставление социального обслуживания в стационарной форме | C57: Предоставление социально-психологических услуг | D57: Гражданин при отсутствии возможности обеспечения ухода (в том числе временного) за инвалидом, ребенком, детьми, а также отсутствие попечения над ними | F57: Очно | H57: Повышение качества социальных услуг и эффективности их оказания (определяется исходя из мероприятий, направленных на совершенствование деятельности организации при предоставлении социального обслуживания) | I57: Процент | J57: 100 | K57: 100 | L57: 100 | M57: 5
A58: 280000000120003330522045001301200001000100101 | B58: Предоставление социального обслуживания в стационарной форме | C58: Предоставление социально-психологических услуг | D58: Гражданин при отсутствии возможности обеспечения ухода (в том числе временного) за инвалидом, ребенком, детьми, а также отсутствие попечения над ними | F58: Очно | H58: Доступность получения социальных услуг в организации (возможность сопровождения получателя социальных услуг при передвижении по территории учреждения социального обслуживания, а также при пользовании услугами; возможность для самостоятельного передвижения по территории учреждения социального обслуживания, входа, выхода и перемещения внутри такой организации (в том числе для передвижения в креслах-колясках), для отдыха в сидячем положении, а также доступное размещение оборудования и носителей информации; дублирование текстовых сообщений голосовыми сообщениями, оснащение учреждения социального обслуживания знаками, выполненными рельефно-точечным шрифтом Брайля, ознакомление с их помощью с надписями, знаками и иной текстовой и графической информацией на территории учреждения; дублирование голосовой информации текстовой информацией, надписями и (или) световыми сигналами, информирование о предоставляемых социальных услугах с использованием русского жестового языка (сурдоперевода); оказание иных видов посторонней помощи | I58: Процент | J58: 0 | K58: 0 | L58: 0 | M58: 5
A59: 280000000120003330522045001401200001009100101 | B59: Предоставление социального обслуживания в стационарной форме | C59: Предоставление социально-педагогических услуг | D59: Гражданин при отсутствии возможности обеспечения ухода (в том числе временного) за инвалидом, ребенком, детьми, а также отсутствие попечения над ними | F59: Очно | H59: Доля получателей социальных услуг, получающих социальные услуги от общего числа получателей социальных услуг, находящихся на социальном обслуживании в организации | I59: Процент | J59: =Part1_1!K17/40*100 -> 12.5 | K59: =J59 -> 12.5 | L59: =J59 -> 12.5 | M59: 5
A60: 280000000120003330522045001401200001009100101 | B60: Предоставление социального обслуживания в стационарной форме | C60: Предоставление социально-педагогических услуг | D60: Гражданин при отсутствии возможности обеспечения ухода (в том числе временного) за инвалидом, ребенком, детьми, а также отсутствие попечения над ними | F60: Очно | H60: Количество нарушений санитарного законодательства в отчетном году, выявленных при проведении проверок | I60: Процент | J60: 0 | K60: 0 | L60: 0 | M60: 5
A61: 280000000120003330522045001401200001009100101 | B61: Предоставление социального обслуживания в стационарной форме | C61: Предоставление социально-педагогических услуг | D61: Гражданин при отсутствии возможности обеспечения ухода (в том числе временного) за инвалидом, ребенком, детьми, а также отсутствие попечения над ними | F61: Очно | H61: Удовлетворенность получателей социальных услуг в оказанных социальных услугах | I61: Процент | J61: 100 | K61: 100 | L61: 100 | M61: 5
A62: 280000000120003330522045001401200001009100101 | B62: Предоставление социального обслуживания в стационарной форме | C62: Предоставление социально-педагогических услуг | D62: Гражданин при отсутствии возможности обеспечения ухода (в том числе временного) за инвалидом, ребенком, детьми, а также отсутствие попечения над ними | F62: Очно | H62: Укомплектование организации специалистами, оказывающими социальные услуги | I62: Процент | J62: 100 | K62: 100 | L62: 100 | M62: 5
A63: 280000000120003330522045001401200001009100101 | B63: Предоставление социального обслуживания в стационарной форме | C63: Предоставление социально-педагогических услуг | D63: Гражданин при отсутствии возможности обеспечения ухода (в том числе временного) за инвалидом, ребенком, детьми, а также отсутствие попечения над ними | F63: Очно | H63: Повышение качества социальных услуг и эффективности их оказания (определяется исходя из мероприятий, направленных на совершенствование деятельности организации при предоставлении социального обслуживания) | I63: Процент | J63: 100 | K63: 100 | L63: 100 | M63: 5
A64: 280000000120003330522045001401200001009100101 | B64: Предоставление социального обслуживания в стационарной форме | C64: Предоставление социально-педагогических услуг | D64: Гражданин при отсутствии возможности обеспечения ухода (в том числе временного) за инвалидом, ребенком, детьми, а также отсутствие попечения над ними | F64: Очно | H64: Доступность получения социальных услуг в организации (возможность сопровождения получателя социальных услуг при передвижении по территории учреждения социального обслуживания, а также при пользовании услугами; возможность для самостоятельного передвижения по территории учреждения социального обслуживания, входа, выхода и перемещения внутри такой организации (в том числе для передвижения в креслах-колясках), для отдыха в сидячем положении, а также доступное размещение оборудования и носителей информации; дублирование текстовых сообщений голосовыми сообщениями, оснащение учреждения социального обслуживания знаками, выполненными рельефно-точечным шрифтом Брайля, ознакомление с их помощью с надписями, знаками и иной текстовой и графической информацией на территории учреждения; дублирование голосовой информации текстовой информацией, надписями и (или) световыми сигналами, информирование о предоставляемых социальных услугах с использованием русского жестового языка (сурдоперевода); оказание иных видов посторонней помощи | I64: Процент | J64: 0 | K64: 0 | L64: 0 | M64: 5
A65: 280000000120003330522045001501200001008100101 | B65: Предоставление социального обслуживания в стационарной форме | C65: Предоставление социально- трудовых услуг | D65: Гражданин при отсутствии возможности обеспечения ухода (в том числе временного) за инвалидом, ребенком, детьми, а также отсутствие попечения над ними | F65: Очно | H65: Доля получателей социальных услуг, получающих социальные услуги от общего числа получателей социальных услуг, находящихся на социальном обслуживании в организации | I65: Процент | J65: =Part1_1!K18/40*100 -> 12.5 | K65: =J65 -> 12.5 | L65: =J65 -> 12.5 | M65: 5
A66: 280000000120003330522045001501200001008100101 | B66: Предоставление социального обслуживания в стационарной форме | C66: Предоставление социально- трудовых услуг | D66: Гражданин при отсутствии возможности обеспечения ухода (в том числе временного) за инвалидом, ребенком, детьми, а также отсутствие попечения над ними | F66: Очно | H66: Количество нарушений санитарного законодательства в отчетном году, выявленных при проведении проверок | I66: Процент | J66: 0 | K66: 0 | L66: 0 | M66: 5
A67: 280000000120003330522045001501200001008100101 | B67: Предоставление социального обслуживания в стационарной форме | C67: Предоставление социально- трудовых услуг | D67: Гражданин при отсутствии возможности обеспечения ухода (в том числе временного) за инвалидом, ребенком, детьми, а также отсутствие попечения над ними | F67: Очно | H67: Удовлетворенность получателей социальных услуг в оказанных социальных услугах | I67: Процент | J67: 100 | K67: 100 | L67: 100 | M67: 5
A68: 280000000120003330522045001501200001008100101 | B68: Предоставление социального обслуживания в стационарной форме | C68: Предоставление социально- трудовых услуг | D68: Гражданин при отсутствии возможности обеспечения ухода (в том числе временного) за инвалидом, ребенком, детьми, а также отсутствие попечения над ними | F68: Очно | H68: Укомплектование организации специалистами, оказывающими социальные услуги | I68: Процент | J68: 100 | K68: 100 | L68: 100 | M68: 5
A69: 280000000120003330522045001501200001008100101 | B69: Предоставление социального обслуживания в стационарной форме | C69: Предоставление социально- трудовых услуг | D69: Гражданин при отсутствии возможности обеспечения ухода (в том числе временного) за инвалидом, ребенком, детьми, а также отсутствие попечения над ними | F69: Очно | H69: Повышение качества социальных услуг и эффективности их оказания (определяется исходя из мероприятий, направленных на совершенствование деятельности организации при предоставлении социального обслуживания) | I69: Процент | J69: 100 | K69: 100 | L69: 100 | M69: 5
A70: 280000000120003330522045001501200001008100101 | B70: Предоставление социального обслуживания в стационарной форме | C70: Предоставление социально- трудовых услуг | D70: Гражданин при отсутствии возможности обеспечения ухода (в том числе временного) за инвалидом, ребенком, детьми, а также отсутствие попечения над ними | F70: Очно | H70: Доступность получения социальных услуг в организации (возможность сопровождения получателя социальных услуг при передвижении по территории учреждения социального обслуживания, а также при пользовании услугами; возможность для самостоятельного передвижения по территории учреждения социального обслуживания, входа, выхода и перемещения внутри такой организации (в том числе для передвижения в креслах-колясках), для отдыха в сидячем положении, а также доступное размещение оборудования и носителей информации; дублирование текстовых сообщений голосовыми сообщениями, оснащение учреждения социального обслуживания знаками, выполненными рельефно-точечным шрифтом Брайля, ознакомление с их помощью с надписями, знаками и иной текстовой и графической информацией на территории учреждения; дублирование голосовой информации текстовой информацией, надписями и (или) световыми сигналами, информирование о предоставляемых социальных услугах с использованием русского жестового языка (сурдоперевода); оказание иных видов посторонней помощи | I70: Процент | J70: 0 | K70: 0 | L70: 0 | M70: 5
A71: 280000000120003330522045001601200001007100101 | B71: Предоставление социального обслуживания в стационарной форме | C71: Предоставление социально- правовых услуг | D71: Гражданин при отсутствии возможности обеспечения ухода (в том числе временного) за инвалидом, ребенком, детьми, а также отсутствие попечения над ними | F71: Очно | H71: Доля получателей социальных услуг, получающих социальные услуги от общего числа получателей социальных услуг, находящихся на социальном обслуживании в организации | I71: Процент | J71: =Part1_1!K19/40*100 -> 12.5 | K71: =J71 -> 12.5 | L71: =J71 -> 12.5 | M71: 5
A72: 280000000120003330522045001601200001007100101 | B72: Предоставление социального обслуживания в стационарной форме | C72: Предоставление социально- правовых услуг | D72: Гражданин при отсутствии возможности обеспечения ухода (в том числе временного) за инвалидом, ребенком, детьми, а также отсутствие попечения над ними | F72: Очно | H72: Количество нарушений санитарного законодательства в отчетном году, выявленных при проведении проверок | I72: Процент | J72: 0 | K72: 0 | L72: 0 | M72: 5
A73: 280000000120003330522045001601200001007100101 | B73: Предоставление социального обслуживания в стационарной форме | C73: Предоставление социально- правовых услуг | D73: Гражданин при отсутствии возможности обеспечения ухода (в том числе временного) за инвалидом, ребенком, детьми, а также отсутствие попечения над ними | F73: Очно | H73: Удовлетворенность получателей социальных услуг в оказанных социальных услугах | I73: Процент | J73: 100 | K73: 100 | L73: 100 | M73: 5
A74: 280000000120003330522045001601200001007100101 | B74: Предоставление социального обслуживания в стационарной форме | C74: Предоставление социально- правовых услуг | D74: Гражданин при отсутствии возможности обеспечения ухода (в том числе временного) за инвалидом, ребенком, детьми, а также отсутствие попечения над ними | F74: Очно | H74: Укомплектование организации специалистами, оказывающими социальные услуги | I74: Процент | J74: 100 | K74: 100 | L74: 100 | M74: 5
A75: 280000000120003330522045001601200001007100101 | B75: Предоставление социального обслуживания в стационарной форме | C75: Предоставление социально- правовых услуг | D75: Гражданин при отсутствии возможности обеспечения ухода (в том числе временного) за инвалидом, ребенком, детьми, а также отсутствие попечения над ними | F75: Очно | H75: Повышение качества социальных услуг и эффективности их оказания (определяется исходя из мероприятий, направленных на совершенствование деятельности организации при предоставлении социального обслуживания) | I75: Процент | J75: 100 | K75: 100 | L75: 100 | M75: 5
A76: 280000000120003330522045001601200001007100101 | B76: Предоставление социального обслуживания в стационарной форме | C76: Предоставление социально- правовых услуг | D76: Гражданин при отсутствии возможности обеспечения ухода (в том числе временного) за инвалидом, ребенком, детьми, а также отсутствие попечения над ними | F76: Очно | H76: Доступность получения социальных услуг в организации (возможность сопровождения получателя социальных услуг при передвижении по территории учреждения социального обслуживания, а также при пользовании услугами; возможность для самостоятельного передвижения по территории учреждения социального обслуживания, входа, выхода и перемещения внутри такой организации (в том числе для передвижения в креслах-колясках), для отдыха в сидячем положении, а также доступное размещение оборудования и носителей информации; дублирование текстовых сообщений голосовыми сообщениями, оснащение учреждения социального обслуживания знаками, выполненными рельефно-точечным шрифтом Брайля, ознакомление с их помощью с надписями, знаками и иной текстовой и графической информацией на территории учреждения; дублирование голосовой информации текстовой информацией, надписями и (или) световыми сигналами, информирование о предоставляемых социальных услугах с использованием русского жестового языка (сурдоперевода); оказание иных видов посторонней помощи | I76: Процент | J76: 0 | K76: 0 | L76: 0 | M76: 5
A77: 280000000120003330522045001101600001003100101 | B77: Предоставление социального обслуживания в стационарной форме | C77: Предоставление социально-бытовых услуг | D77: Гражданин при наличии внутрисемейного конфликта, в том числе с лицами с наркотической или алкогольной зависимостью, лицами, имеющими пристрастие к азартным играм, лицами, страдающими психическими расстройствами, наличие насилия в семье | F77: Очно | H77: Доля получателей социальных услуг, получающих социальные услуги от общего числа получателей социальных услуг, находящихся на социальном обслуживании в организации | I77: Процент | J77: =Part1_1!K20/40*100 -> 7.5 | K77: =J77 -> 7.5 | L77: =J77 -> 7.5 | M77: 5
A78: 280000000120003330522045001101600001003100101 | B78: Предоставление социального обслуживания в стационарной форме | C78: Предоставление социально-бытовых услуг | D78: Гражданин при наличии внутрисемейного конфликта, в том числе с лицами с наркотической или алкогольной зависимостью, лицами, имеющими пристрастие к азартным играм, лицами, страдающими психическими расстройствами, наличие насилия в семье | F78: Очно | H78: Количество нарушений санитарного законодательства в отчетном году, выявленных при проведении проверок | I78: Процент | J78: 0 | K78: 0 | L78: 0 | M78: 5
A79: 280000000120003330522045001101600001003100101 | B79: Предоставление социального обслуживания в стационарной форме | C79: Предоставление социально-бытовых услуг | D79: Гражданин при наличии внутрисемейного конфликта, в том числе с лицами с наркотической или алкогольной зависимостью, лицами, имеющими пристрастие к азартным играм, лицами, страдающими психическими расстройствами, наличие насилия в семье | F79: Очно | H79: Удовлетворенность получателей социальных услуг в оказанных социальных услугах | I79: Процент | J79: 100 | K79: 100 | L79: 100 | M79: 5
A80: 280000000120003330522045001101600001003100101 | B80: Предоставление социального обслуживания в стационарной форме | C80: Предоставление социально-бытовых услуг | D80: Гражданин при наличии внутрисемейного конфликта, в том числе с лицами с наркотической или алкогольной зависимостью, лицами, имеющими пристрастие к азартным играм, лицами, страдающими психическими расстройствами, наличие насилия в семье | F80: Очно | H80: Укомплектование организации специалистами, оказывающими социальные услуги | I80: Процент | J80: 100 | K80: 100 | L80: 100 | M80: 5
A81: 280000000120003330522045001101600001003100101 | B81: Предоставление социального обслуживания в стационарной форме | C81: Предоставление социально-бытовых услуг | D81: Гражданин при наличии внутрисемейного конфликта, в том числе с лицами с наркотической или алкогольной зависимостью, лицами, имеющими пристрастие к азартным играм, лицами, страдающими психическими расстройствами, наличие насилия в семье | F81: Очно | H81: Повышение качества социальных услуг и эффективности их оказания (определяется исходя из мероприятий, направленных на совершенствование деятельности организации при предоставлении социального обслуживания) | I81: Процент | J81: 100 | K81: 100 | L81: 100 | M81: 5
A82: 280000000120003330522045001101600001003100101 | B82: Предоставление социального обслуживания в стационарной форме | C82: Предоставление социально-бытовых услуг | D82: Гражданин при наличии внутрисемейного конфликта, в том числе с лицами с наркотической или алкогольной зависимостью, лицами, имеющими пристрастие к азартным играм, лицами, страдающими психическими расстройствами, наличие насилия в семье | F82: Очно | H82: Доступность получения социальных услуг в организации (возможность сопровождения получателя социальных услуг при передвижении по территории учреждения социального обслуживания, а также при пользовании услугами; возможность для самостоятельного передвижения по территории учреждения социального обслуживания, входа, выхода и перемещения внутри такой организации (в том числе для передвижения в креслах-колясках), для отдыха в сидячем положении, а также доступное размещение оборудования и носителей информации; дублирование текстовых сообщений голосовыми сообщениями, оснащение учреждения социального обслуживания знаками, выполненными рельефно-точечным шрифтом Брайля, ознакомление с их помощью с надписями, знаками и иной текстовой и графической информацией на территории учреждения; дублирование голосовой информации текстовой информацией, надписями и (или) световыми сигналами, информирование о предоставляемых социальных услугах с использованием русского жестового языка (сурдоперевода); оказание иных видов посторонней помощи | I82: Процент | J82: 0 | K82: 0 | L82: 0 | M82: 5
A83: 280000000120003330522045001201600001002100101 | B83: Предоставление социального обслуживания в стационарной форме | C83: Предоставление социально-медицинских услуг | D83: Гражданин при наличии внутрисемейного конфликта, в том числе с лицами с наркотической или алкогольной зависимостью, лицами, имеющими пристрастие к азартным играм, лицами, страдающими психическими расстройствами, наличие насилия в семье | F83: Очно | H83: Доля получателей социальных услуг, получающих социальные услуги от общего числа получателей социальных услуг, находящихся на социальном обслуживании в организации | I83: Процент | J83: =Part1_1!K21/40*100 -> 7.5 | K83: =J83 -> 7.5 | L83: =J83 -> 7.5 | M83: 5
A84: 280000000120003330522045001201600001002100101 | B84: Предоставление социального обслуживания в стационарной форме | C84: Предоставление социально-медицинских услуг | D84: Гражданин при наличии внутрисемейного конфликта, в том числе с лицами с наркотической или алкогольной зависимостью, лицами, имеющими пристрастие к азартным играм, лицами, страдающими психическими расстройствами, наличие насилия в семье | F84: Очно | H84: Количество нарушений санитарного законодательства в отчетном году, выявленных при проведении проверок | I84: Процент | J84: 0 | K84: 0 | L84: 0 | M84: 5
A85: 280000000120003330522045001201600001002100101 | B85: Предоставление социального обслуживания в стационарной форме | C85: Предоставление социально-медицинских услуг | D85: Гражданин при наличии внутрисемейного конфликта, в том числе с лицами с наркотической или алкогольной зависимостью, лицами, имеющими пристрастие к азартным играм, лицами, страдающими психическими расстройствами, наличие насилия в семье | F85: Очно | H85: Удовлетворенность получателей социальных услуг в оказанных социальных услугах | I85: Процент | J85: 100 | K85: 100 | L85: 100 | M85: 5
A86: 280000000120003330522045001201600001002100101 | B86: Предоставление социального обслуживания в стационарной форме | C86: Предоставление социально-медицинских услуг | D86: Гражданин при наличии внутрисемейного конфликта, в том числе с лицами с наркотической или алкогольной зависимостью, лицами, имеющими пристрастие к азартным играм, лицами, страдающими психическими расстройствами, наличие насилия в семье | F86: Очно | H86: Укомплектование организации специалистами, оказывающими социальные услуги | I86: Процент | J86: 100 | K86: 100 | L86: 100 | M86: 5
A87: 280000000120003330522045001201600001002100101 | B87: Предоставление социального обслуживания в стационарной форме | C87: Предоставление социально-медицинских услуг | D87: Гражданин при наличии внутрисемейного конфликта, в том числе с лицами с наркотической или алкогольной зависимостью, лицами, имеющими пристрастие к азартным играм, лицами, страдающими психическими расстройствами, наличие насилия в семье | F87: Очно | H87: Повышение качества социальных услуг и эффективности их оказания (определяется исходя из мероприятий, направленных на совершенствование деятельности организации при предоставлении социального обслуживания) | I87: Процент | J87: 100 | K87: 100 | L87: 100 | M87: 5
A88: 280000000120003330522045001201600001002100101 | B88: Предоставление социального обслуживания в стационарной форме | C88: Предоставление социально-медицинских услуг | D88: Гражданин при наличии внутрисемейного конфликта, в том числе с лицами с наркотической или алкогольной зависимостью, лицами, имеющими пристрастие к азартным играм, лицами, страдающими психическими расстройствами, наличие насилия в семье | F88: Очно | H88: Доступность получения социальных услуг в организации (возможность сопровождения получателя социальных услуг при передвижении по территории учреждения социального обслуживания, а также при пользовании услугами; возможность для самостоятельного передвижения по территории учреждения социального обслуживания, входа, выхода и перемещения внутри такой организации (в том числе для передвижения в креслах-колясках), для отдыха в сидячем положении, а также доступное размещение оборудования и носителей информации; дублирование текстовых сообщений голосовыми сообщениями, оснащение учреждения социального обслуживания знаками, выполненными рельефно-точечным шрифтом Брайля, ознакомление с их помощью с надписями, знаками и иной текстовой и графической информацией на территории учреждения; дублирование голосовой информации текстовой информацией, надписями и (или) световыми сигналами, информирование о предоставляемых социальных услугах с использованием русского жестового языка (сурдоперевода); оказание иных видов посторонней помощи | I88: Процент | J88: 0 | K88: 0 | L88: 0 | M88: 5
A89: 280000000120003330522045001301600001001100101 | B89: Предоставление социального обслуживания в стационарной форме | C89: Предоставление социально-психологических услуг | D89: Гражданин при наличии внутрисемейного конфликта, в том числе с лицами с наркотической или алкогольной зависимостью, лицами, имеющими пристрастие к азартным играм, лицами, страдающими психическими расстройствами, наличие насилия в семье | F89: Очно | H89: Доля получателей социальных услуг, получающих социальные услуги от общего числа получателей социальных услуг, находящихся на социальном обслуживании в организации | I89: Процент | J89: =Part1_1!K22/40*100 -> 7.5 | K89: =J89 -> 7.5 | L89: =J89 -> 7.5 | M89: 5
A90: 280000000120003330522045001301600001001100101 | B90: Предоставление социального обслуживания в стационарной форме | C90: Предоставление социально-психологических услуг | D90: Гражданин при наличии внутрисемейного конфликта, в том числе с лицами с наркотической или алкогольной зависимостью, лицами, имеющими пристрастие к азартным играм, лицами, страдающими психическими расстройствами, наличие насилия в семье | F90: Очно | H90: Количество нарушений санитарного законодательства в отчетном году, выявленных при проведении проверок | I90: Процент | J90: 0 | K90: 0 | L90: 0 | M90: 5
A91: 280000000120003330522045001301600001001100101 | B91: Предоставление социального обслуживания в стационарной форме | C91: Предоставление социально-психологических услуг | D91: Гражданин при наличии внутрисемейного конфликта, в том числе с лицами с наркотической или алкогольной зависимостью, лицами, имеющими пристрастие к азартным играм, лицами, страдающими психическими расстройствами, наличие насилия в семье | F91: Очно | H91: Удовлетворенность получателей социальных услуг в оказанных социальных услугах | I91: Процент | J91: 100 | K91: 100 | L91: 100 | M91: 5
A92: 280000000120003330522045001301600001001100101 | B92: Предоставление социального обслуживания в стационарной форме | C92: Предоставление социально-психологических услуг | D92: Гражданин при наличии внутрисемейного конфликта, в том числе с лицами с наркотической или алкогольной зависимостью, лицами, имеющими пристрастие к азартным играм, лицами, страдающими психическими расстройствами, наличие насилия в семье | F92: Очно | H92: Укомплектование организации специалистами, оказывающими социальные услуги | I92: Процент | J92: 100 | K92: 100 | L92: 100 | M92: 5
A93: 280000000120003330522045001301600001001100101 | B93: Предоставление социального обслуживания в стационарной форме | C93: Предоставление социально-психологических услуг | D93: Гражданин при наличии внутрисемейного конфликта, в том числе с лицами с наркотической или алкогольной зависимостью, лицами, имеющими пристрастие к азартным играм, лицами, страдающими психическими расстройствами, наличие насилия в семье | F93: Очно | H93: Повышение качества социальных услуг и эффективности их оказания (определяется исходя из мероприятий, направленных на совершенствование деятельности организации при предоставлении социального обслуживания) | I93: Процент | J93: 100 | K93: 100 | L93: 100 | M93: 5
A94: 280000000120003330522045001301600001001100101 | B94: Предоставление социального обслуживания в стационарной форме | C94: Предоставление социально-психологических услуг | D94: Гражданин при наличии внутрисемейного конфликта, в том числе с лицами с наркотической или алкогольной зависимостью, лицами, имеющими пристрастие к азартным играм, лицами, страдающими психическими расстройствами, наличие насилия в семье | F94: Очно | H94: Доступность получения социальных услуг в организации (возможность сопровождения получателя социальных услуг при передвижении по территории учреждения социального обслуживания, а также при пользовании услугами; возможность для самостоятельного передвижения по территории учреждения социального обслуживания, входа, выхода и перемещения внутри такой организации (в том числе для передвижения в креслах-колясках), для отдыха в сидячем положении, а также доступное размещение оборудования и носителей информации; дублирование текстовых сообщений голосовыми сообщениями, оснащение учреждения социального обслуживания знаками, выполненными рельефно-точечным шрифтом Брайля, ознакомление с их помощью с надписями, знаками и иной текстовой и графической информацией на территории учреждения; дублирование голосовой информации текстовой информацией, надписями и (или) световыми сигналами, информирование о предоставляемых социальных услугах с использованием русского жестового языка (сурдоперевода); оказание иных видов посторонней помощи | I94: Процент | J94: 0 | K94: 0 | L94: 0 | M94: 5
A95: 280000000120003330522045001401600001000100101 | B95: Предоставление социального обслуживания в стационарной форме | C95: Предоставление социально-педагогических услуг | D95: Гражданин при наличии внутрисемейного конфликта, в том числе с лицами с наркотической или алкогольной зависимостью, лицами, имеющими пристрастие к азартным играм, лицами, страдающими психическими расстройствами, наличие насилия в семье | F95: Очно | H95: Доля получателей социальных услуг, получающих социальные услуги от общего числа получателей социальных услуг, находящихся на социальном обслуживании в организации | I95: Процент | J95: =Part1_1!K23/40*100 -> 7.5 | K95: 100 | L95: 100 | M95: 5
A96: 280000000120003330522045001401600001000100101 | B96: Предоставление социального обслуживания в стационарной форме | C96: Предоставление социально-педагогических услуг | D96: Гражданин при наличии внутрисемейного конфликта, в том числе с лицами с наркотической или алкогольной зависимостью, лицами, имеющими пристрастие к азартным играм, лицами, страдающими психическими расстройствами, наличие насилия в семье | F96: Очно | H96: Количество нарушений санитарного законодательства в отчетном году, выявленных при проведении проверок | I96: Процент | J96: 0 | K96: 0 | L96: 0 | M96: 5
A97: 280000000120003330522045001401600001000100101 | B97: Предоставление социального обслуживания в стационарной форме | C97: Предоставление социально-педагогических услуг | D97: Гражданин при наличии внутрисемейного конфликта, в том числе с лицами с наркотической или алкогольной зависимостью, лицами, имеющими пристрастие к азартным играм, лицами, страдающими психическими расстройствами, наличие насилия в семье | F97: Очно | H97: Удовлетворенность получателей социальных услуг в оказанных социальных услугах | I97: Процент | J97: 100 | K97: 100 | L97: 100 | M97: 5
A98: 280000000120003330522045001401600001000100101 | B98: Предоставление социального обслуживания в стационарной форме | C98: Предоставление социально-педагогических услуг | D98: Гражданин при наличии внутрисемейного конфликта, в том числе с лицами с наркотической или алкогольной зависимостью, лицами, имеющими пристрастие к азартным играм, лицами, страдающими психическими расстройствами, наличие насилия в семье | F98: Очно | H98: Укомплектование организации специалистами, оказывающими социальные услуги | I98: Процент | J98: 100 | K98: 100 | L98: 100 | M98: 5
A99: 280000000120003330522045001401600001000100101 | B99: Предоставление социального обслуживания в стационарной форме | C99: Предоставление социально-педагогических услуг | D99: Гражданин при наличии внутрисемейного конфликта, в том числе с лицами с наркотической или алкогольной зависимостью, лицами, имеющими пристрастие к азартным играм, лицами, страдающими психическими расстройствами, наличие насилия в семье | F99: Очно | H99: Повышение качества социальных услуг и эффективности их оказания (определяется исходя из мероприятий, направленных на совершенствование деятельности организации при предоставлении социального обслуживания) | I99: Процент | J99: 100 | K99: 100 | L99: 100 | M99: 5
A100: 280000000120003330522045001401600001000100101 | B100: Предоставление социального обслуживания в стационарной форме | C100: Предоставление социально-педагогических услуг | D100: Гражданин при наличии внутрисемейного конфликта, в том числе с лицами с наркотической или алкогольной зависимостью, лицами, имеющими пристрастие к азартным играм, лицами, страдающими психическими расстройствами, наличие насилия в семье | F100: Очно | H100: Доступность получения социальных услуг в организации (возможность сопровождения получателя социальных услуг при передвижении по территории учреждения социального обслуживания, а также при пользовании услугами; возможность для самостоятельного передвижения по территории учреждения социального обслуживания, входа, выхода и перемещения внутри такой организации (в том числе для передвижения в креслах-колясках), для отдыха в сидячем положении, а также доступное размещение оборудования и носителей информации; дублирование текстовых сообщений голосовыми сообщениями, оснащение учреждения социального обслуживания знаками, выполненными рельефно-точечным шрифтом Брайля, ознакомление с их помощью с надписями, знаками и иной текстовой и графической информацией на территории учреждения; дублирование голосовой информации текстовой информацией, надписями и (или) световыми сигналами, информирование о предоставляемых социальных услугах с использованием русского жестового языка (сурдоперевода); оказание иных видов посторонней помощи | I100: Процент | J100: 0 | K100: 0 | L100: 0 | M100: 5
A101: 280000000120003330522047001101100001002100101 | B101: Предоставление социального обслуживания в стационарной форме | C101: Предоставление социально- трудовых услуг | D101: Гражданин при наличии внутрисемейного конфликта, в том числе с лицами с наркотической или алкогольной зависимостью, лицами, имеющими пристрастие к азартным играм, лицами, страдающими психическими расстройствами, наличие насилия в семье | F101: Очно | H101: Доля получателей социальных услуг, получающих социальные услуги от общего числа получателей социальных услуг, находящихся на социальном обслуживании в организации | I101: Процент | J101: =Part1_1!K24/40*100 -> 7.5 | K101: =J101 -> 7.5 | L101: =J101 -> 7.5 | M101: 5
...

Sheet Part2
A2: Часть II. Финансовое обеспечение выполнения государственного задания
A3: № п/п | B3: Наименование параметра расчёта объёма субсидии | C3: Единица измерения | D3: Значение параметров расчёта объёма субсидии | G3: Формула расчета параметра
D4: очередной финансовый (N+1) год | E4: первый (N+2) год планового периода | F4: второй (N+3) год планового периода
A5: 1 | B5: 2 | C5: 3 | D5: 4 | E5: 5 | F5: 6 | G5: 7
A6: 1 | B6: Затраты на оказание услуг (выполнение работ), всего | C6: руб. | D6: =D9+D20+D31+D42+D53+D64+D75+D86+D97+D108+D119+D130+D141+D152+D163+D174+D185+D196+D207+D218+D229+D240+D251+D262+D273+D284+D295+D306+D317+D328+D339 -> 9803614.5 | E6: =E9+E20+E31+E42+E53+E64+E75+E86+E97+E108+E119+E130+E141+E152+E163+E174+E185+E196+E207+E218+E229+E240+E251+E262+E273+E284+E295+E306+E317+E328 -> 7983593.6 | F6: =F9+F20+F31+F42+F53+F64+F75+F86+F97+F108+F119+F130+F141+F152+F163+F174+F185+F196+F207+F218+F229+F240+F251+F262+F273+F284+F295+F306+F317+F328 -> 7983593.6 | G6: 1 = 1.3 + 2.3 + 3.3 + 4.3+5.3+6.3+7.3+8.3 +9.3+10.3+11.3+12.3 +13.3+14.3+15.3+ 16.3+17.3+18.3+19.3+20.3+21.3+22.3+ 23.3+24.3+25.3+26.3+27.3+28.3+29.3+ 30.3
A7: 1.1 | B7: =Part1_1!A8 -> 280000000120003330522045001101500001005100101
A8: 1.2 | B8: Предоставление социального обслуживания в стационарной форме
A9: 1.3. | B9: Затраты на оказание услуги (выполнение работы) | C9: руб. | D9: =D10*D15-D16*D17 -> 714643.9 | E9: =D9 -> 714643.9 | F9: =D9 -> 714643.9 | G9: 1.3 = 1.3.1 x 1.3.2 - 1.3.4 x 1.3.3
A10: 1.3.1 | B10: Нормативные затраты на оказание единицы услуги (выполнение работы) | C10: руб. | D10: =ROUND((D11*(D12/100*D13/100*D14/100)),2) -> 71464.39 | E10: =ROUND((E11*(E12/100*E13/100*E14/100)),2) -> 71464.39 | F10: =ROUND((F11*(F12/100*F13/100*F14/100)),2) -> 71464.39 | G10: 1.3.1 = 1.3.1.1 x 1.3.1.2 x 1.3.1.3 x 1.3.1.4
A11: 1.3.1.1 | B11: Базовый норматив затрат на оказание услуги (выполнение работы) | C11: руб. | D11: 92323.62 | E11: =D11 -> 92323.62 | F11: =D11 -> 92323.62
A12: 1.3.1.2 | B12: Отраслевой корректирующий коэффициент | C12: % | D12: 100 | E12: =D12 -> 100 | F12: =D12 -> 100
A13: 1.3.1.3 | B13: Территориальный корректирующий коэффициент | C13: % | D13: 140.43515 | E13: =D13 -> 140.43515 | F13: =D13 -> 140.43515
A14: 1.3.1.4 | B14: Прочий корректирующий коэффициент | C14: % | D14: 55.118964 | E14: =D14 -> 55.118964 | F14: =D14 -> 55.118964
A15: 1.3.2 | B15: Объем государственной услуги (работы), оказываемой в пределах государственного задания | C15: Человек | D15: =Part1_1!K8 -> 10 | E15: =D15 -> 10 | F15: =D15 -> 10
A16: 1.3.3 | B16: Среднегодовой размер платы за оказание государственной услуги, оказываемой за плату в рамках государственного задания | C16: руб. | D16: 0 | E16: =D16 -> 0 | F16: =E16 -> 0
A17: 1.3.4 | B17: Объем государственной услуги, оказываемой за плату в рамках государственного задания | C17: Человек | D17: =Part1_1!L8 -> 0 | E17: =D17 -> 0 | F17: =D17 -> 0
A18: 2.1 | B18: =Part1_1!A9 -> 280000000120003330522045001201500001004100101
A19: 2.2 | B19: Предоставление социального обслуживания в стационарной форме
A20: 2.3. | B20: Затраты на оказание услуги (выполнение работы) | C20: руб. | D20: =D21*D26-D27*D28 -> 201121.2 | E20: =D20 -> 201121.2 | F20: =D20 -> 201121.2 | G20: 2.3 = 2.3.1 x 2.3.2 - 2.3.4 x 2.3.3
A21: 2.3.1 | B21: Нормативные затраты на оказание единицы услуги (выполнение работы) | C21: руб. | D21: =ROUND((D22*(D23/100*D24/100*D25/100)),2) -> 20112.12 | E21: =ROUND((E22*(E23/100*E24/100*E25/100)),2) -> 20112.12 | F21: =ROUND((F22*(F23/100*F24/100*F25/100)),2) -> 20112.12 | G21: 2.3.1 = 2.3.1.1 x 2.3.1.2 x 2.3.1.3 x 2.3.1.4
A22: 2.3.1.1 | B22: Базовый норматив затрат на оказание услуги (выполнение работы) | C22: руб. | D22: 60339.25 | E22: =D22 -> 60339.25 | F22: =E22 -> 60339.25
A23: 2.3.1.2 | B23: Отраслевой корректирующий коэффициент | C23: % | D23: 100 | E23: =D23 -> 100 | F23: =D23 -> 100
A24: 2.3.1.3 | B24: Территориальный корректирующий коэффициент | C24: % | D24: 36.344819 | E24: =D24 -> 36.344819 | F24: =D24 -> 36.344819
A25: 2.3.1.4 | B25: Прочий корректирующий коэффициент | C25: % | D25: 91.709733 | E25: =D25 -> 91.709733 | F25: =D25 -> 91.709733
A26: 2.3.2 | B26: Объем государственной услуги (работы), оказываемой в пределах государственного задания | C26: Человек | D26: =Part1_1!K9 -> 10 | E26: =D26 -> 10 | F26: =D26 -> 10
A27: 2.3.3 | B27: Среднегодовой размер платы за оказание государственной услуги, оказываемой за плату в рамках государственного задания | C27: руб. | D27: 0 | E27: =D27 -> 0 | F27: =D27 -> 0
A28: 2.3.4 | B28: Объем государственной услуги, оказываемой за плату в рамках государственного задания | C28: Человек | D28: =Part1_1!L9 -> 0 | E28: =D28 -> 0 | F28: =D28 -> 0
A29: 3.1 | B29: =Part1_1!A10 -> 280000000120003330522045001301500001003100101
A30: 3.2 | B30: Предоставление социального обслуживания в стационарной форме
A31: 3.3. | B31: Затраты на оказание услуги (выполнение работы) | C31: руб. | D31: =D32*D37-D38*D39 -> 109503.8 | E31: =D31 -> 109503.8 | F31: =D31 -> 109503.8 | G31: 3.3 = 3.3.1 x 3.3.2 - 3.3.4 x 3.3.3
A32: 3.3.1 | B32: Нормативные затраты на оказание единицы услуги (выполнение работы) | C32: руб. | D32: =ROUND((D33*(D34/100*D35/100*D36/100)),2) -> 10950.38 | E32: =ROUND((E33*(E34/100*E35/100*E36/100)),2) -> 10950.38 | F32: =ROUND((F33*(F34/100*F35/100*F36/100)),2) -> 10950.38 | G32: 3.3.1 = 3.3.1.1 x 3.3.1.2 x 3.3.1.3 x 3.3.1.4
A33: 3.3.1.1 | B33: Базовый норматив затрат на оказание услуги (выполнение работы) | C33: руб. | D33: 4321.67 | E33: =D33 -> 4321.67 | F33: =D33 -> 4321.67
A34: 3.3.1.2 | B34: Отраслевой корректирующий коэффициент | C34: % | D34: 100 | E34: =D34 -> 100 | F34: =D34 -> 100
A35: 3.3.1.3 | B35: Территориальный корректирующий коэффициент | C35: % | D35: 259.86919 | E35: =D35 -> 259.86919 | F35: =D35 -> 259.86919
A36: 3.3.1.4 | B36: Прочий корректирующий коэффициент | C36: % | D36: 97.504083 | E36: =D36 -> 97.504083 | F36: =D36 -> 97.504083
A37: 3.3.2 | B37: Объем государственной услуги (работы), оказываемой в пределах государственного задания | C37: Человек | D37: =Part1_1!K10 -> 10 | E37: =D37 -> 10 | F37: =D37 -> 10
A38: 3.3.3 | B38: Среднегодовой размер платы за оказание государственной услуги, оказываемой за плату в рамках государственного задания | C38: руб. | D38: 0 | E38: =D38 -> 0 | F38: =D38 -> 0
A39: 3.3.4 | B39: Объем государственной услуги, оказываемой за плату в рамках государственного задания | C39: Человек | D39: =Part1_1!L10 -> 0 | E39: =D39 -> 0 | F39: =D39 -> 0
A40: 4.1 | B40: =Part1_1!A11 -> 280000000120003330522045001401500001002100101
A41: 4.2 | B41: Предоставление социального обслуживания в стационарной форме
A42: 4.3. | B42: Затраты на оказание услуги (выполнение работы) | C42: руб. | D42: =D43*D48-D49*D50 -> 449374.6 | E42: =D42 -> 449374.6 | F42: =D42 -> 449374.6 | G42: 4.3 = 4.3.1 x 4.3.2 - 4.3.4 x 4.3.3
A43: 4.3.1 | B43: Нормативные затраты на оказание единицы услуги (выполнение работы) | C43: руб. | D43: =ROUND((D44*(D45/100*D46/100*D47/100)),2) -> 44937.46 | E43: =ROUND((E44*(E45/100*E46/100*E47/100)),2) -> 44937.46 | F43: =ROUND((F44*(F45/100*F46/100*F47/100)),2) -> 44937.46 | G43: 4.3.1 = 4.3.1.1 x 4.3.1.2 x 4.3.1.3 x 4.3.1.4
A44: 4.3.1.1 | B44: Базовый норматив затрат на оказание услуги (выполнение работы) | C44: руб. | D44: 9182.96 | E44: =D44 -> 9182.96 | F44: =D44 -> 9182.96
A45: 4.3.1.2 | B45: Отраслевой корректирующий коэффициент | C45: % | D45: 100 | E45: =D45 -> 100 | F45: =D45 -> 100
A46: 4.3.1.3 | B46: Территориальный корректирующий коэффициент | C46: % | D46: 495.25542 | E46: =D46 -> 495.25542 | F46: =D46 -> 495.25542
A47: 4.3.1.4 | B47: Прочий корректирующий коэффициент | C47: % | D47: 98.809019 | E47: =D47 -> 98.809019 | F47: =D47 -> 98.809019
A48: 4.3.2 | B48: Объем государственной услуги (работы), оказываемой в пределах государственного задания | C48: Человек | D48: =Part1_1!K11 -> 10 | E48: =D48 -> 10 | F48: =D48 -> 10
A49: 4.3.3 | B49: Среднегодовой размер платы за оказание государственной услуги, оказываемой за плату в рамках государственного задания | C49: руб. | D49: 0 | E49: =D49 -> 0 | F49: =D49 -> 0
A50: 4.3.4 | B50: Объем государственной услуги, оказываемой за плату в рамках государственного задания | C50: Человек | D50: =Part1_1!L11 -> 0 | E50: =D50 -> 0 | F50: =D50 -> 0
A51: 5.1 | B51: =Part1_1!A12 -> 280000000120003330522045001501500001001100101
A52: 5.2 | B52: Предоставление социального обслуживания в стационарной форме
A53: 5.3. | B53: Затраты на оказание услуги (выполнение работы) | C53: руб. | D53: =D54*D59-D60*D61 -> 504296.6 | E53: =D53 -> 504296.6 | F53: =D53 -> 504296.6 | G53: 5.3 = 5.3.1 x 5.3.2 - 5.3.4 x 5.3.3
A54: 5.3.1 | B54: Нормативные затраты на оказание единицы услуги (выполнение работы) | C54: руб. | D54: =ROUND((D55*(D56/100*D57/100*D58/100)),2) -> 50429.66 | E54: =ROUND((E55*(E56/100*E57/100*E58/100)),2) -> 50429.66 | F54: =ROUND((F55*(F56/100*F57/100*F58/100)),2) -> 50429.66 | G54: 5.3.1 = 5.3.1.1 x 5.3.1.2 x 5.3.1.3 x 5.3.1.4
A55: 5.3.1.1 | B55: Базовый норматив затрат на оказание услуги (выполнение работы) | C55: руб. | D55: 10616.26 | E55: =D55 -> 10616.26 | F55: =D55 -> 10616.26
A56: 5.3.1.2 | B56: Отраслевой корректирующий коэффициент | C56: % | D56: 100 | E56: =D56 -> 100 | F56: =D56 -> 100
A57: 5.3.1.3 | B57: Территориальный корректирующий коэффициент | C57: % | D57: 477.48855 | E57: =D57 -> 477.48855 | F57: =D57 -> 477.48855
A58: 5.3.1.4 | B58: Прочий корректирующий коэффициент | C58: % | D58: 99.48361 | E58: =D58 -> 99.48361 | F58: =D58 -> 99.48361
A59: 5.3.2 | B59: Объем государственной услуги (работы), оказываемой в пределах государственного задания | C59: Человек | D59: =Part1_1!K12 -> 10 | E59: =D59 -> 10 | F59: =D59 -> 10
A60: 5.3.3 | B60: Среднегодовой размер платы за оказание государственной услуги, оказываемой за плату в рамках государственного задания | C60: руб. | D60: 0 | E60: =D60 -> 0 | F60: =D60 -> 0
A61: 5.3.4 | B61: Объем государственной услуги, оказываемой за плату в рамках государственного задания | C61: Человек | D61: =Part1_1!L12 -> 0 | E61: =D61 -> 0 | F61: =D61 -> 0
A62: 6.1 | B62: =Part1_1!A13 -> 280000000120003330522045001601500001000100101
A63: 6.2 | B63: Предоставление социального обслуживания в стационарной форме
A64: 6.3. | B64: Затраты на оказание услуги (выполнение работы) | C64: руб. | D64: =D65*D70-D71*D72 -> 16958.3 | E64: =D64 -> 16958.3 | F64: =D64 -> 16958.3 | G64: 6.3 = 6.3.1 x 6.3.2 - 6.3.4 x 6.3.3
A65: 6.3.1 | B65: Нормативные затраты на оказание единицы услуги (выполнение работы) | C65: руб. | D65: =ROUND((D66*(D67/100*D68/100*D69/100)),2) -> 1695.83 | E65: =ROUND((E66*(E67/100*E68/100*E69/100)),2) -> 1695.83 | F65: =ROUND((F66*(F67/100*F68/100*F69/100)),2) -> 1695.83 | G65: 6.3.1 = 6.3.1.1 x 6.3.1.2 x 6.3.1.3 x 6.3.1.4
A66: 6.3.1.1 | B66: Базовый норматив затрат на оказание услуги (выполнение работы) | C66: руб. | D66: 1604.87 | E66: =D66 -> 1604.87 | F66: =D66 -> 1604.87
A67: 6.3.1.2 | B67: Отраслевой корректирующий коэффициент | C67: % | D67: 100 | E67: =D67 -> 100 | F67: =D67 -> 100
A68: 6.3.1.3 | B68: Территориальный корректирующий коэффициент | C68: % | D68: 110.40582 | E68: =D68 -> 110.40582 | F68: =D68 -> 110.40582
A69: 6.3.1.4 | B69: Прочий корректирующий коэффициент | C69: % | D69: 95.708498 | E69: =D69 -> 95.708498 | F69: =D69 -> 95.708498
A70: 6.3.2 | B70: Объем государственной услуги (работы), оказываемой в пределах государственного задания | C70: Человек | D70: =Part1_1!K13 -> 10 | E70: =D70 -> 10 | F70: =D70 -> 10
A71: 6.3.3 | B71: Среднегодовой размер платы за оказание государственной услуги, оказываемой за плату в рамках государственного задания | C71: руб. | D71: 0 | E71: =D71 -> 0 | F71: =D71 -> 0
A72: 6.3.4 | B72: Объем государственной услуги, оказываемой за плату в рамках государственного задания | C72: Человек | D72: =Part1_1!L13 -> 0 | E72: =D72 -> 0 | F72: =D72 -> 0
A73: 7.1 | B73: =Part1_1!A14 -> 280000000120003330522045001101200001002100101
A74: 7.2 | B74: Предоставление социального обслуживания в стационарной форме
A75: 7.3. | B75: Затраты на оказание услуги (выполнение работы) | C75: руб. | D75: =D76*D81-D82*D83 -> 357321.95 | E75: =D75 -> 357321.95 | F75: =D75 -> 357321.95 | G75: 7.3 = 7.3.1 x 7.3.2 - 7.3.4 x 7.3.3
A76: 7.3.1 | B76: Нормативные затраты на оказание единицы услуги (выполнение работы) | C76: руб. | D76: =ROUND((D77*(D78/100*D79/100*D80/100)),2) -> 71464.39 | E76: =ROUND((E77*(E78/100*E79/100*E80/100)),2) -> 71464.39 | F76: =ROUND((F77*(F78/100*F79/100*F80/100)),2) -> 71464.39 | G76: 7.3.1 = 7.3.1.1 x 7.3.1.2 x 7.3.1.3 x 7.3.1.4
A77: 7.3.1.1 | B77: Базовый норматив затрат на оказание услуги (выполнение работы) | C77: руб. | D77: =D11 -> 92323.62 | E77: =D77 -> 92323.62 | F77: =D77 -> 92323.62
A78: 7.3.1.2 | B78: Отраслевой корректирующий коэффициент | C78: % | D78: 100 | E78: =D78 -> 100 | F78: =D78 -> 100
A79: 7.3.1.3 | B79: Территориальный корректирующий коэффициент | C79: % | D79: =D13 -> 140.43515 | E79: =D79 -> 140.43515 | F79: =D79 -> 140.43515
A80: 7.3.1.4 | B80: Прочий корректирующий коэффициент | C80: % | D80: =D14 -> 55.118964 | E80: =D80 -> 55.118964 | F80: =D80 -> 55.118964
A81: 7.3.2 | B81: Объем государственной услуги (работы), оказываемой в пределах государственного задания | C81: Человек | D81: =Part1_1!K14 -> 5 | E81: =D81 -> 5 | F81: =D81 -> 5
A82: 7.3.3 | B82: Среднегодовой размер платы за оказание государственной услуги, оказываемой за плату в рамках государственного задания | C82: руб. | D82: 0 | E82: =D82 -> 0 | F82: =D82 -> 0
A83: 7.3.4 | B83: Объем государственной услуги, оказываемой за плату в рамках государственного задания | C83: Человек | D83: =Part1_1!L14 -> 0 | E83: =D83 -> 0 | F83: =D83 -> 0
A84: 8.1 | B84: =Part1_1!A15 -> 280000000120003330522045001201200001001100101
A85: 8.2 | B85: Предоставление социального обслуживания в стационарной форме
A86: 8.3. | B86: Затраты на оказание услуги (выполнение работы) | C86: руб. | D86: =D87*D92-D93*D94 -> 100560.6 | E86: =D86 -> 100560.6 | F86: =D86 -> 100560.6 | G86: 8.3 = 8.3.1 x 8.3.2 - 8.3.4 x 8.3.3
A87: 8.3.1 | B87: Нормативные затраты на оказание единицы услуги (выполнение работы) | C87: руб. | D87: =ROUND((D88*(D89/100*D90/100*D91/100)),2) -> 20112.12 | E87: =ROUND((E88*(E89/100*E90/100*E91/100)),2) -> 20112.12 | F87: =ROUND((F88*(F89/100*F90/100*F91/100)),2) -> 20112.12 | G87: 8.3.1 = 8.3.1.1 x 8.3.1.2 x 8.3.1.3 x 8.3.1.4
A88: 8.3.1.1 | B88: Базовый норматив затрат на оказание услуги (выполнение работы) | C88: руб. | D88: =D22 -> 60339.25 | E88: =D88 -> 60339.25 | F88: =D88 -> 60339.25
A89: 8.3.1.2 | B89: Отраслевой корректирующий коэффициент | C89: % | D89: 100 | E89: =D89 -> 100 | F89: =D89 -> 100
A90: 8.3.1.3 | B90: Территориальный корректирующий коэффициент | C90: % | D90: =D24 -> 36.344819 | E90: =D90 -> 36.344819 | F90: =D90 -> 36.344819
A91: 8.3.1.4 | B91: Прочий корректирующий коэффициент | C91: % | D91: =D25 -> 91.709733 | E91: =D91 -> 91.709733 | F91: =D91 -> 91.709733
A92: 8.3.2 | B92: Объем государственной услуги (работы), оказываемой в пределах государственного задания | C92: Человек | D92: =Part1_1!K15 -> 5 | E92: =D92 -> 5 | F92: =D92 -> 5
A93: 8.3.3 | B93: Среднегодовой размер платы за оказание государственной услуги, оказываемой за плату в рамках государственного задания | C93: руб. | D93: 0 | E93: =D93 -> 0 | F93: =D93 -> 0
A94: 8.3.4 | B94: Объем государственной услуги, оказываемой за плату в рамках государственного задания | C94: Человек | D94: =Part1_1!L15 -> 0 | E94: =D94 -> 0 | F94: =D94 -> 0
A95: 9.1 | B95: =Part1_1!A16 -> 280000000120003330522045001301200001000100101
A96: 9.2 | B96: Предоставление социального обслуживания в стационарной форме
A97: 9.3. | B97: Затраты на оказание услуги (выполнение работы) | C97: руб. | D97: =D98*D103-D104*D105 -> 54751.9 | E97: =D97 -> 54751.9 | F97: =D97 -> 54751.9 | G97: 9.3 = 9.3.1 x 9.3.2 - 9.3.4 x 9.3.3
A98: 9.3.1 | B98: Нормативные затраты на оказание единицы услуги (выполнение работы) | C98: руб. | D98: =ROUND((D99*(D100/100*D101/100*D102/100)),2) -> 10950.38 | E98: =ROUND((E99*(E100/100*E101/100*E102/100)),2) -> 10950.38 | F98: =ROUND((F99*(F100/100*F101/100*F102/100)),2) -> 10950.38 | G98: 9.3.1 = 9.3.1.1 x 9.3.1.2 x 9.3.1.3 x 9.3.1.4
A99: 9.3.1.1 | B99: Базовый норматив затрат на оказание услуги (выполнение работы) | C99: руб. | D99: =D33 -> 4321.67 | E99: =D99 -> 4321.67 | F99: =D99 -> 4321.67
A100: 9.3.1.2 | B100: Отраслевой корректирующий коэффициент | C100: % | D100: 100 | E100: =D100 -> 100 | F100: =D100 -> 100
A101: 9.3.1.3 | B101: Территориальный корректирующий коэффициент | C101: % | D101: =D35 -> 259.86919 | E101: =D101 -> 259.86919 | F101: =D101 -> 259.86919
...

Sheet Part3
A2: Часть III. Порядок осуществления контроля за выполнением государственного задания
A4: 1. Периодичность и вид контроля за выполнением государственного задания:
A5: № п/п | B5: Вид контрольного мероприятия | C5: Периодичность проведения контроля
A6: 1 | B6: Выездная проверка | C6: Не реже 1 раза в 3 года
A7: 2 | B7: Камеральная проверка | C7: Ежеквартально
A9: 2. Иные требования к отчетности об исполнении государственного задания:
A10: 1 | B10: - предоставление пояснительной записки к отчету об исполнении государственного задания;
A11: 2 | B11: - представление информации о состоянии кредиторской задолженности, в том числе просроченной.
A13: 3. Иная информация, необходимая для исполнения государственного задания (контроля за исполнением государственного задания):
A14: 1 | B14: по мере необходимости может быть запрошена необходимая для контроля информация.
A16: Часть IV. Условия и порядок досрочного прекращения исполнения государственного задания
A18: № п/п | B18: Условия досрочного прекращения исполнения государственного задания | C18: Порядок досрочного прекращения исполнения государственного задания
A19: 1 | B19: ликвидация поставщика государственных услуг;
A20: 2 | B20: реорганизация поставщика государственных услуг;
A21: 3 | B21: иные основания, предусмотренные нормативными правовыми актами Российской Федерации и Тверской области
