Workbook

Sheet Title
E2: "Приложение 1 к постановлению Правительства Тверской области от ________ № -пп"
E5: "«Приложение 1 к Порядку формирования и финансового обеспечения выполнения государственного задания на оказание государственных услуг (выполнение работ) государственными учреждениями Тверской области, за исключением государственных учреждений здравоохранения Тверской области "
E6: УТВЕРЖДАЮ
E7: Министр социальной защиты населения Тверской области
E8: наименование должности руководителя исполнительного органа государственной власти, осуществляющего функции и полномочия учредителя учреждения Тверской области
G9: Хохлова Елена Вячеславовна
G10: ____________________ _________________________
G11: подпись расшифровка подписи
G12: «____»__________________20___ г.
E13: директор
E14: наименование должности руководителя государственного учреждения Тверской области
G15: Беленышева Ольга Георгиевна
G16: ____________________ _________________________
G17: подпись расшифровка подписи
G18: «____»__________________20___ г.
E19: главный бухгалтер
E20: наименование должности руководителя финансовой службы государственного учреждения Тверской области
G22: ____________________ _________________________
G23: подпись расшифровка подписи
G24: «____»__________________20___ г.
A26: Государственное задание
A27: государственное бюджетное учреждение "Социально-реабилитационный центр для несовершеннолетних" Торжокского района
A28: (наименование государственного учреждения Тверской области)
A29: на 2018 год и плановый период 2019-2020 годов

Sheet Part1_1
A2: Часть I. Оказание государственной(-х) услуги (услуг) (выполнение работы (работы))
A3: 1.1. Показатели, характеризующие объём государственной услуги (работы)
A4: Уникальный номер реестровой записи общероссийских базовых (отраслевых) перечней (классификаторов) государственных и муниципальных услуг, оказываемых физическим лицам, и (или) регионального перечня (классификатора) государственных (муниципальных) услуг, не включенных в общероссийские базовые (отраслевые) перечни (классификаторы) государственных и муниципальных услуг, и работ | B4: Наименование государственной услуги (работы) | C4: Категории потребителей государственной услуги (работы) | D4: Показатели, характеризующие содержание государственной услуги (работы) | G4: Показатели, характеризующие условия оказания государственной услуги (выполнения работы) | I4: Показатель объема государственной услуги (работы) | K4: Значение показателей объема государственной услуги (работы) | Q4: Реквизиты нормативного правового или иного акта, определяющего порядок оказания государственной услуги (работы)
D5: Содержание 1 | E5: Содержание 2 | F5: Содержание 3 | G5: Условие 1 | H5: Условие 2 | K5: 2018 год (очередной финансовый год) | M5: 2019 год (1-й год планового периода) | O5: 2020 год (2-й год планового периода)
I6: Наименование | J6: Единица измерения | K6: бесплатно | L6: за плату | M6: бесплатно | N6: за плату | O6: бесплатно | P6: за плату | Q6: номер | R6: дата | S6: наименование
A7: 1 | B7: 2 | C7: 3 | D7: 4 | E7: 5 | F7: 6 | G7: 7 | H7: 8 | I7: 9 | J7: 10 | K7: 11 | L7: 12 | M7: 13 | N7: 14 | O7: 15 | P7: 16 | Q7: 17 | R7: 18 | S7: 19
A8: 280000000120003330522045001101500001005100101 | B8: Предоставление социального обслуживания в стационарной форме | C8: Гражданин при наличии ребенка или детей (в том числе находящихся под опекой, попечительством), испытывающих трудности в социальной адаптации | D8: Предоставление социально-бытовых услуг | E8: Гражданин при наличии ребенка или детей (в том числе находящихся под опекой, попечительством), испытывающих трудности в социальной адаптации | G8: Очно | I8: Численность граждан, получивших социальные услуги | J8: Человек | K8: 10 | L8: 0 | M8: 10 | N8: 0 | O8: 10 | P8: 0 | Q8: 442-ФЗ | R8: 28 декабря 2013 г | S8: «Об основах социального обслуживания граждан в Российской Федерации»
A9: 280000000120003330522045001201500001004100101 | B9: Предоставление социального обслуживания в стационарной форме | C9: Гражданин при наличии ребенка или детей (в том числе находящихся под опекой, попечительством), испытывающих трудности в социальной адаптации | D9: Предоставление социально-медицинских услуг | E9: Гражданин при наличии ребенка или детей (в том числе находящихся под опекой, попечительством), испытывающих трудности в социальной адаптации | G9: Очно | I9: Численность граждан, получивших социальные услуги | J9: Человек | K9: 10 | L9: 0 | M9: 10 | N9: 0 | O9: 10 | P9: 0 | Q9: 442-ФЗ | R9: 28 декабря 2013 г | S9: «Об основах социального обслуживания граждан в Российской Федерации»
A10: 280000000120003330522045001301500001003100101 | B10: Предоставление социального обслуживания в стационарной форме | C10: Гражданин при наличии ребенка или детей (в том числе находящихся под опекой, попечительством), испытывающих трудности в социальной адаптации | D10: Предоставление социально-психологических услуг | E10: Гражданин при наличии ребенка или детей (в том числе находящихся под опекой, попечительством), испытывающих трудности в социальной адаптации | G10: Очно | I10: Численность граждан, получивших социальные услуги | J10: Человек | K10: 10 | L10: 0 | M10: 10 | N10: 0 | O10: 10 | P10: 0 | Q10: 442-ФЗ | R10: 28 декабря 2013 г | S10: «Об основах социального обслуживания граждан в Российской Федерации»
A11: 280000000120003330522045001401500001002100101 | B11: Предоставление социального обслуживания в стационарной форме | C11: Гражданин при наличии ребенка или детей (в том числе находящихся под опекой, попечительством), испытывающих трудности в социальной адаптации | D11: Предоставление социально-педагогических услуг | E11: Гражданин при наличии ребенка или детей (в том числе находящихся под опекой, попечительством), испытывающих трудности в социальной адаптации | G11: Очно | I11: Численность граждан, получивших социальные услуги | J11: Человек | K11: 10 | L11: 0 | M11: 10 | N11: 0 | O11: 10 | P11: 0 | Q11: 442-ФЗ | R11: 28 декабря 2013 г | S11: «Об основах социального обслуживания граждан в Российской Федерации»
A12: 280000000120003330522045001501500001001100101 | B12: Предоставление социального обслуживания в стационарной форме | C12: Гражданин при наличии ребенка или детей (в том числе находящихся под опекой, попечительством), испытывающих трудности в социальной адаптации | D12: Предоставление социально- трудовых услуг | E12: Гражданин при наличии ребенка или детей (в том числе находящихся под опекой, попечительством), испытывающих трудности в социальной адаптации | G12: Очно | I12: Численность граждан, получивших социальные услуги | J12: Человек | K12: 10 | L12: 0 | M12: 10 | N12: 0 | O12: 10 | P12: 0 | Q12: 442-ФЗ | R12: 28 декабря 2013 г | S12: «Об основах социального обслуживания граждан в Российской Федерации»
A13: 280000000120003330522045001601500001000100101 | B13: Предоставление социального обслуживания в стационарной форме | C13: Гражданин при наличии ребенка или детей (в том числе находящихся под опекой, попечительством), испытывающих трудности в социальной адаптации | D13: Предоставление социально- правовых услуг | E13: Гражданин при наличии ребенка или детей (в том числе находящихся под опекой, попечительством), испытывающих трудности в социальной адаптации | G13: Очно | I13: Численность граждан, получивших социальные услуги | J13: Человек | K13: 10 | L13: 0 | M13: 10 | N13: 0 | O13: 10 | P13: 0 | Q13: 442-ФЗ | R13: 28 декабря 2013 г | S13: «Об основах социального обслуживания граждан в Российской Федерации»
A14: 280000000120003330522045001101200001002100101 | B14: Предоставление социального обслуживания в стационарной форме | C14: Гражданин при отсутствии возможности обеспечения ухода (в том числе временного) за инвалидом, ребенком, детьми, а также отсутствие попечения над ними | D14: Предоставление социально-бытовых услуг | E14: Гражданин при отсутствии возможности обеспечения ухода (в том числе временного) за инвалидом, ребенком, детьми, а также отсутствие попечения над ними | G14: Очно | I14: Численность граждан, получивших социальные услуги | J14: Человек | K14: 5 | L14: 0 | M14: 5 | N14: 0 | O14: 5 | P14: 0 | Q14: 442-ФЗ | R14: 28 декабря 2013 г | S14: «Об основах социального обслуживания граждан в Российской Федерации»
A15: 280000000120003330522045001201200001001100101 | B15: Предоставление социального обслуживания в стационарной форме | C15: Гражданин при отсутствии возможности обеспечения ухода (в том числе временного) за инвалидом, ребенком, детьми, а также отсутствие попечения над ними | D15: Предоставление социально-медицинских услуг | E15: Гражданин при отсутствии возможности обеспечения ухода (в том числе временного) за инвалидом, ребенком, детьми, а также отсутствие попечения над ними | G15: Очно | I15: Численность граждан, получивших социальные услуги | J15: Человек | K15: 5 | L15: 0 | M15: 5 | N15: 0 | O15: 5 | P15: 0 | Q15: 442-ФЗ | R15: 28 декабря 2013 г | S15: «Об основах социального обслуживания граждан в Российской Федерации»
A16: 280000000120003330522045001301200001000100101 | B16: Предоставление социального обслуживания в стационарной форме | C16: Гражданин при отсутствии возможности обеспечения ухода (в том числе временного) за инвалидом, ребенком, детьми, а также отсутствие попечения над ними | D16: Предоставление социально-психологических услуг | E16: Гражданин при отсутствии возможности обеспечения ухода (в том числе временного) за инвалидом, ребенком, детьми, а также отсутствие попечения над ними | G16: Очно | I16: Численность граждан, получивших социальные услуги | J16: Человек | K16: 5 | L16: 0 | M16: 5 | N16: 0 | O16: 5 | P16: 0 | Q16: 442-ФЗ | R16: 28 декабря 2013 г | S16: «Об основах социального обслуживания граждан в Российской Федерации»
A17: 280000000120003330522045001401200001009100101 | B17: Предоставление социального обслуживания в стационарной форме | C17: Гражданин при отсутствии возможности обеспечения ухода (в том числе временного) за инвалидом, ребенком, детьми, а также отсутствие попечения над ними | D17: Предоставление социально-педагогических услуг | E17: Гражданин при отсутствии возможности обеспечения ухода (в том числе временного) за инвалидом, ребенком, детьми, а также отсутствие попечения над ними | G17: Очно | I17: Численность граждан, получивших социальные услуги | J17: Человек | K17: 5 | L17: 0 | M17: 5 | N17: 0 | O17: 5 | P17: 0 | Q17: 442-ФЗ | R17: 28 декабря 2013 г | S17: «Об основах социального обслуживания граждан в Российской Федерации»
A18: 280000000120003330522045001501200001008100101 | B18: Предоставление социального обслуживания в стационарной форме | C18: Гражданин при отсутствии возможности обеспечения ухода (в том числе временного) за инвалидом, ребенком, детьми, а также отсутствие попечения над ними | D18: Предоставление социально-трудовых услуг | E18: Гражданин при отсутствии возможности обеспечения ухода (в том числе временного) за инвалидом, ребенком, детьми, а также отсутствие попечения над ними | G18: Очно | I18: Численность граждан, получивших социальные услуги | J18: Человек | K18: 5 | L18: 0 | M18: 5 | N18: 0 | O18: 5 | P18: 0 | Q18: 442-ФЗ | R18: 28 декабря 2013 г | S18: «Об основах социального обслуживания граждан в Российской Федерации»
A19: 280000000120003330522045001601200001007100101 | B19: Предоставление социального обслуживания в стационарной форме | C19: Гражданин при отсутствии возможности обеспечения ухода (в том числе временного) за инвалидом, ребенком, детьми, а также отсутствие попечения над ними | D19: Предоставление социально-правовых услуг | E19: Гражданин при отсутствии возможности обеспечения ухода (в том числе временного) за инвалидом, ребенком, детьми, а также отсутствие попечения над ними | G19: Очно | I19: Численность граждан, получивших социальные услуги | J19: Человек | K19: 5 | L19: 0 | M19: 5 | N19: 0 | O19: 5 | P19: 0 | Q19: 442-ФЗ | R19: 28 декабря 2013 г | S19: «Об основах социального обслуживания граждан в Российской Федерации»
... A37: 280000000120003330522045001601800001004100101 | B37: Предоставление социального обслуживания в стационарной форме | C37: Гражданин при наличии иных обстоятельств, которые нормативными правовыми актами субъектов Российской Федерации признаны ухудшающими или способны ухудшить условия его жизнедеятельности | D37: Предоставление социально-правовых услуг | E37: Гражданин при наличии иных обстоятельств, которые нормативными правовыми актами субъектов Российской Федерации признаны ухудшающими или способны ухудшить условия его жизнедеятельности | G37: Очно | I37: Численность граждан, получивших социальные услуги | J37: Человек | K37: 12 | L37: 0 | M37: 12 | N37: 0 | O37: 12 | P37: 0 | Q37: 442-ФЗ | R37: 28 декабря 2013 г | S37: «Об основах социального обслуживания граждан в Российской Федерации»
A38: 22889000Р69000300002001 | B38: Социальное сопровождение граждан нуждающихся в социальном обслуживании | C38: Гражданин при наличии ребенка или детей (в том числе находящихся под опекой, попечительством), испытывающих трудности в социальной адаптации; Гражданин при наличии внутрисемейного конфликта, в том числе с лицами с наркотической или алкогольной зависимостью, лицами, имеющими пристрастие к азартным играм, лицами, страдающими психическими расстройствами, наличие насилия в семье;Гражданин при отсутствии работы и средств к существованию; Гражданин при наличии иных обстоятельств, которые нормативными правовыми актами субъектов Российской Федерации признаны ухудшающими или способны ухудшить условия его жизнедеятельности; Гражданин при наличии в семье инвалида или инвалидов, в том числе ребенка-инвалида или детей-инвалидов, нуждающихся в постоянном постороннем уходе | D38: Оказание содействия гражданам посредством межведомственного взаимодействия в получении различного вида услуг: юридических, медицинских, психологических, педагогических, а также социальной помощи, не относящейся к социальным услугам | E38: Гражданин при наличии ребенка или детей (в том числе находящихся под опекой, попечительством), испытывающих трудности в социальной адаптации; Гражданин при наличии внутрисемейного конфликта, в том числе с лицами с наркотической или алкогольной зависимостью, лицами, имеющими пристрастие к азартным играм, лицами, страдающими психическими расстройствами, наличие насилия в семье;Гражданин при отсутствии работы и средств к существованию; Гражданин при наличии иных обстоятельств, которые нормативными правовыми актами субъектов Российской Федерации признаны ухудшающими или способны ухудшить условия его жизнедеятельности; Гражданин при наличии в семье инвалида или инвалидов, в том числе ребенка-инвалида или детей-инвалидов, нуждающихся в постоянном постороннем уходе | G38: Очно | I38: Численность граждан, получивших социальные услуги | J38: Семей | K38: 63 | L38: 0 | M38: =K38 -> 63 | N38: 0 | O38: =K38 -> 63 | P38: 0 | Q38: 442-ФЗ | R38: 28 декабря 2013 г | S38: «Об основах социального обслуживания граждан в Российской Федерации»

Sheet Part1_2
A2: 1.2. Показатели, характеризующие качество государственной услуги (работы)
A3: Уникальный номер реестровой записи общероссийских базовых (отраслевых) перечней (классификаторов) государственных и муниципальных услуг, оказываемых физическим лицам, и (или) регионального перечня (классификатора) государственных (муниципальных) услуг, не включенных в общероссийские базовые (отраслевые) перечни (классификаторы) государственных и муниципальных услуг, и работ | B3: Наименование государственной услуги (работы) | C3: Показатель, характеризующий содержание государственной услуги (работы) | F3: Показатель, характеризующий условия (формы) оказания государственной услуги (выполнения работы) | H3: Показатель качества государственной услуги (работы) | J3: Значение показателя качества государственной услуги (работы) | M3: Допустимое (возможное) отклонение показателя качества государственной услуги (работы), в пределах которого государственное задание считается выполненным (%)
C4: Содержание 1 | D4: Содержание 2 | E4: Содержание 3 | F4: Условие 1 | G4: Условие 2 | H4: Наименование | I4: Единица измерения | J4: 2018 год (очередной финансовый год) | K4: 2019 год (1-й год планового периода) | L4: 2020 год (2-й год планового периода)
A5: 280000000120003330522045001101500001005100101 | B5: Предоставление социального обслуживания в стационарной форме | C5: Предоставление социально-бытовых услуг | D5: Гражданин при наличии ребенка или детей (в том числе находящихся под опекой, попечительством), испытывающих трудности в социальной адаптации | F5: Очно | H5: Доля получателей социальных услуг, получающих социальные услуги от общего числа получателей социальных услуг, находящихся на социальном обслуживании в организации | I5: Процент | J5: =Part1_1!K8/40*100 -> 25 | K5: =J5 -> 25 | L5: =J5 -> 25 | M5: 5
A6: 280000000120003330522045001101500001005100101 | B6: Предоставление социального обслуживания в стационарной форме | C6: Предоставление социально-бытовых услуг | D6: Гражданин при наличии ребенка или детей (в том числе находящихся под опекой, попечительством), испытывающих трудности в социальной адаптации | F6: Очно | H6: Количество нарушений санитарного законодательства в отчетном году, выявленных при проведении проверок | I6: Процент | J6: 0 | K6: =J6 -> 0 | L6: =J6 -> 0 | M6: 5
A7: 280000000120003330522045001101500001005100101 | B7: Предоставление социального обслуживания в стационарной форме | C7: Предоставление социально-бытовых услуг | D7: Гражданин при наличии ребенка или детей (в том числе находящихся под опекой, попечительством), испытывающих трудности в социальной адаптации | F7: Очно | H7: Удовлетворенность получателей социальных услуг в оказанных социальных услугах | I7: Процент | J7: 100 | K7: 100 | L7: 100 | M7: 5
A8: 280000000120003330522045001101500001005100101 | B8: Предоставление социального обслуживания в стационарной форме | C8: Предоставление социально-бытовых услуг | D8: Гражданин при наличии ребенка или детей (в том числе находящихся под опекой, попечительством), испытывающих трудности в социальной адаптации | F8: Очно | H8: Укомплектование организации специалистами, оказывающими социальные услуги | I8: Процент | J8: 100 | K8: 100 | L8: 100 | M8: 5
A9: 280000000120003330522045001101500001005100101 | B9: Предоставление социального обслуживания в стационарной форме | C9: Предоставление социально-бытовых услуг | D9: Гражданин при наличии ребенка или детей (в том числе находящихся под опекой, попечительством), испытывающих трудности в социальной адаптации | F9: Очно | H9: Повышение качества социальных услуг и эффективности их оказания (определяется исходя из мероприятий, направленных на совершенствование деятельности организации при предоставлении социального обслуживания) | I9: Процент | J9: 100 | K9: 100 | L9: 100 | M9: 5
A10: 280000000120003330522045001101500001005100101 | B10: Предоставление социального обслуживания в стационарной форме | C10: Предоставление социально-бытовых услуг | D10: Гражданин при наличии ребенка или детей (в том числе находящихся под опекой, попечительством), испытывающих трудности в социальной адаптации | F10: Очно | H10: Доступность получения социальных услуг в организации (возможность сопровождения получателя социальных услуг при передвижении по территории учреждения социального обслуживания, а также при пользовании услугами; возможность для самостоятельного передвижения по территории учреждения социального обслуживания, входа, выхода и перемещения внутри такой организации (в том числе для передвижения в креслах-колясках), для отдыха в сидячем положении, а также доступное размещение оборудования и носителей информации; дублирование текстовых сообщений голосовыми сообщениями, оснащение учреждения социального обслуживания знаками, выполненными рельефно-точечным шрифтом Брайля, ознакомление с их помощью с надписями, знаками и иной текстовой и графической информацией на территории учреждения; дублирование голосовой информации текстовой информацией, надписями и (или) световыми сигналами, информирование о предоставляемых социальных услугах с использованием русского жестового языка (сурдоперевода); оказание иных видов посторонней помощи | I10: Процент | J10: 0 | K10: 0 | L10: 0 | M10: 5
A11: 280000000120003330522045001201500001004100101 | B11: Предоставление социального обслуживания в стационарной форме | C11: Предоставление социально-медицинских услуг | D11: Гражданин при наличии ребенка или детей (в том числе находящихся под опекой, попечительством), испытывающих трудности в социальной адаптации | F11: Очно | H11: Доля получателей социальных услуг, получающих социальные услуги от общего числа получателей социальных услуг, находящихся на социальном обслуживании в организации | I11: Процент | J11: =Part1_1!K9/40*100 -> 25 | K11: =J11 -> 25 | L11: =J11 -> 25 | M11: 5
A12: 280000000120003330522045001201500001004100101 | B12: Предоставление социального обслуживания в стационарной форме | C12: Предоставление социально-медицинских услуг | D12: Гражданин при наличии ребенка или детей (в том числе находящихся под опекой, попечительством), испытывающих трудности в социальной адаптации | F12: Очно | H12: Количество нарушений санитарного законодательства в отчетном году, выявленных при проведении проверок | I12: Процент | J12: 0 | K12: 0 | L12: 0 | M12: 5
A13: 280000000120003330522045001201500001004100101 | B13: Предоставление социального обслуживания в стационарной форме | C13: Предоставление социально-медицинских услуг | D13: Гражданин при наличии ребенка или детей (в том числе находящихся под опекой, попечительством), испытывающих трудности в социальной адаптации | F13: Очно | H13: Удовлетворенность получателей социальных услуг в оказанных социальных услугах | I13: Процент | J13: 100 | K13: 100 | L13: 100 | M13: 5
A14: 280000000120003330522045001201500001004100101 | B14: Предоставление социального обслуживания в стационарной форме | C14: Предоставление социально-медицинских услуг | D14: Гражданин при наличии ребенка или детей (в том числе находящихся под опекой, попечительством), испытывающих трудности в социальной адаптации | F14: Очно | H14: Укомплектование организации специалистами, оказывающими социальные услуги | I14: Процент | J14: 100 | K14: 100 | L14: 100 | M14: 5
A15: 280000000120003330522045001201500001004100101 | B15: Предоставление социального обслуживания в стационарной форме | C15: Предоставление социально-медицинских услуг | D15: Гражданин при наличии ребенка или детей (в том числе находящихся под опекой, попечительством), испытывающих трудности в социальной адаптации | F15: Очно | H15: Повышение качества социальных услуг и эффективности их оказания (определяется исходя из мероприятий, направленных на совершенствование деятельности организации при предоставлении социального обслуживания) | I15: Процент | J15: 100 | K15: 100 | L15: 100 | M15: 5
A16: 280000000120003330522045001201500001004100101 | B16: Предоставление социального обслуживания в стационарной форме | C16: Предоставление социально-медицинских услуг | D16: Гражданин при наличии ребенка или детей (в том числе находящихся под опекой, попечительством), испытывающих трудности в социальной адаптации | F16: Очно | H16: Доступность получения социальных услуг в организации (возможность сопровождения получателя социальных услуг при передвижении по территории учреждения социального обслуживания, а также при пользовании услугами; возможность для самостоятельного передвижения по территории учреждения социального обслуживания, входа, выхода и перемещения внутри такой организации (в том числе для передвижения в креслах-колясках), для отдыха в сидячем положении, а также доступное размещение оборудования и носителей информации; дублирование текстовых сообщений голосовыми сообщениями, оснащение учреждения социального обслуживания знаками, выполненными рельефно-точечным шрифтом Брайля, ознакомление с их помощью с надписями, знаками и иной текстовой и графической информацией на территории учреждения; дублирование голосовой информации текстовой информацией, надписями и (или) световыми сигналами, информирование о предоставляемых социальных услугах с использованием русского жестового языка (сурдоперевода); оказание иных видов посторонней помощи | I16: Процент | J16: 0 | K16: 0 | L16: 0 | M16: 5
A17: 280000000120003330522045001301500001003100101 | B17: Предоставление социального обслуживания в стационарной форме | C17: Предоставление социально-психологических услуг | D17: Гражданин при наличии ребенка или детей (в том числе находящихся под опекой, попечительством), испытывающих трудности в социальной адаптации | F17: Очно | H17: Доля получателей социальных услуг, получающих социальные услуги от общего числа получателей социальных услуг, находящихся на социальном обслуживании в организации | I17: Процент | J17: =Part1_1!K10/40*100 -> 25 | K17: =J17 -> 25 | L17: =J17 -> 25 | M17: 5
A18: 280000000120003330522045001301500001003100101 | B18: Предоставление социального обслуживания в стационарной форме | C18: Предоставление социально-психологических услуг | D18: Гражданин при наличии ребенка или детей (в том числе находящихся под опекой, попечительством), испытывающих трудности в социальной адаптации | F18: Очно | H18: Количество нарушений санитарного законодательства в отчетном году, выявленных при проведении проверок | I18: Процент | J18: 0 | K18: 0 | L18: 0 | M18: 5
A19: 280000000120003330522045001301500001003100101 | B19: Предоставление социального обслуживания в стационарной форме | C19: Предоставление социально-психологических услуг | D19: Гражданин при наличии ребенка или детей (в том числе находящихся под опекой, попечительством), испытывающих трудности в социальной адаптации | F19: Очно | H19: Удовлетворенность получателей социальных услуг в оказанных социальных услугах | I19: Процент | J19: 100 | K19: 100 | L19: 100 | M19: 5
A20: 280000000120003330522045001301500001003100101 | B20: Предоставление социального обслуживания в стационарной форме | C20: Предоставление социально-психологических услуг | D20: Гражданин при наличии ребенка или детей (в том числе находящихся под опекой, попечительством), испытывающих трудности в социальной адаптации | F20: Очно | H20: Укомплектование организации специалистами, оказывающими социальные услуги | I20: Процент | J20: 100 | K20: 100 | L20: 100 | M20: 5
A21: 280000000120003330522045001301500001003100101 | B21: Предоставление социального обслуживания в стационарной форме | C21: Предоставление социально-психологических услуг | D21: Гражданин при наличии ребенка или детей (в том числе находящихся под опекой, попечительством), испытывающих трудности в социальной адаптации | F21: Очно | H21: Повышение качества социальных услуг и эффективности их оказания (определяется исходя из мероприятий, направленных на совершенствование деятельности организации при предоставлении социального обслуживания) | I21: Процент | J21: 100 | K21: 100 | L21: 100 | M21: 5
A22: 280000000120003330522045001301500001003100101 | B22: Предоставление социального обслуживания в стационарной форме | C22: Предоставление социально-психологических услуг | D22: Гражданин при наличии ребенка или детей (в том числе находящихся под опекой, попечительством), испытывающих трудности в социальной адаптации | F22: Очно | H22: Доступность получения социальных услуг в организации (возможность сопровождения получателя социальных услуг при передвижении по территории учреждения социального обслуживания, а также при пользовании услугами; возможность для самостоятельного передвижения по территории учреждения социального обслуживания, входа, выхода и перемещения внутри такой организации (в том числе для передвижения в креслах-колясках), для отдыха в сидячем положении, а также доступное размещение оборудования и носителей информации; дублирование текстовых сообщений голосовыми сообщениями, оснащение учреждения социального обслуживания знаками, выполненными рельефно-точечным шрифтом Брайля, ознакомление с их помощью с надписями, знаками и иной текстовой и графической информацией на территории учреждения; дублирование голосовой информации текстовой информацией, надписями и (или) световыми сигналами, информирование о предоставляемых социальных услугах с использованием русского жестового языка (сурдоперевода); оказание иных видов посторонней помощи | I22: Процент | J22: 0 | K22: 0 | L22: 0 | M22: 5
A23: 280000000120003330522045001401500001002100101 | B23: Предоставление социального обслуживания в стационарной форме | C23: Предоставление социально-педагогических услуг | D23: Гражданин при наличии ребенка или детей (в том числе находящихся под опекой, попечительством), испытывающих трудности в социальной адаптации | F23: Очно | H23: Доля получателей социальных услуг, получающих социальные услуги от общего числа получателей социальных услуг, находящихся на социальном обслуживании в организации | I23: Процент | J23: =Part1_1!K11/40*100 -> 25 | K23: =J23 -> 25 | L23: =J23 -> 25 | M23: 5
A24: 280000000120003330522045001401500001002100101 | B24: Предоставление социального обслуживания в стационарной форме | C24: Предоставление социально-педагогических услуг | D24: Гражданин при наличии ребенка или детей (в том числе находящихся под опекой, попечительством), испытывающих трудности в социальной адаптации | F24: Очно | H24: Количество нарушений санитарного законодательства в отчетном году, выявленных при проведении проверок | I24: Процент | J24: 0 | K24: 0 | L24: 0 | M24: 5
A25: 280000000120003330522045001401500001002100101 | B25: Предоставление социального обслуживания в стационарной форме | C25: Предоставление социально-педагогических услуг | D25: Гражданин при наличии ребенка или детей (в том числе находящихся под опекой, попечительством), испытывающих трудности в социальной адаптации | F25: Очно | H25: Удовлетворенность получателей социальных услуг в оказанных социальных услугах | I25: Процент | J25: 100 | K25: 100 | L25: 100 | M25: 5
A26: 280000000120003330522045001401500001002100101 | B26: Предоставление социального обслуживания в стационарной форме | C26: Предоставление социально-педагогических услуг | D26: Гражданин при наличии ребенка или детей (в том числе находящихся под опекой, попечительством), испытывающих трудности в социальной адаптации | F26: Очно | H26: Укомплектование организации специалистами, оказывающими социальные услуги | I26: Процент | J26: 100 | K26: 100 | L26: 100 | M26: 5
A27: 280000000120003330522045001401500001002100101 | B27: Предоставление социального обслуживания в стационарной форме | C27: Предоставление социально-педагогических услуг | D27: Гражданин при наличии ребенка или детей (в том числе находящихся под опекой, попечительством), испытывающих трудности в социальной адаптации | F27: Очно | H27: Повышение качества социальных услуг и эффективности их оказания (определяется исходя из мероприятий, направленных на совершенствование деятельности организации при предоставлении социального обслуживания) | I27: Процент | J27: 100 | K27: 100 | L27: 100 | M27: 5
A28: 280000000120003330522045001401500001002100101 | B28: Предоставление социального обслуживания в стационарной форме | C28: Предоставление социально-педагогических услуг | D28: Гражданин при наличии ребенка или детей (в том числе находящихся под опекой, попечительством), испытывающих трудности в социальной адаптации | F28: Очно | H28: Доступность получения социальных услуг в организации (возможность сопровождения получателя социальных услуг при передвижении по территории учреждения социального обслуживания, а также при пользовании услугами; возможность для самостоятельного передвижения по территории учреждения социального обслуживания, входа, выхода и перемещения внутри такой организации (в том числе для передвижения в креслах-колясках), для отдыха в сидячем положении, а также доступное размещение оборудования и носителей информации; дублирование текстовых сообщений голосовыми сообщениями, оснащение учреждения социального обслуживания знаками, выполненными рельефно-точечным шрифтом Брайля, ознакомление с их помощью с надписями, знаками и иной текстовой и графической информацией на территории учреждения; дублирование голосовой информации текстовой информацией, надписями и (или) световыми сигналами, информирование о предоставляемых социальных услугах с использованием русского жестового языка (сурдоперевода); оказание иных видов посторонней помощи | I28: Процент | J28: 0 | K28: 0 | L28: 0 | M28: 5
A29: 280000000120003330522045001501500001001100101 | B29: Предоставление социального обслуживания в стационарной форме | C29: Предоставление социально- трудовых услуг | D29: Гражданин при наличии ребенка или детей (в том числе находящихся под опекой, попечительством), испытывающих трудности в социальной адаптации | F29: Очно | H29: Доля получателей социальных услуг, получающих социальные услуги от общего числа получателей социальных услуг, находящихся на социальном обслуживании в организации | I29: Процент | J29: =Part1_1!K12/40*100 -> 25 | K29: =J29 -> 25 | L29: =J29 -> 25 | M29: 5
A30: 280000000120003330522045001501500001001100101 | B30: Предоставление социального обслуживания в стационарной форме | C30: Предоставление социально- трудовых услуг | D30: Гражданин при наличии ребенка или детей (в том числе находящихся под опекой, попечительством), испытывающих трудности в социальной адаптации | F30: Очно | H30: Количество нарушений санитарного законодательства в отчетном году, выявленных при проведении проверок | I30: Процент | J30: 0 | K30: 0 | L30: 0 | M30: 5
A31: 280000000120003330522045001501500001001100101 | B31: Предоставление социального обслуживания в стационарной форме | C31: Предоставление социально- трудовых услуг | D31: Гражданин при наличии ребенка или детей (в том числе находящихся под опекой, попечительством), испытывающих трудности в социальной адаптации | F31: Очно | H31: Удовлетворенность получателей социальных услуг в оказанных социальных услугах | I31: Процент | J31: 100 | K31: 100 | L31: 100 | M31: 5
A32: 280000000120003330522045001501500001001100101 | B32: Предоставление социального обслуживания в стационарной форме | C32: Предоставление социально- трудовых услуг | D32: Гражданин при наличии ребенка или детей (в том числе находящихся под опекой, попечительством), испытывающих трудности в социальной адаптации | F32: Очно | H32: Укомплектование организации специалистами, оказывающими социальные услуги | I32: Процент | J32: 100 | K32: 100 | L32: 100 | M32: 5
A33: 280000000120003330522045001501500001001100101 | B33: Предоставление социального обслуживания в стационарной форме | C33: Предоставление социально- трудовых услуг | D33: Гражданин при наличии ребенка или детей (в том числе находящихся под опекой, попечительством), испытывающих трудности в социальной адаптации | F33: Очно | H33: Повышение качества социальных услуг и эффективности их оказания (определяется исходя из мероприятий, направленных на совершенствование деятельности организации при предоставлении социального обслуживания) | I33: Процент | J33: 100 | K33: 100 | L33: 100 | M33: 5
A34: 280000000120003330522045001501500001001100101 | B34: Предоставление социального обслуживания в стационарной форме | C34: Предоставление социально- трудовых услуг | D34: Гражданин при наличии ребенка или детей (в том числе находящихся под опекой, попечительством), испытывающих трудности в социальной адаптации | F34: Очно | H34: Доступность получения социальных услуг в организации (возможность сопровождения получателя социальных услуг при передвижении по территории учреждения социального обслуживания, а также при пользовании услугами; возможность для самостоятельного передвижения по территории учреждения социального обслуживания, входа, выхода и перемещения внутри такой организации (в том числе для передвижения в креслах-колясках), для отдыха в сидячем положении, а также доступное размещение оборудования и носителей информации; дублирование текстовых сообщений голосовыми сообщениями, оснащение учреждения социального обслуживания знаками, выполненными рельефно-точечным шрифтом Брайля, ознакомление с их помощью с надписями, знаками и иной текстовой и графической информацией на территории учреждения; дублирование голосовой информации текстовой информацией, надписями и (или) световыми сигналами, информирование о предоставляемых социальных услугах с использованием русского жестового языка (сурдоперевода); оказание иных видов посторонней помощи | I34: Процент | J34: 0 | K34: 0 | L34: 0 | M34: 5
A35: 280000000120003330522045001601500001000100101 | B35: Предоставление социального обслуживания в стационарной форме | C35: Предоставление социально- правовых услуг | D35: Гражданин при наличии ребенка или детей (в том числе находящихся под опекой, попечительством), испытывающих трудности в социальной адаптации | F35: Очно | H35: Доля получателей социальных услуг, получающих социальные услуги от общего числа получателей социальных услуг, находящихся на социальном обслуживании в организации | I35: Процент | J35: =Part1_1!K13/40*100 -> 25 | K35: =J35 -> 25 | L35: =J35 -> 25 | M35: 5
A36: 280000000120003330522045001601500001000100101 | B36: Предоставление социального обслуживания в стационарной форме | C36: Предоставление социально- правовых услуг | D36: Гражданин при наличии ребенка или детей (в том числе находящихся под опекой, попечительством), испытывающих трудности в социальной адаптации | F36: Очно | H36: Количество нарушений санитарного законодательства в отчетном году, выявленных при проведении проверок | I36: Процент | J36: 0 | K36: 0 | L36: 0 | M36: 5
A37: 280000000120003330522045001601500001000100101 | B37: Предоставление социального обслуживания в стационарной форме | C37: Предоставление социально- правовых услуг | D37: Гражданин при наличии ребенка или детей (в том числе находящихся под опекой, попечительством), испытывающих трудности в социальной адаптации | F37: Очно | H37: Удовлетворенность получателей социальных услуг в оказанных социальных услугах | I37: Процент | J37: 100 | K37: 100 | L37: 100 | M37: 5
A38: 280000000120003330522045001601500001000100101 | B38: Предоставление социального обслуживания в стационарной форме | C38: Предоставление социально- правовых услуг | D38: Гражданин при наличии ребенка или детей (в том числе находящихся под опекой, попечительством), испытывающих трудности в социальной адаптации | F38: Очно | H38: Укомплектование организации специалистами, оказывающими социальные услуги | I38: Процент | J38: 100 | K38: 100 | L38: 100 | M38: 5
A39: 280000000120003330522045001601500001000100101 | B39: Предоставление социального обслуживания в стационарной форме | C39: Предоставление социально- правовых услуг | D39: Гражданин при наличии ребенка или детей (в том числе находящихся под опекой, попечительством), испытывающих трудности в социальной адаптации | F39: Очно | H39: Повышение качества социальных услуг и эффективности их оказания (определяется исходя из мероприятий, направленных на совершенствование деятельности организации при предоставлении социального обслуживания) | I39: Процент | J39: 100 | K39: 100 | L39: 100 | M39: 5
A40: 280000000120003330522045001601500001000100101 | B40: Предоставление социального обслуживания в стационарной форме | C40: Предоставление социально- правовых услуг | D40: Гражданин при наличии ребенка или детей (в том числе находящихся под опекой, попечительством), испытывающих трудности в социальной адаптации | F40: Очно | H40: Доступность получения социальных услуг в организации (возможность сопровождения получателя социальных услуг при передвижении по территории учреждения социального обслуживания, а также при пользовании услугами; возможность для самостоятельного передвижения по территории учреждения социального обслуживания, входа, выхода и перемещения внутри такой организации (в том числе для передвижения в креслах-колясках), для отдыха в сидячем положении, а также доступное размещение оборудования и носителей информации; дублирование текстовых сообщений голосовыми сообщениями, оснащение учреждения социального обслуживания знаками, выполненными рельефно-точечным шрифтом Брайля, ознакомление с их помощью с надписями, знаками и иной текстовой и графической информацией на территории учреждения; дублирование голосовой информации текстовой информацией, надписями и (или) световыми сигналами, информирование о предоставляемых социальных услугах с использованием русского жестового языка (сурдоперевода); оказание иных видов посторонней помощи | I40: Процент | J40: 0 | K40: 0 | L40: 0 | M40: 5
A41: 280000000120003330522045001101200001002100101 | B41: Предоставление социального обслуживания в стационарной форме | C41: Предоставление социально-бытовых услуг | D41: Гражданин при отсутствии возможности обеспечения ухода (в том числе временного) за инвалидом, ребенком, детьми, а также отсутствие попечения над ними | F41: Очно | H41: Доля получателей социальных услуг, получающих социальные услуги от общего числа получателей социальных услуг, находящихся на социальном обслуживании в организации | I41: Процент | J41: =Part1_1!K14/40*100 -> 12.5 | K41: =J41 -> 12.5 | L41: =J41 -> 12.5 | M41: 5
...

Sheet Part2
A2: Часть II. Финансовое обеспечение выполнения государственного задания
A3: № п/п | B3: Наименование параметра расчёта объёма субсидии | C3: Единица измерения | D3: Значение параметров расчёта объёма субсидии | G3: Формула расчета параметра
D4: очередной финансовый (N+1) год | E4: первый (N+2) год планового периода | F4: второй (N+3) год планового периода
A5: 1 | B5: 2 | C5: 3 | D5: 4 | E5: 5 | F5: 6 | G5: 7
A6: 1 | B6: Затраты на оказание услуг (выполнение работ), всего | C6: руб. | D6: =D9+D20+D31+D42+D53+D64+D75+D86+D97+D108+D119+D130+D141+D152+D163+D174+D185+D196+D207+D218+D229+D240+D251+D262+D273+D284+D295+D306+D317+D328+D339 -> 9803614.5 | E6: =E9+E20+E31+E42+E53+E64+E75+E86+E97+E108+E119+E130+E141+E152+E163+E174+E185+E196+E207+E218+E229+E240+E251+E262+E273+E284+E295+E306+E317+E328 -> 7983593.6 | F6: =F9+F20+F31+F42+F53+F64+F75+F86+F97+F108+F119+F130+F141+F152+F163+F174+F185+F196+F207+F218+F229+F240+F251+F262+F273+F284+F295+F306+F317+F328 -> 7983593.6 | G6: 1 = 1.3 + 2.3 + 3.3 + 4.3+5.3+6.3+7.3+8.3 +9.3+10.3+11.3+12.3 +13.3+14.3+15.3+ 16.3+17.3+18.3+19.3+20.3+21.3+22.3+ 23.3+24.3+25.3+26.3+27.3+28.3+29.3+ 30.3
A7: 1.1 | B7: =Part1_1!A8 -> 280000000120003330522045001101500001005100101
A8: 1.2 | B8: Предоставление социального обслуживания в стационарной форме
A9: 1.3. | B9: Затраты на оказание услуги (выполнение работы) | C9: руб. | D9: =D10*D15-D16*D17 -> 714643.9 | E9: =D9 -> 714643.9 | F9: =D9 -> 714643.9 | G9: 1.3 = 1.3.1 x 1.3.2 - 1.3.4 x 1.3.3
A10: 1.3.1 | B10: Нормативные затраты на оказание единицы услуги (выполнение работы) | C10: руб. | D10: =ROUND((D11*(D12/100*D13/100*D14/100)),2) -> 71464.39 | E10: =ROUND((E11*(E12/100*E13/100*E14/100)),2) -> 71464.39 | F10: =ROUND((F11*(F12/100*F13/100*F14/100)),2) -> 71464.39 | G10: 1.3.1 = 1.3.1.1 x 1.3.1.2 x 1.3.1.3 x 1.3.1.4
A11: 1.3.1.1 | B11: Базовый норматив затрат на оказание услуги (выполнение работы) | C11: руб. | D11: 92323.62 | E11: =D11 -> 92323.62 | F11: =D11 -> 92323.62
A12: 1.3.1.2 | B12: Отраслевой корректирующий коэффициент | C12: % | D12: 100 | E12: =D12 -> 100 | F12: =D12 -> 100
A13: 1.3.1.3 | B13: Территориальный корректирующий коэффициент | C13: % | D13: 140.43515 | E13: =D13 -> 140.43515 | F13: =D13 -> 140.43515
A14: 1.3.1.4 | B14: Прочий корректирующий коэффициент | C14: % | D14: 55.118964 | E14: =D14 -> 55.118964 | F14: =D14 -> 55.118964
A15: 1.3.2 | B15: Объем государственной услуги (работы), оказываемой в пределах государственного задания | C15: Человек | D15: =Part1_1!K8 -> 10 | E15: =D15 -> 10 | F15: =D15 -> 10
A16: 1.3.3 | B16: Среднегодовой размер платы за оказание государственной услуги, оказываемой за плату в рамках государственного задания | C16: руб. | D16: 0 | E16: =D16 -> 0 | F16: =E16 -> 0
A17: 1.3.4 | B17: Объем государственной услуги, оказываемой за плату в рамках государственного задания | C17: Человек | D17: =Part1_1!L8 -> 0 | E17: =D17 -> 0 | F17: =D17 -> 0
A18: 2.1 | B18: =Part1_1!A9 -> 280000000120003330522045001201500001004100101
A19: 2.2 | B19: Предоставление социального обслуживания в стационарной форме
A20: 2.3. | B20: Затраты на оказание услуги (выполнение работы) | C20: руб. | D20: =D21*D26-D27*D28 -> 201121.2 | E20: =D20 -> 201121.2 | F20: =D20 -> 201121.2 | G20: 2.3 = 2.3.1 x 2.3.2 - 2.3.4 x 2.3.3
A21: 2.3.1 | B21: Нормативные затраты на оказание единицы услуги (выполнение работы) | C21: руб. | D21: =ROUND((D22*(D23/100*D24/100*D25/100)),2) -> 20112.12 | E21: =ROUND((E22*(E23/100*E24/100*E25/100)),2) -> 20112.12 | F21: =ROUND((F22*(F23/100*F24/100*F25/100)),2) -> 20112.12 | G21: 2.3.1 = 2.3.1.1 x 2.3.1.2 x 2.3.1.3 x 2.3.1.4
A22: 2.3.1.1 | B22: Базовый норматив затрат на оказание услуги (выполнение работы) | C22: руб. | D22: 60339.25 | E22: =D22 -> 60339.25 | F22: =E22 -> 60339.25
A23: 2.3.1.2 | B23: Отраслевой корректирующий коэффициент | C23: % | D23: 100 | E23: =D23 -> 100 | F23: =D23 -> 100
A24: 2.3.1.3 | B24: Территориальный корректирующий коэффициент | C24: % | D24: 36.344819 | E24: =D24 -> 36.344819 | F24: =D24 -> 36.344819
A25: 2.3.1.4 | B25: Прочий корректирующий коэффициент | C25: % | D25: 91.709733 | E25: =D25 -> 91.709733 | F25: =D25 -> 91.709733
A26: 2.3.2 | B26: Объем государственной услуги (работы), оказываемой в пределах государственного задания | C26: Человек | D26: =Part1_1!K9 -> 10 | E26: =D26 -> 10 | F26: =D26 -> 10
A27: 2.3.3 | B27: Среднегодовой размер платы за оказание государственной услуги, оказываемой за плату в рамках государственного задания | C27: руб. | D27: 0 | E27: =D27 -> 0 | F27: =D27 -> 0
A28: 2.3.4 | B28: Объем государственной услуги, оказываемой за плату в рамках государственного задания | C28: Человек | D28: =Part1_1!L9 -> 0 | E28: =D28 -> 0 | F28: =D28 -> 0
A29: 3.1 | B29: =Part1_1!A10 -> 280000000120003330522045001301500001003100101
A30: 3.2 | B30: Предоставление социального обслуживания в стационарной форме
A31: 3.3. | B31: Затраты на оказание услуги (выполнение работы) | C31: руб. | D31: =D32*D37-D38*D39 -> 109503.8 | E31: =D31 -> 109503.8 | F31: =D31 -> 109503.8 | G31: 3.3 = 3.3.1 x 3.3.2 - 3.3.4 x 3.3.3
A32: 3.3.1 | B32: Нормативные затраты на оказание единицы услуги (выполнение работы) | C32: руб. | D32: =ROUND((D33*(D34/100*D35/100*D36/100)),2) -> 10950.38 | E32: =ROUND((E33*(E34/100*E35/100*E36/100)),2) -> 10950.38 | F32: =ROUND((F33*(F34/100*F35/100*F36/100)),2) -> 10950.38 | G32: 3.3.1 = 3.3.1.1 x 3.3.1.2 x 3.3.1.3 x 3.3.1.4
A33: 3.3.1.1 | B33: Базовый норматив затрат на оказание услуги (выполнение работы) | C33: руб. | D33: 4321.67 | E33: =D33 -> 4321.67 | F33: =D33 -> 4321.67
A34: 3.3.1.2 | B34: Отраслевой корректирующий коэффициент | C34: % | D34: 100 | E34: =D34 -> 100 | F34: =D34 -> 100
A35: 3.3.1.3 | B35: Территориальный корректирующий коэффициент | C35: % | D35: 259.86919 | E35: =D35 -> 259.86919 | F35: =D35 -> 259.86919
A36: 3.3.1.4 | B36: Прочий корректирующий коэффициент | C36: % | D36: 97.504083 | E36: =D36 -> 97.504083 | F36: =D36 -> 97.504083
A37: 3.3.2 | B37: Объем государственной услуги (работы), оказываемой в пределах государственного задания | C37: Человек | D37: =Part1_1!K10 -> 10 | E37: =D37 -> 10 | F37: =D37 -> 10
A38: 3.3.3 | B38: Среднегодовой размер платы за оказание государственной услуги, оказываемой за плату в рамках государственного задания | C38: руб. | D38: 0 | E38: =D38 -> 0 | F38: =D38 -> 0
A39: 3.3.4 | B39: Объем государственной услуги, оказываемой за плату в рамках государственного задания | C39: Человек | D39: =Part1_1!L10 -> 0 | E39: =D39 -> 0 | F39: =D39 -> 0
A40: 4.1 | B40: =Part1_1!A11 -> 280000000120003330522045001401500001002100101
A41: 4.2 | B41: Предоставление социального обслуживания в стационарной форме
...

Sheet Part3
A2: Часть III. Порядок осуществления контроля за выполнением государственного задания
A4: 1. Периодичность и вид контроля за выполнением государственного задания:
A5: № п/п | B5: Вид контрольного мероприятия | C5: Периодичность проведения контроля
A6: 1 | B6: Выездная проверка | C6: Не реже 1 раза в 3 года
A7: 2 | B7: Камеральная проверка | C7: Ежеквартально
A9: 2. Иные требования к отчетности об исполнении государственного задания:
A10: 1 | B10: - предоставление пояснительной записки к отчету об исполнении государственного задания;
A11: 2 | B11: - представление информации о состоянии кредиторской задолженности, в том числе просроченной.
A13: 3. Иная информация, необходимая для исполнения государственного задания (контроля за исполнением государственного задания):
A14: 1 | B14: по мере необходимости может быть запрошена необходимая для контроля информация.
A16: Часть IV. Условия и порядок досрочного прекращения исполнения государственного задания
A18: № п/п | B18: Условия досрочного прекращения исполнения государственного задания | C18: Порядок досрочного прекращения исполнения государственного задания
A19: 1 | B19: ликвидация поставщика государственных услуг;
A20: 2 | B20: реорганизация поставщика государственных услуг;
A21: 3 | B21: иные основания, предусмотренные нормативными правовыми актами Российской Федерации и Тверской области
